BEGIN:VCALENDAR
VERSION:2.0
PRODID:-//The Logon Cafe and Pub - ECPv6.15.20//NONSGML v1.0//EN
CALSCALE:GREGORIAN
METHOD:PUBLISH
X-WR-CALNAME:The Logon Cafe and Pub
X-ORIGINAL-URL:https://logoncafe.net
X-WR-CALDESC:Events for The Logon Cafe and Pub
REFRESH-INTERVAL;VALUE=DURATION:PT1H
X-Robots-Tag:noindex
X-PUBLISHED-TTL:PT1H
BEGIN:VTIMEZONE
TZID:America/Chicago
BEGIN:DAYLIGHT
TZOFFSETFROM:-0600
TZOFFSETTO:-0500
TZNAME:CDT
DTSTART:20190310T080000
END:DAYLIGHT
BEGIN:STANDARD
TZOFFSETFROM:-0500
TZOFFSETTO:-0600
TZNAME:CST
DTSTART:20191103T070000
END:STANDARD
BEGIN:DAYLIGHT
TZOFFSETFROM:-0600
TZOFFSETTO:-0500
TZNAME:CDT
DTSTART:20200308T080000
END:DAYLIGHT
BEGIN:STANDARD
TZOFFSETFROM:-0500
TZOFFSETTO:-0600
TZNAME:CST
DTSTART:20201101T070000
END:STANDARD
BEGIN:DAYLIGHT
TZOFFSETFROM:-0600
TZOFFSETTO:-0500
TZNAME:CDT
DTSTART:20210314T080000
END:DAYLIGHT
BEGIN:STANDARD
TZOFFSETFROM:-0500
TZOFFSETTO:-0600
TZNAME:CST
DTSTART:20211107T070000
END:STANDARD
END:VTIMEZONE
BEGIN:VEVENT
DTSTART;TZID=America/Chicago:20201118T200000
DTEND;TZID=America/Chicago:20201118T230000
DTSTAMP:20260424T152233
CREATED:20260424T021720Z
LAST-MODIFIED:20260424T021720Z
UID:10012733-1605729600-1605740400@logoncafe.net
SUMMARY:Open Mic Night
DESCRIPTION:Come one and all to transform our stage into your own personal music venue! Even if you just know someone that likes to play and sing\, get them to come out and buy em a beer! \nWe’ve been hosting Open Mic every Wednesday since 1999\, so come in and join in the tradition. \nSign up is at 7:30 | No Cover \n\n 
URL:https://logoncafe.net/event/open-mic-night-21/
LOCATION:The Logon Cafe & Pub\, 3805 Calder Avenue\, Beaumont\, TX\, 77706\, United States
CATEGORIES:Open Mic Night
ATTACH;FMTTYPE=image/jpeg:https://logoncafe.net/wp-content/uploads/2022/11/313067660_604791594876249_2466134981987312388_n.jpg
END:VEVENT
BEGIN:VEVENT
DTSTART;TZID=America/Chicago:20201117T200000
DTEND;TZID=America/Chicago:20201117T230000
DTSTAMP:20260424T152233
CREATED:20260424T021716Z
LAST-MODIFIED:20260424T021716Z
UID:10012749-1605643200-1605654000@logoncafe.net
SUMMARY:Taco Tuesday Karaoke!
DESCRIPTION:What goes better together than tacos and booze?!! Specials start at 6. Karaoke starts at 8!\n$2 Street Tacos\n$2 Ritas\n$2 Well Vodka \nSing your butts off.\nWatch your friends act like they can sing 😉\nNo cover wooooo.\nThis is an all ages event.
URL:https://logoncafe.net/event/taco-tuesday-karaoke-22/
LOCATION:The Logon Cafe & Pub\, 3805 Calder Avenue\, Beaumont\, TX\, 77706\, United States
ATTACH;FMTTYPE=image/jpeg:https://logoncafe.net/wp-content/uploads/2018/10/339927740_756585839328526_6857413985854363341_n-e1681230563968.jpg
END:VEVENT
END:VCALENDAR