BEGIN:VCALENDAR
VERSION:2.0
PRODID:-//The Logon Cafe and Pub - ECPv6.15.20//NONSGML v1.0//EN
CALSCALE:GREGORIAN
METHOD:PUBLISH
X-WR-CALNAME:The Logon Cafe and Pub
X-ORIGINAL-URL:https://logoncafe.net
X-WR-CALDESC:Events for The Logon Cafe and Pub
REFRESH-INTERVAL;VALUE=DURATION:PT1H
X-Robots-Tag:noindex
X-PUBLISHED-TTL:PT1H
BEGIN:VTIMEZONE
TZID:America/Chicago
BEGIN:DAYLIGHT
TZOFFSETFROM:-0600
TZOFFSETTO:-0500
TZNAME:CDT
DTSTART:20200308T080000
END:DAYLIGHT
BEGIN:STANDARD
TZOFFSETFROM:-0500
TZOFFSETTO:-0600
TZNAME:CST
DTSTART:20201101T070000
END:STANDARD
BEGIN:DAYLIGHT
TZOFFSETFROM:-0600
TZOFFSETTO:-0500
TZNAME:CDT
DTSTART:20210314T080000
END:DAYLIGHT
BEGIN:STANDARD
TZOFFSETFROM:-0500
TZOFFSETTO:-0600
TZNAME:CST
DTSTART:20211107T070000
END:STANDARD
BEGIN:DAYLIGHT
TZOFFSETFROM:-0600
TZOFFSETTO:-0500
TZNAME:CDT
DTSTART:20220313T080000
END:DAYLIGHT
BEGIN:STANDARD
TZOFFSETFROM:-0500
TZOFFSETTO:-0600
TZNAME:CST
DTSTART:20221106T070000
END:STANDARD
BEGIN:DAYLIGHT
TZOFFSETFROM:-0600
TZOFFSETTO:-0500
TZNAME:CDT
DTSTART:20230312T080000
END:DAYLIGHT
BEGIN:STANDARD
TZOFFSETFROM:-0500
TZOFFSETTO:-0600
TZNAME:CST
DTSTART:20231105T070000
END:STANDARD
END:VTIMEZONE
BEGIN:VEVENT
DTSTART;TZID=America/Chicago:20220115T200000
DTEND;TZID=America/Chicago:20220115T235900
DTSTAMP:20260420T181047
CREATED:20210530T165317Z
LAST-MODIFIED:20220111T172100Z
UID:10000623-1642276800-1642291140@logoncafe.net
SUMMARY:Saturday Karaoke PARTY @ The Logoncafe & Pub
DESCRIPTION:Awww yeah…. KARAOKE ON A SATURDAY!!!!!\nGet here.\nSing your butts off.\nWatch your friends act like they can sing 😉\nNo cover wooooo.
URL:https://logoncafe.net/event/saturday-karaoke-party-thelogon-2-3-2-2-2/
LOCATION:The Logon Cafe & Pub\, 3805 Calder Avenue\, Beaumont\, TX\, 77706\, United States
ATTACH;FMTTYPE=image/jpeg:https://logoncafe.net/wp-content/uploads/2021/05/180478552_10158974899358567_2371589748890907789_n.jpg
END:VEVENT
BEGIN:VEVENT
DTSTART;TZID=America/Chicago:20220114T200000
DTEND;TZID=America/Chicago:20220114T235900
DTSTAMP:20260420T181048
CREATED:20211116T202919Z
LAST-MODIFIED:20220103T165442Z
UID:10001316-1642190400-1642204740@logoncafe.net
SUMMARY:The Mud Flats
DESCRIPTION:The Mud Flats\nMudd Flats is an Americana band in the southeast Texas arena. We play a mix of music that we call Gu\nhttps://www.facebook.com/100057169131517/videos/1990744041177369
URL:https://logoncafe.net/event/the-mud-flats-2/
LOCATION:The Logon Cafe & Pub\, 3805 Calder Avenue\, Beaumont\, TX\, 77706\, United States
ATTACH;FMTTYPE=image/jpeg:https://logoncafe.net/wp-content/uploads/2021/11/162043817_216641860251450_2981629016861356339_n-e1637094424971.jpg
END:VEVENT
BEGIN:VEVENT
DTSTART;TZID=America/Chicago:20220112T200000
DTEND;TZID=America/Chicago:20220112T230000
DTSTAMP:20260420T181048
CREATED:20251030T155404Z
LAST-MODIFIED:20251030T155404Z
UID:10004287-1642017600-1642028400@logoncafe.net
SUMMARY:Open Mic Night
DESCRIPTION:Come one and all to transform our stage into your own personal music venue! Even if you just know someone that likes to play and sing\, get them to come out and buy em a beer! \nWe’ve been hosting Open Mic every Wednesday since 1999\, so come in and join in the tradition. \nSign up is at 7:30 | No Cover \n\n 
URL:https://logoncafe.net/event/open-mic-night-51/2022-01-12/
LOCATION:The Logon Cafe & Pub\, 3805 Calder Avenue\, Beaumont\, TX\, 77706\, United States
CATEGORIES:Open Mic Night
ATTACH;FMTTYPE=image/jpeg:https://logoncafe.net/wp-content/uploads/2022/11/313067660_604791594876249_2466134981987312388_n.jpg
END:VEVENT
BEGIN:VEVENT
DTSTART;TZID=America/Chicago:20220112T200000
DTEND;TZID=America/Chicago:20220112T230000
DTSTAMP:20260420T181048
CREATED:20250303T233810Z
LAST-MODIFIED:20250303T233810Z
UID:10008072-1642017600-1642028400@logoncafe.net
SUMMARY:Open Mic Night
DESCRIPTION:Come one and all to transform our stage into your own personal music venue! Even if you just know someone that likes to play and sing\, get them to come out and buy em a beer! \nWe’ve been hosting Open Mic every Wednesday since 1999\, so come in and join in the tradition. \nSign up is at 7:30 | No Cover \n\n 
URL:https://logoncafe.net/event/open-mic-night-28/2022-01-12/
LOCATION:The Logon Cafe & Pub\, 3805 Calder Avenue\, Beaumont\, TX\, 77706\, United States
CATEGORIES:Open Mic Night
ATTACH;FMTTYPE=image/jpeg:https://logoncafe.net/wp-content/uploads/2022/11/313067660_604791594876249_2466134981987312388_n.jpg
END:VEVENT
BEGIN:VEVENT
DTSTART;TZID=America/Chicago:20220111T200000
DTEND;TZID=America/Chicago:20220111T230000
DTSTAMP:20260420T181048
CREATED:20250407T004038Z
LAST-MODIFIED:20250407T004038Z
UID:10009312-1641931200-1641942000@logoncafe.net
SUMMARY:Taco Tuesday Karaoke!
DESCRIPTION:What goes better together than tacos and booze?!! Specials start at 6. Karaoke starts at 8!$2 Street Tacos$2 Ritas$2 Well Vodka \nSing your butts off.Watch your friends act like they can sing 😉No cover wooooo.This is an all ages event.
URL:https://logoncafe.net/event/taco-tuesday-karaoke-18/2022-01-11/
LOCATION:The Logon Cafe & Pub\, 3805 Calder Avenue\, Beaumont\, TX\, 77706\, United States
ATTACH;FMTTYPE=image/jpeg:https://logoncafe.net/wp-content/uploads/2018/10/339927740_756585839328526_6857413985854363341_n-e1681230563968.jpg
END:VEVENT
BEGIN:VEVENT
DTSTART;TZID=America/Chicago:20220111T200000
DTEND;TZID=America/Chicago:20220111T230000
DTSTAMP:20260420T181048
CREATED:20240411T141711Z
LAST-MODIFIED:20240411T141712Z
UID:10012642-1641931200-1641942000@logoncafe.net
SUMMARY:Taco Tuesday Karaoke!
DESCRIPTION:What goes better together than tacos and booze?!! Specials start at 6. Karaoke starts at 8!\n$2 Street Tacos\n$2 Ritas\n$2 Well Vodka \nSing your butts off.\nWatch your friends act like they can sing 😉\nNo cover wooooo.\nThis is an all ages event.
URL:https://logoncafe.net/event/taco-tuesday-karaoke-3/2022-01-11/
LOCATION:The Logon Cafe & Pub\, 3805 Calder Avenue\, Beaumont\, TX\, 77706\, United States
ATTACH;FMTTYPE=image/jpeg:https://logoncafe.net/wp-content/uploads/2018/10/339927740_756585839328526_6857413985854363341_n-e1681230563968.jpg
END:VEVENT
BEGIN:VEVENT
DTSTART;TZID=America/Chicago:20220111T200000
DTEND;TZID=America/Chicago:20220111T230000
DTSTAMP:20260420T181048
CREATED:20181030T231335Z
LAST-MODIFIED:20230411T163019Z
UID:10000225-1641931200-1641942000@logoncafe.net
SUMMARY:Taco Tuesday Karaoke!
DESCRIPTION:What goes better together than tacos and booze?!! Specials start at 6. Karaoke starts at 8!\n$2 Street Tacos\n$2 Ritas\n$2 Well Vodka \nSing your butts off.\nWatch your friends act like they can sing 😉\nNo cover wooooo.\nThis is an all ages event.
URL:https://logoncafe.net/event/taco-tuesday-karaoke/2022-01-11/
LOCATION:The Logon Cafe & Pub\, 3805 Calder Avenue\, Beaumont\, TX\, 77706\, United States
ATTACH;FMTTYPE=image/jpeg:https://logoncafe.net/wp-content/uploads/2018/10/339927740_756585839328526_6857413985854363341_n-e1681230563968.jpg
END:VEVENT
BEGIN:VEVENT
DTSTART;TZID=America/Chicago:20220110T200000
DTEND;TZID=America/Chicago:20220110T220000
DTSTAMP:20260420T181048
CREATED:20181202T170325Z
LAST-MODIFIED:20190507T221040Z
UID:10000657-1641844800-1641852000@logoncafe.net
SUMMARY:Night & Day Orchestra
DESCRIPTION:Have you ever been to Orchestra Night at The LogOn Cafe with The Night & Day Orchestra? We fit a 21-piece big band with horns\, drum and swanky singers. There’s NOTHING in Beaumont like it. This is something you must experience at least once. Tickets are $10 at the door or free with your Lamar ID.
URL:https://logoncafe.net/event/night-day-orchestra/2022-01-10/
LOCATION:3805 Calder Avenue\, Beaumont\, TX\, 77706\, United States
ATTACH;FMTTYPE=image/jpeg:https://logoncafe.net/wp-content/uploads/2018/10/Day-Night-Orchestra.jpg
END:VEVENT
BEGIN:VEVENT
DTSTART;TZID=America/Chicago:20220108T200000
DTEND;TZID=America/Chicago:20220108T235900
DTSTAMP:20260420T181048
CREATED:20211110T224804Z
LAST-MODIFIED:20220103T165245Z
UID:10001315-1641672000-1641686340@logoncafe.net
SUMMARY:Blaggards
DESCRIPTION:Blaggards \nHome \n\nBlaggards (no “the”\, pronounced BLA’ GUARDS or BLA’ GHERDS\, depending on where you’re from) formed July 2004 in Houston\, Texas. \nWe play what we call Stout Irish Rock\, traditional Irish music mixed with rock n’ roll\, informed by everything from Johnny Cash and Elvis Presley to Thin Lizzy and Black Sabbath. We are most frequently compared to bands like Flogging Molly\, Dropkick Murphys\, and the Pogues. \nBlaggards are guitarist/vocalist Patrick Devlin\, bassist/vocalist Chad Smalley\, and drummer Eric C. Hughes. \nFront man Patrick Devlin grew up in Dublin\, Ireland\, and moved to Houston in his early 20′s. After working in the local club scene for several years\, Patrick saw a demand for Irish rock music that nobody was taking advantage of. In 1996\, to this end he formed a band called On The Dole. Although the band did well\, opening for legendary Irish touring acts like the Wolfe Tones and the Saw Doctors\, eventually Patrick decided it was time to clear the decks and start again. \nIn 2003\, while hosting a weekly open mic at an Irish pub\, Patrick met bassist and singer Chad Smalley\, a veteran of the Houston music scene who had recently returned from New York and was looking for a new project. The two of them soon began singing and performing together every week\, developing a tight vocal harmony style. A year later\, Blaggards was born. \nDrummer Eric C. Hughes sat in with Blaggards several times before officially joining the band in January 2020. Eric has been a drummer since he was 10\, and has made his life about music and performing. His resume reads like a “who’s who” of the Texas music scene: Allen Hill\, David Beebe\, The Derailers\, Jesse Dayton\, Mike Stinson\, Archie Bell\, members of Fastball\, et al. Eric is also the Drum Set Committee Chairman for the Percussive Arts Society. \nBlaggards maintain a rigorous schedule\, playing constantly throughout Texas and touring nationally several times a year. We’ve also toured Ireland every year since 2010. \nOur music has appeared in movies and TV. An original instrumental entitled “Kerfuffleful” appears in the New Line Cinema motion picture How to Be Single\, released February 2016.
URL:https://logoncafe.net/event/blaggards-2/
LOCATION:The Logon Cafe & Pub\, 3805 Calder Avenue\, Beaumont\, TX\, 77706\, United States
ATTACH;FMTTYPE=image/jpeg:https://logoncafe.net/wp-content/uploads/2021/11/218990277_10158099793682409_5667691670200140582_n-e1636584377176.jpg
END:VEVENT
BEGIN:VEVENT
DTSTART;TZID=America/Chicago:20220105T200000
DTEND;TZID=America/Chicago:20220105T230000
DTSTAMP:20260420T181048
CREATED:20251030T155404Z
LAST-MODIFIED:20251030T155404Z
UID:10004286-1641412800-1641423600@logoncafe.net
SUMMARY:Open Mic Night
DESCRIPTION:Come one and all to transform our stage into your own personal music venue! Even if you just know someone that likes to play and sing\, get them to come out and buy em a beer! \nWe’ve been hosting Open Mic every Wednesday since 1999\, so come in and join in the tradition. \nSign up is at 7:30 | No Cover \n\n 
URL:https://logoncafe.net/event/open-mic-night-51/2022-01-05/
LOCATION:The Logon Cafe & Pub\, 3805 Calder Avenue\, Beaumont\, TX\, 77706\, United States
CATEGORIES:Open Mic Night
ATTACH;FMTTYPE=image/jpeg:https://logoncafe.net/wp-content/uploads/2022/11/313067660_604791594876249_2466134981987312388_n.jpg
END:VEVENT
BEGIN:VEVENT
DTSTART;TZID=America/Chicago:20220105T200000
DTEND;TZID=America/Chicago:20220105T230000
DTSTAMP:20260420T181048
CREATED:20250303T233810Z
LAST-MODIFIED:20250303T233810Z
UID:10008071-1641412800-1641423600@logoncafe.net
SUMMARY:Open Mic Night
DESCRIPTION:Come one and all to transform our stage into your own personal music venue! Even if you just know someone that likes to play and sing\, get them to come out and buy em a beer! \nWe’ve been hosting Open Mic every Wednesday since 1999\, so come in and join in the tradition. \nSign up is at 7:30 | No Cover \n\n 
URL:https://logoncafe.net/event/open-mic-night-28/2022-01-05/
LOCATION:The Logon Cafe & Pub\, 3805 Calder Avenue\, Beaumont\, TX\, 77706\, United States
CATEGORIES:Open Mic Night
ATTACH;FMTTYPE=image/jpeg:https://logoncafe.net/wp-content/uploads/2022/11/313067660_604791594876249_2466134981987312388_n.jpg
END:VEVENT
BEGIN:VEVENT
DTSTART;TZID=America/Chicago:20220104T200000
DTEND;TZID=America/Chicago:20220104T230000
DTSTAMP:20260420T181048
CREATED:20250407T004038Z
LAST-MODIFIED:20250407T004038Z
UID:10009311-1641326400-1641337200@logoncafe.net
SUMMARY:Taco Tuesday Karaoke!
DESCRIPTION:What goes better together than tacos and booze?!! Specials start at 6. Karaoke starts at 8!$2 Street Tacos$2 Ritas$2 Well Vodka \nSing your butts off.Watch your friends act like they can sing 😉No cover wooooo.This is an all ages event.
URL:https://logoncafe.net/event/taco-tuesday-karaoke-18/2022-01-04/
LOCATION:The Logon Cafe & Pub\, 3805 Calder Avenue\, Beaumont\, TX\, 77706\, United States
ATTACH;FMTTYPE=image/jpeg:https://logoncafe.net/wp-content/uploads/2018/10/339927740_756585839328526_6857413985854363341_n-e1681230563968.jpg
END:VEVENT
BEGIN:VEVENT
DTSTART;TZID=America/Chicago:20220104T200000
DTEND;TZID=America/Chicago:20220104T230000
DTSTAMP:20260420T181048
CREATED:20240411T141711Z
LAST-MODIFIED:20240411T141712Z
UID:10012641-1641326400-1641337200@logoncafe.net
SUMMARY:Taco Tuesday Karaoke!
DESCRIPTION:What goes better together than tacos and booze?!! Specials start at 6. Karaoke starts at 8!\n$2 Street Tacos\n$2 Ritas\n$2 Well Vodka \nSing your butts off.\nWatch your friends act like they can sing 😉\nNo cover wooooo.\nThis is an all ages event.
URL:https://logoncafe.net/event/taco-tuesday-karaoke-3/2022-01-04/
LOCATION:The Logon Cafe & Pub\, 3805 Calder Avenue\, Beaumont\, TX\, 77706\, United States
ATTACH;FMTTYPE=image/jpeg:https://logoncafe.net/wp-content/uploads/2018/10/339927740_756585839328526_6857413985854363341_n-e1681230563968.jpg
END:VEVENT
BEGIN:VEVENT
DTSTART;TZID=America/Chicago:20220104T200000
DTEND;TZID=America/Chicago:20220104T230000
DTSTAMP:20260420T181048
CREATED:20181030T231335Z
LAST-MODIFIED:20230411T163019Z
UID:10000224-1641326400-1641337200@logoncafe.net
SUMMARY:Taco Tuesday Karaoke!
DESCRIPTION:What goes better together than tacos and booze?!! Specials start at 6. Karaoke starts at 8!\n$2 Street Tacos\n$2 Ritas\n$2 Well Vodka \nSing your butts off.\nWatch your friends act like they can sing 😉\nNo cover wooooo.\nThis is an all ages event.
URL:https://logoncafe.net/event/taco-tuesday-karaoke/2022-01-04/
LOCATION:The Logon Cafe & Pub\, 3805 Calder Avenue\, Beaumont\, TX\, 77706\, United States
ATTACH;FMTTYPE=image/jpeg:https://logoncafe.net/wp-content/uploads/2018/10/339927740_756585839328526_6857413985854363341_n-e1681230563968.jpg
END:VEVENT
BEGIN:VEVENT
DTSTART;TZID=America/Chicago:20220103T193000
DTEND;TZID=America/Chicago:20220103T213000
DTSTAMP:20260420T181048
CREATED:20200620T010314Z
LAST-MODIFIED:20220103T170710Z
UID:10001314-1641238200-1641245400@logoncafe.net
SUMMARY:Brainstormer Trivia Mondays!
DESCRIPTION:Brainstormer Trivia Mondays! \nCome out for Trivia night at the Logoncafe hope you have fun! \nDo you enjoy Trivia?\nAre you competitive?\nHow about Prizes for the nightly Winners?\nHow about $3.00 Wells for 7pm to 10pm \nTrivia Rules:\nNo yelling out answers\, right or wrong. It disrupts the game and can bother other players. Up to 6 players per team are allowed. There is a 5 point penalty for a team of 7\, and a 10 point penalty for a team of 8. No cell phones\, blackberries or any type of outside sources are allowed. Have fun!
URL:https://logoncafe.net/event/brainstormer-trivia-mondays-2-2/
LOCATION:The Logon Cafe & Pub\, 3805 Calder Avenue\, Beaumont\, TX\, 77706\, United States
ATTACH;FMTTYPE=image/jpeg:https://logoncafe.net/wp-content/uploads/2019/10/trivianight3-1000x563-e1570640148493.jpg
END:VEVENT
BEGIN:VEVENT
DTSTART;TZID=America/Chicago:20220101T200000
DTEND;TZID=America/Chicago:20220101T235900
DTSTAMP:20260420T181048
CREATED:20210322T215451Z
LAST-MODIFIED:20211230T173459Z
UID:10001312-1641067200-1641081540@logoncafe.net
SUMMARY:Daniel Waters Piano Man
DESCRIPTION:The super talented Daniel Waters! Finally – Beaumont gets an AMAZING piano player!!\nhttps://www.facebook.com/john.fears.927/videos/912523286335362
URL:https://logoncafe.net/event/daniel-waters-piano-man-2-2-2-2-2-2-2-2-3/
LOCATION:The Logon Cafe & Pub\, 3805 Calder Avenue\, Beaumont\, TX\, 77706\, United States
ATTACH;FMTTYPE=image/jpeg:https://logoncafe.net/wp-content/uploads/2021/03/dan-waters.jpg
END:VEVENT
BEGIN:VEVENT
DTSTART;TZID=America/Chicago:20211231T200000
DTEND;TZID=America/Chicago:20211231T235900
DTSTAMP:20260420T181048
CREATED:20211214T180711Z
LAST-MODIFIED:20211214T180712Z
UID:10001308-1640980800-1640995140@logoncafe.net
SUMMARY:King Kimura NYE Bash
DESCRIPTION:King Kimura NYE Bash\nThis year The LogonCafe will be wrapping the year up with super fun party band – King Kimura! They’ll be rocking the stage with special guest – Bill Brooks.  \nComplimentary Champagne toast at Midnight!
URL:https://logoncafe.net/event/king-kimura-nye-bash/
LOCATION:The Logon Cafe & Pub\, 3805 Calder Avenue\, Beaumont\, TX\, 77706\, United States
ATTACH;FMTTYPE=image/jpeg:https://logoncafe.net/wp-content/uploads/2021/12/68492456_494853827917096_3274594344778072064_n.jpg
END:VEVENT
BEGIN:VEVENT
DTSTART;TZID=America/Chicago:20211230T200000
DTEND;TZID=America/Chicago:20211230T233000
DTSTAMP:20260420T181048
CREATED:20211208T204258Z
LAST-MODIFIED:20211230T180250Z
UID:10001304-1640894400-1640907000@logoncafe.net
SUMMARY:Live Music at the Logon
DESCRIPTION:
URL:https://logoncafe.net/event/grace-avenue-live-at-the-logon/
LOCATION:The Logon Cafe & Pub\, 3805 Calder Avenue\, Beaumont\, TX\, 77706\, United States
ATTACH;FMTTYPE=image/gif:https://logoncafe.net/wp-content/uploads/2018/12/safe_image.php_.gif
END:VEVENT
BEGIN:VEVENT
DTSTART;TZID=America/Chicago:20211229T200000
DTEND;TZID=America/Chicago:20211229T230000
DTSTAMP:20260420T181048
CREATED:20250303T233810Z
LAST-MODIFIED:20250303T233810Z
UID:10008470-1640808000-1640818800@logoncafe.net
SUMMARY:Open Mic Night
DESCRIPTION:Come one and all to transform our stage into your own personal music venue! Even if you just know someone that likes to play and sing\, get them to come out and buy em a beer! \nWe’ve been hosting Open Mic every Wednesday since 1999\, so come in and join in the tradition. \nSign up is at 7:30 | No Cover \n\n 
URL:https://logoncafe.net/event/open-mic-night-28/2021-12-29/
LOCATION:The Logon Cafe & Pub\, 3805 Calder Avenue\, Beaumont\, TX\, 77706\, United States
CATEGORIES:Open Mic Night
ATTACH;FMTTYPE=image/jpeg:https://logoncafe.net/wp-content/uploads/2022/11/313067660_604791594876249_2466134981987312388_n.jpg
END:VEVENT
BEGIN:VEVENT
DTSTART;TZID=America/Chicago:20211229T200000
DTEND;TZID=America/Chicago:20211229T230000
DTSTAMP:20260420T181048
CREATED:20181031T190032Z
LAST-MODIFIED:20211222T180452Z
UID:10000365-1640808000-1640818800@logoncafe.net
SUMMARY:Mark’s Jam! @thelogon
DESCRIPTION:The last few months Mark Nesmith has been dealing with some health issues. Wanted to do a little something to help him and Elizabeth out a little with expenses . \nhttp://marknesmith.com/ \nMark Nesmith is a modern American painter and musician who lives and works in Southeast Texas. Mark studied art at Lamar University in Beaumont\, TX earning his BFA in 1998\, and also studied painting and drawing at the University of North Texas in Denton.  He teaches art in the Port Neches-Groves ISD and previously taught art and music in the Dallas ISD and the Goose Creek CISD.   As a musician Mark performed hundreds of shows around the country with the bands Hackberry Road and Lone Star Republic\, and still performs regularly throughout Texas. He has written about art for Ezine Articles and Empty Easel\, and authored the blog Paint Daily Texas. Mark is a member of the Artists of Texas and Contemporary Fine Artists International. He is represented by Dab Art in Ventura\, CA\, Third Coast Gallery in Galveston\, and Bisong Art Gallery in Houston\, TX and also exhibits with Davis Gallery in Austin\, TX. His paintings are available worldwide through French based Singulart and on Artsy through Dab Art. Prints of his work are also licensed worldwide by iCanvas. Mark is currently the President of the Texas Artists Museum in Port Arthur. \n 
URL:https://logoncafe.net/event/open-mic-night-2-2021-12-29/
LOCATION:The Logon Cafe & Pub\, 3805 Calder Avenue\, Beaumont\, TX\, 77706\, United States
CATEGORIES:Open Mic Night
END:VEVENT
BEGIN:VEVENT
DTSTART;TZID=America/Chicago:20211228T200000
DTEND;TZID=America/Chicago:20211228T230000
DTSTAMP:20260420T181049
CREATED:20250407T004038Z
LAST-MODIFIED:20250407T004038Z
UID:10009310-1640721600-1640732400@logoncafe.net
SUMMARY:Taco Tuesday Karaoke!
DESCRIPTION:What goes better together than tacos and booze?!! Specials start at 6. Karaoke starts at 8!$2 Street Tacos$2 Ritas$2 Well Vodka \nSing your butts off.Watch your friends act like they can sing 😉No cover wooooo.This is an all ages event.
URL:https://logoncafe.net/event/taco-tuesday-karaoke-18/2021-12-28/
LOCATION:The Logon Cafe & Pub\, 3805 Calder Avenue\, Beaumont\, TX\, 77706\, United States
ATTACH;FMTTYPE=image/jpeg:https://logoncafe.net/wp-content/uploads/2018/10/339927740_756585839328526_6857413985854363341_n-e1681230563968.jpg
END:VEVENT
BEGIN:VEVENT
DTSTART;TZID=America/Chicago:20211228T200000
DTEND;TZID=America/Chicago:20211228T230000
DTSTAMP:20260420T181049
CREATED:20240411T141711Z
LAST-MODIFIED:20240411T141712Z
UID:10012640-1640721600-1640732400@logoncafe.net
SUMMARY:Taco Tuesday Karaoke!
DESCRIPTION:What goes better together than tacos and booze?!! Specials start at 6. Karaoke starts at 8!\n$2 Street Tacos\n$2 Ritas\n$2 Well Vodka \nSing your butts off.\nWatch your friends act like they can sing 😉\nNo cover wooooo.\nThis is an all ages event.
URL:https://logoncafe.net/event/taco-tuesday-karaoke-3/2021-12-28/
LOCATION:The Logon Cafe & Pub\, 3805 Calder Avenue\, Beaumont\, TX\, 77706\, United States
ATTACH;FMTTYPE=image/jpeg:https://logoncafe.net/wp-content/uploads/2018/10/339927740_756585839328526_6857413985854363341_n-e1681230563968.jpg
END:VEVENT
BEGIN:VEVENT
DTSTART;TZID=America/Chicago:20211228T200000
DTEND;TZID=America/Chicago:20211228T230000
DTSTAMP:20260420T181049
CREATED:20181030T231335Z
LAST-MODIFIED:20230411T163019Z
UID:10000223-1640721600-1640732400@logoncafe.net
SUMMARY:Taco Tuesday Karaoke!
DESCRIPTION:What goes better together than tacos and booze?!! Specials start at 6. Karaoke starts at 8!\n$2 Street Tacos\n$2 Ritas\n$2 Well Vodka \nSing your butts off.\nWatch your friends act like they can sing 😉\nNo cover wooooo.\nThis is an all ages event.
URL:https://logoncafe.net/event/taco-tuesday-karaoke/2021-12-28/
LOCATION:The Logon Cafe & Pub\, 3805 Calder Avenue\, Beaumont\, TX\, 77706\, United States
ATTACH;FMTTYPE=image/jpeg:https://logoncafe.net/wp-content/uploads/2018/10/339927740_756585839328526_6857413985854363341_n-e1681230563968.jpg
END:VEVENT
BEGIN:VEVENT
DTSTART;TZID=America/Chicago:20211226T110000
DTEND;TZID=America/Chicago:20211226T140000
DTSTAMP:20260420T181049
CREATED:20210517T204304Z
LAST-MODIFIED:20211222T164722Z
UID:10000946-1640516400-1640527200@logoncafe.net
SUMMARY:We Will be closed this weekend for Sunday Brunch
DESCRIPTION:Come out for our Sunday Brunch\nThings to due this weekend:\n1. Brunch at the Logoncafe\n2. Mimosas at the Logoncafe\n3. Spicy Bloody Mary’s at the Logoncafe\n4. More Mimosas at the Logoncafe\n5. Smile\, Laugh. tell jokes at the Logoncafe\n6. Have a fantastic Day thinking about that Brunch & Mimosas at the Logoncafe \nCome out and try our Brunch I know you will like it.\n#BloodyMary #Mimosas
URL:https://logoncafe.net/event/come-out-for-our-sunday-brunch-2-2021-09-26-2021-12-26/
LOCATION:The Logon Cafe & Pub\, 3805 Calder Avenue\, Beaumont\, TX\, 77706\, United States
ATTACH;FMTTYPE=image/png:https://logoncafe.net/wp-content/uploads/2020/01/brunchs.png
END:VEVENT
BEGIN:VEVENT
DTSTART;TZID=America/Chicago:20211225T110000
DTEND;TZID=America/Chicago:20211225T140000
DTSTAMP:20260420T181049
CREATED:20181202T162102Z
LAST-MODIFIED:20211222T164537Z
UID:10000621-1640430000-1640440800@logoncafe.net
SUMMARY:We will be Closed this week end for Saturday Brunch
DESCRIPTION:Every Saturday from 11am-2pm \nDo you want Big Booty Biscuit with sausage gravy\, Eggs Benedict\, French toast stuffed with an egg over easy\, Maybe the Crab Cake Florentine paired with a Mimosa or a Bloody Mary… it starts at 11 a.m. — come hungry!
URL:https://logoncafe.net/event/saturday-brunch-2019-12-28-2021-12-25/
LOCATION:3805 Calder Avenue\, Beaumont\, TX\, 77706\, United States
ATTACH;FMTTYPE=image/jpeg:https://logoncafe.net/wp-content/uploads/2018/10/sat_brunch.jpg
END:VEVENT
BEGIN:VEVENT
DTSTART;TZID=America/Chicago:20211223T200000
DTEND;TZID=America/Chicago:20211223T235900
DTSTAMP:20260420T181049
CREATED:20210203T013913Z
LAST-MODIFIED:20211206T182756Z
UID:10001298-1640289600-1640303940@logoncafe.net
SUMMARY:Knox Friends & Family Holiday Jam
DESCRIPTION:They are gonna be rocking ALL OUT on stage at the LogOn. You are GUARANTEED to get more than you pay for – NO COVER!\nIt’s the HOLIDAYS and the Family is in from out of town and you know the old saying….. The family that drinks together stays together.
URL:https://logoncafe.net/event/pug-the-hounds-with-long-sunday-drive-2-2-2-2-2/
LOCATION:The Logon Cafe & Pub\, 3805 Calder Avenue\, Beaumont\, TX\, 77706\, United States
ATTACH;FMTTYPE=image/jpeg:https://logoncafe.net/wp-content/uploads/2021/02/17155721_1644717532500235_7430456932530006858_n.jpg
END:VEVENT
BEGIN:VEVENT
DTSTART;TZID=America/Chicago:20211222T200000
DTEND;TZID=America/Chicago:20211222T230000
DTSTAMP:20260420T181049
CREATED:20251030T155404Z
LAST-MODIFIED:20251030T155404Z
UID:10004285-1640203200-1640214000@logoncafe.net
SUMMARY:Open Mic Night
DESCRIPTION:Come one and all to transform our stage into your own personal music venue! Even if you just know someone that likes to play and sing\, get them to come out and buy em a beer! \nWe’ve been hosting Open Mic every Wednesday since 1999\, so come in and join in the tradition. \nSign up is at 7:30 | No Cover \n\n 
URL:https://logoncafe.net/event/open-mic-night-51/2021-12-22/
LOCATION:The Logon Cafe & Pub\, 3805 Calder Avenue\, Beaumont\, TX\, 77706\, United States
CATEGORIES:Open Mic Night
ATTACH;FMTTYPE=image/jpeg:https://logoncafe.net/wp-content/uploads/2022/11/313067660_604791594876249_2466134981987312388_n.jpg
END:VEVENT
BEGIN:VEVENT
DTSTART;TZID=America/Chicago:20211222T200000
DTEND;TZID=America/Chicago:20211222T230000
DTSTAMP:20260420T181049
CREATED:20250303T233810Z
LAST-MODIFIED:20250303T233810Z
UID:10008070-1640203200-1640214000@logoncafe.net
SUMMARY:Open Mic Night
DESCRIPTION:Come one and all to transform our stage into your own personal music venue! Even if you just know someone that likes to play and sing\, get them to come out and buy em a beer! \nWe’ve been hosting Open Mic every Wednesday since 1999\, so come in and join in the tradition. \nSign up is at 7:30 | No Cover \n\n 
URL:https://logoncafe.net/event/open-mic-night-28/2021-12-22/
LOCATION:The Logon Cafe & Pub\, 3805 Calder Avenue\, Beaumont\, TX\, 77706\, United States
CATEGORIES:Open Mic Night
ATTACH;FMTTYPE=image/jpeg:https://logoncafe.net/wp-content/uploads/2022/11/313067660_604791594876249_2466134981987312388_n.jpg
END:VEVENT
BEGIN:VEVENT
DTSTART;TZID=America/Chicago:20211221T200000
DTEND;TZID=America/Chicago:20211221T230000
DTSTAMP:20260420T181049
CREATED:20250407T004038Z
LAST-MODIFIED:20250407T004038Z
UID:10009309-1640116800-1640127600@logoncafe.net
SUMMARY:Taco Tuesday Karaoke!
DESCRIPTION:What goes better together than tacos and booze?!! Specials start at 6. Karaoke starts at 8!$2 Street Tacos$2 Ritas$2 Well Vodka \nSing your butts off.Watch your friends act like they can sing 😉No cover wooooo.This is an all ages event.
URL:https://logoncafe.net/event/taco-tuesday-karaoke-18/2021-12-21/
LOCATION:The Logon Cafe & Pub\, 3805 Calder Avenue\, Beaumont\, TX\, 77706\, United States
ATTACH;FMTTYPE=image/jpeg:https://logoncafe.net/wp-content/uploads/2018/10/339927740_756585839328526_6857413985854363341_n-e1681230563968.jpg
END:VEVENT
BEGIN:VEVENT
DTSTART;TZID=America/Chicago:20211221T200000
DTEND;TZID=America/Chicago:20211221T230000
DTSTAMP:20260420T181049
CREATED:20240411T141711Z
LAST-MODIFIED:20240411T141712Z
UID:10012639-1640116800-1640127600@logoncafe.net
SUMMARY:Taco Tuesday Karaoke!
DESCRIPTION:What goes better together than tacos and booze?!! Specials start at 6. Karaoke starts at 8!\n$2 Street Tacos\n$2 Ritas\n$2 Well Vodka \nSing your butts off.\nWatch your friends act like they can sing 😉\nNo cover wooooo.\nThis is an all ages event.
URL:https://logoncafe.net/event/taco-tuesday-karaoke-3/2021-12-21/
LOCATION:The Logon Cafe & Pub\, 3805 Calder Avenue\, Beaumont\, TX\, 77706\, United States
ATTACH;FMTTYPE=image/jpeg:https://logoncafe.net/wp-content/uploads/2018/10/339927740_756585839328526_6857413985854363341_n-e1681230563968.jpg
END:VEVENT
END:VCALENDAR