BEGIN:VCALENDAR
VERSION:2.0
PRODID:-//The Logon Cafe and Pub - ECPv6.15.20//NONSGML v1.0//EN
CALSCALE:GREGORIAN
METHOD:PUBLISH
X-WR-CALNAME:The Logon Cafe and Pub
X-ORIGINAL-URL:https://logoncafe.net
X-WR-CALDESC:Events for The Logon Cafe and Pub
REFRESH-INTERVAL;VALUE=DURATION:PT1H
X-Robots-Tag:noindex
X-PUBLISHED-TTL:PT1H
BEGIN:VTIMEZONE
TZID:America/Chicago
BEGIN:DAYLIGHT
TZOFFSETFROM:-0600
TZOFFSETTO:-0500
TZNAME:CDT
DTSTART:20200308T080000
END:DAYLIGHT
BEGIN:STANDARD
TZOFFSETFROM:-0500
TZOFFSETTO:-0600
TZNAME:CST
DTSTART:20201101T070000
END:STANDARD
BEGIN:DAYLIGHT
TZOFFSETFROM:-0600
TZOFFSETTO:-0500
TZNAME:CDT
DTSTART:20210314T080000
END:DAYLIGHT
BEGIN:STANDARD
TZOFFSETFROM:-0500
TZOFFSETTO:-0600
TZNAME:CST
DTSTART:20211107T070000
END:STANDARD
BEGIN:DAYLIGHT
TZOFFSETFROM:-0600
TZOFFSETTO:-0500
TZNAME:CDT
DTSTART:20220313T080000
END:DAYLIGHT
BEGIN:STANDARD
TZOFFSETFROM:-0500
TZOFFSETTO:-0600
TZNAME:CST
DTSTART:20221106T070000
END:STANDARD
END:VTIMEZONE
BEGIN:VEVENT
DTSTART;TZID=America/Chicago:20210301T180000
DTEND;TZID=America/Chicago:20210301T190000
DTSTAMP:20260420T232240
CREATED:20181202T172057Z
LAST-MODIFIED:20240430T004354Z
UID:10000699-1614621600-1614625200@logoncafe.net
SUMMARY:SETX Local BeeKeepers Meeting
DESCRIPTION:Please join us @ The LogOn Cafe every 1st Monday of the month – we’re having the Setx Local Beekeepers meeting at 6pm. Beekeepers from all over the area gather to discuss everything you need to know about keeping bees. Come catch the buzz! This is a free event ♥
URL:https://logoncafe.net/event/setx-local-beekeepers-meeting/2021-03-01/
LOCATION:The Logon Cafe & Pub\, 3805 Calder Avenue\, Beaumont\, TX\, 77706\, United States
ATTACH;FMTTYPE=image/jpeg:https://logoncafe.net/wp-content/uploads/2018/12/setx-beekeepers-meeting-e1682469430874.jpg
END:VEVENT
BEGIN:VEVENT
DTSTART;TZID=America/Chicago:20210301T193000
DTEND;TZID=America/Chicago:20210301T210000
DTSTAMP:20260420T232240
CREATED:20190912T212544Z
LAST-MODIFIED:20211015T161606Z
UID:10001131-1614627000-1614632400@logoncafe.net
SUMMARY:Brainstormer Trivia Night
DESCRIPTION:Brainstormer Trivia Night is one of the funnest nights around town OK I said it so get out here and jion the fun. \nCome out for Trivia night at the Logoncafe hope you have fun! \nDo you enjoy Trivia?\nAre you competitive?\nHow about Prizes for the nightly Winners?\nHow about $2.00 Wells for 7pm to 10pm \nTrivia Rules:\nNo yelling out answers\, right or wrong. It disrupts the game and can bother other players. Up to 6 players per team are allowed. There is a 5 point penalty for a team of 7\, and a 10 point pentalty for a team of 8. No cell phones\, blackberries or any type of outside sources are allowed. Have fun!
URL:https://logoncafe.net/event/brainstormer-trivia-night-2-2019-11-25-2020-01-06-2-2020-05-25-2/2021-03-01/
LOCATION:The Logon Cafe & Pub\, 3805 Calder Avenue\, Beaumont\, TX\, 77706\, United States
ATTACH;FMTTYPE=image/jpeg:https://logoncafe.net/wp-content/uploads/2019/09/trivianight2-1000x563-e1567536697294.jpg
END:VEVENT
BEGIN:VEVENT
DTSTART;TZID=America/Chicago:20210301T193000
DTEND;TZID=America/Chicago:20210301T210000
DTSTAMP:20260420T232240
CREATED:20221012T211346Z
LAST-MODIFIED:20221012T211346Z
UID:10001191-1614627000-1614632400@logoncafe.net
SUMMARY:Brainstormer Trivia Night
DESCRIPTION:Brainstormer Trivia Night is one of the funnest nights around town OK I said it so get out here and jion the fun. \nCome out for Trivia night at the Logoncafe hope you have fun! \nDo you enjoy Trivia?\nAre you competitive?\nHow about Prizes for the nightly Winners?\nHow about $2.00 Wells for 7pm to 10pm \nTrivia Rules:\nNo yelling out answers\, right or wrong. It disrupts the game and can bother other players. Up to 6 players per team are allowed. There is a 5 point penalty for a team of 7\, and a 10 point pentalty for a team of 8. No cell phones\, blackberries or any type of outside sources are allowed. Have fun!
URL:https://logoncafe.net/event/brainstormer-trivia-night-2-2019-11-25-2020-01-06-2-2020-05-25-2/2021-03-01/
LOCATION:The Logon Cafe & Pub\, 3805 Calder Avenue\, Beaumont\, TX\, 77706\, United States
ATTACH;FMTTYPE=image/jpeg:https://logoncafe.net/wp-content/uploads/2019/09/trivianight2-1000x563-e1567536697294.jpg
END:VEVENT
BEGIN:VEVENT
DTSTART;TZID=America/Chicago:20210302T200000
DTEND;TZID=America/Chicago:20210302T230000
DTSTAMP:20260420T232240
CREATED:20181030T231335Z
LAST-MODIFIED:20230411T163019Z
UID:10000180-1614715200-1614726000@logoncafe.net
SUMMARY:Taco Tuesday Karaoke!
DESCRIPTION:What goes better together than tacos and booze?!! Specials start at 6. Karaoke starts at 8!\n$2 Street Tacos\n$2 Ritas\n$2 Well Vodka \nSing your butts off.\nWatch your friends act like they can sing 😉\nNo cover wooooo.\nThis is an all ages event.
URL:https://logoncafe.net/event/taco-tuesday-karaoke/2021-03-02/
LOCATION:The Logon Cafe & Pub\, 3805 Calder Avenue\, Beaumont\, TX\, 77706\, United States
ATTACH;FMTTYPE=image/jpeg:https://logoncafe.net/wp-content/uploads/2018/10/339927740_756585839328526_6857413985854363341_n-e1681230563968.jpg
END:VEVENT
BEGIN:VEVENT
DTSTART;TZID=America/Chicago:20210302T200000
DTEND;TZID=America/Chicago:20210302T230000
DTSTAMP:20260420T232240
CREATED:20240411T141711Z
LAST-MODIFIED:20240411T141712Z
UID:10012598-1614715200-1614726000@logoncafe.net
SUMMARY:Taco Tuesday Karaoke!
DESCRIPTION:What goes better together than tacos and booze?!! Specials start at 6. Karaoke starts at 8!\n$2 Street Tacos\n$2 Ritas\n$2 Well Vodka \nSing your butts off.\nWatch your friends act like they can sing 😉\nNo cover wooooo.\nThis is an all ages event.
URL:https://logoncafe.net/event/taco-tuesday-karaoke-3/2021-03-02/
LOCATION:The Logon Cafe & Pub\, 3805 Calder Avenue\, Beaumont\, TX\, 77706\, United States
ATTACH;FMTTYPE=image/jpeg:https://logoncafe.net/wp-content/uploads/2018/10/339927740_756585839328526_6857413985854363341_n-e1681230563968.jpg
END:VEVENT
BEGIN:VEVENT
DTSTART;TZID=America/Chicago:20210302T200000
DTEND;TZID=America/Chicago:20210302T230000
DTSTAMP:20260420T232240
CREATED:20250407T004038Z
LAST-MODIFIED:20250407T004038Z
UID:10009267-1614715200-1614726000@logoncafe.net
SUMMARY:Taco Tuesday Karaoke!
DESCRIPTION:What goes better together than tacos and booze?!! Specials start at 6. Karaoke starts at 8!$2 Street Tacos$2 Ritas$2 Well Vodka \nSing your butts off.Watch your friends act like they can sing 😉No cover wooooo.This is an all ages event.
URL:https://logoncafe.net/event/taco-tuesday-karaoke-18/2021-03-02/
LOCATION:The Logon Cafe & Pub\, 3805 Calder Avenue\, Beaumont\, TX\, 77706\, United States
ATTACH;FMTTYPE=image/jpeg:https://logoncafe.net/wp-content/uploads/2018/10/339927740_756585839328526_6857413985854363341_n-e1681230563968.jpg
END:VEVENT
BEGIN:VEVENT
DTSTART;TZID=America/Chicago:20210303T200000
DTEND;TZID=America/Chicago:20210303T230000
DTSTAMP:20260420T232240
CREATED:20250303T233810Z
LAST-MODIFIED:20250303T233810Z
UID:10008029-1614801600-1614812400@logoncafe.net
SUMMARY:Open Mic Night
DESCRIPTION:Come one and all to transform our stage into your own personal music venue! Even if you just know someone that likes to play and sing\, get them to come out and buy em a beer! \nWe’ve been hosting Open Mic every Wednesday since 1999\, so come in and join in the tradition. \nSign up is at 7:30 | No Cover \n\n 
URL:https://logoncafe.net/event/open-mic-night-28/2021-03-03/
LOCATION:The Logon Cafe & Pub\, 3805 Calder Avenue\, Beaumont\, TX\, 77706\, United States
CATEGORIES:Open Mic Night
ATTACH;FMTTYPE=image/jpeg:https://logoncafe.net/wp-content/uploads/2022/11/313067660_604791594876249_2466134981987312388_n.jpg
END:VEVENT
BEGIN:VEVENT
DTSTART;TZID=America/Chicago:20210303T200000
DTEND;TZID=America/Chicago:20210303T230000
DTSTAMP:20260420T232240
CREATED:20251030T155404Z
LAST-MODIFIED:20251030T155404Z
UID:10012426-1614801600-1614812400@logoncafe.net
SUMMARY:Open Mic Night
DESCRIPTION:Come one and all to transform our stage into your own personal music venue! Even if you just know someone that likes to play and sing\, get them to come out and buy em a beer! \nWe’ve been hosting Open Mic every Wednesday since 1999\, so come in and join in the tradition. \nSign up is at 7:30 | No Cover \n\n 
URL:https://logoncafe.net/event/open-mic-night-51/2021-03-03/
LOCATION:The Logon Cafe & Pub\, 3805 Calder Avenue\, Beaumont\, TX\, 77706\, United States
CATEGORIES:Open Mic Night
ATTACH;FMTTYPE=image/jpeg:https://logoncafe.net/wp-content/uploads/2022/11/313067660_604791594876249_2466134981987312388_n.jpg
END:VEVENT
BEGIN:VEVENT
DTSTART;TZID=America/Chicago:20210304T200000
DTEND;TZID=America/Chicago:20210304T235500
DTSTAMP:20260420T232240
CREATED:20210108T214635Z
LAST-MODIFIED:20210301T185314Z
UID:10000328-1614888000-1614902100@logoncafe.net
SUMMARY:Daniel Waters the Piano Man
DESCRIPTION:The super talented Daniel Waters! Finally – Beaumont get’s an AMAZING piano player!!
URL:https://logoncafe.net/event/daniel-waters-the-piano-man-2/
LOCATION:The Logon Cafe & Pub\, 3805 Calder Avenue\, Beaumont\, TX\, 77706\, United States
ATTACH;FMTTYPE=image/jpeg:https://logoncafe.net/wp-content/uploads/2021/01/136112782_10158695558563567_1379601443691432188_o-e1610142234736.jpg
END:VEVENT
BEGIN:VEVENT
DTSTART;TZID=America/Chicago:20210305T200000
DTEND;TZID=America/Chicago:20210305T233000
DTSTAMP:20260420T232240
CREATED:20210225T225847Z
LAST-MODIFIED:20210301T185611Z
UID:10000617-1614974400-1614987000@logoncafe.net
SUMMARY:Matt Schuldt
DESCRIPTION:Matt Schuldt
URL:https://logoncafe.net/event/matt-schuldt-2/
LOCATION:The Logon Cafe & Pub\, 3805 Calder Avenue\, Beaumont\, TX\, 77706\, United States
ATTACH;FMTTYPE=image/jpeg:https://logoncafe.net/wp-content/uploads/2021/02/152965208_10158835060913567_1646180114165249546_o-e1614293765845.jpg
END:VEVENT
BEGIN:VEVENT
DTSTART;TZID=America/Chicago:20210306T200000
DTEND;TZID=America/Chicago:20210306T233000
DTSTAMP:20260420T232240
CREATED:20210305T211238Z
LAST-MODIFIED:20210305T211238Z
UID:10000634-1615060800-1615073400@logoncafe.net
SUMMARY:Saturday Karaoke PARTY
DESCRIPTION:Saturday Karaoke PARTY\nGet here.\nSing your butts off.\nWatch your friends act like they can sing 😉\nNo cover wooooo.
URL:https://logoncafe.net/event/saturday-karaoke-party-6/
LOCATION:The Logon Cafe & Pub\, 3805 Calder Avenue\, Beaumont\, TX\, 77706\, United States
ATTACH;FMTTYPE=image/jpeg:https://logoncafe.net/wp-content/uploads/2018/10/Karaoke-Party-scaled.jpg
END:VEVENT
BEGIN:VEVENT
DTSTART;TZID=America/Chicago:20210308T193000
DTEND;TZID=America/Chicago:20210308T210000
DTSTAMP:20260420T232240
CREATED:20190912T212544Z
LAST-MODIFIED:20211015T161606Z
UID:10001132-1615231800-1615237200@logoncafe.net
SUMMARY:Brainstormer Trivia Night
DESCRIPTION:Brainstormer Trivia Night is one of the funnest nights around town OK I said it so get out here and jion the fun. \nCome out for Trivia night at the Logoncafe hope you have fun! \nDo you enjoy Trivia?\nAre you competitive?\nHow about Prizes for the nightly Winners?\nHow about $2.00 Wells for 7pm to 10pm \nTrivia Rules:\nNo yelling out answers\, right or wrong. It disrupts the game and can bother other players. Up to 6 players per team are allowed. There is a 5 point penalty for a team of 7\, and a 10 point pentalty for a team of 8. No cell phones\, blackberries or any type of outside sources are allowed. Have fun!
URL:https://logoncafe.net/event/brainstormer-trivia-night-2-2019-11-25-2020-01-06-2-2020-05-25-2/2021-03-08/
LOCATION:The Logon Cafe & Pub\, 3805 Calder Avenue\, Beaumont\, TX\, 77706\, United States
ATTACH;FMTTYPE=image/jpeg:https://logoncafe.net/wp-content/uploads/2019/09/trivianight2-1000x563-e1567536697294.jpg
END:VEVENT
BEGIN:VEVENT
DTSTART;TZID=America/Chicago:20210308T193000
DTEND;TZID=America/Chicago:20210308T210000
DTSTAMP:20260420T232240
CREATED:20221012T211346Z
LAST-MODIFIED:20221012T211346Z
UID:10001192-1615231800-1615237200@logoncafe.net
SUMMARY:Brainstormer Trivia Night
DESCRIPTION:Brainstormer Trivia Night is one of the funnest nights around town OK I said it so get out here and jion the fun. \nCome out for Trivia night at the Logoncafe hope you have fun! \nDo you enjoy Trivia?\nAre you competitive?\nHow about Prizes for the nightly Winners?\nHow about $2.00 Wells for 7pm to 10pm \nTrivia Rules:\nNo yelling out answers\, right or wrong. It disrupts the game and can bother other players. Up to 6 players per team are allowed. There is a 5 point penalty for a team of 7\, and a 10 point pentalty for a team of 8. No cell phones\, blackberries or any type of outside sources are allowed. Have fun!
URL:https://logoncafe.net/event/brainstormer-trivia-night-2-2019-11-25-2020-01-06-2-2020-05-25-2/2021-03-08/
LOCATION:The Logon Cafe & Pub\, 3805 Calder Avenue\, Beaumont\, TX\, 77706\, United States
ATTACH;FMTTYPE=image/jpeg:https://logoncafe.net/wp-content/uploads/2019/09/trivianight2-1000x563-e1567536697294.jpg
END:VEVENT
BEGIN:VEVENT
DTSTART;TZID=America/Chicago:20210309T200000
DTEND;TZID=America/Chicago:20210309T230000
DTSTAMP:20260420T232240
CREATED:20181030T231335Z
LAST-MODIFIED:20230411T163019Z
UID:10000181-1615320000-1615330800@logoncafe.net
SUMMARY:Taco Tuesday Karaoke!
DESCRIPTION:What goes better together than tacos and booze?!! Specials start at 6. Karaoke starts at 8!\n$2 Street Tacos\n$2 Ritas\n$2 Well Vodka \nSing your butts off.\nWatch your friends act like they can sing 😉\nNo cover wooooo.\nThis is an all ages event.
URL:https://logoncafe.net/event/taco-tuesday-karaoke/2021-03-09/
LOCATION:The Logon Cafe & Pub\, 3805 Calder Avenue\, Beaumont\, TX\, 77706\, United States
ATTACH;FMTTYPE=image/jpeg:https://logoncafe.net/wp-content/uploads/2018/10/339927740_756585839328526_6857413985854363341_n-e1681230563968.jpg
END:VEVENT
BEGIN:VEVENT
DTSTART;TZID=America/Chicago:20210309T200000
DTEND;TZID=America/Chicago:20210309T230000
DTSTAMP:20260420T232240
CREATED:20240411T141711Z
LAST-MODIFIED:20240411T141712Z
UID:10012599-1615320000-1615330800@logoncafe.net
SUMMARY:Taco Tuesday Karaoke!
DESCRIPTION:What goes better together than tacos and booze?!! Specials start at 6. Karaoke starts at 8!\n$2 Street Tacos\n$2 Ritas\n$2 Well Vodka \nSing your butts off.\nWatch your friends act like they can sing 😉\nNo cover wooooo.\nThis is an all ages event.
URL:https://logoncafe.net/event/taco-tuesday-karaoke-3/2021-03-09/
LOCATION:The Logon Cafe & Pub\, 3805 Calder Avenue\, Beaumont\, TX\, 77706\, United States
ATTACH;FMTTYPE=image/jpeg:https://logoncafe.net/wp-content/uploads/2018/10/339927740_756585839328526_6857413985854363341_n-e1681230563968.jpg
END:VEVENT
BEGIN:VEVENT
DTSTART;TZID=America/Chicago:20210309T200000
DTEND;TZID=America/Chicago:20210309T230000
DTSTAMP:20260420T232240
CREATED:20250407T004038Z
LAST-MODIFIED:20250407T004038Z
UID:10009268-1615320000-1615330800@logoncafe.net
SUMMARY:Taco Tuesday Karaoke!
DESCRIPTION:What goes better together than tacos and booze?!! Specials start at 6. Karaoke starts at 8!$2 Street Tacos$2 Ritas$2 Well Vodka \nSing your butts off.Watch your friends act like they can sing 😉No cover wooooo.This is an all ages event.
URL:https://logoncafe.net/event/taco-tuesday-karaoke-18/2021-03-09/
LOCATION:The Logon Cafe & Pub\, 3805 Calder Avenue\, Beaumont\, TX\, 77706\, United States
ATTACH;FMTTYPE=image/jpeg:https://logoncafe.net/wp-content/uploads/2018/10/339927740_756585839328526_6857413985854363341_n-e1681230563968.jpg
END:VEVENT
BEGIN:VEVENT
DTSTART;TZID=America/Chicago:20210310T200000
DTEND;TZID=America/Chicago:20210310T230000
DTSTAMP:20260420T232240
CREATED:20250303T233810Z
LAST-MODIFIED:20250303T233810Z
UID:10008030-1615406400-1615417200@logoncafe.net
SUMMARY:Open Mic Night
DESCRIPTION:Come one and all to transform our stage into your own personal music venue! Even if you just know someone that likes to play and sing\, get them to come out and buy em a beer! \nWe’ve been hosting Open Mic every Wednesday since 1999\, so come in and join in the tradition. \nSign up is at 7:30 | No Cover \n\n 
URL:https://logoncafe.net/event/open-mic-night-28/2021-03-10/
LOCATION:The Logon Cafe & Pub\, 3805 Calder Avenue\, Beaumont\, TX\, 77706\, United States
CATEGORIES:Open Mic Night
ATTACH;FMTTYPE=image/jpeg:https://logoncafe.net/wp-content/uploads/2022/11/313067660_604791594876249_2466134981987312388_n.jpg
END:VEVENT
BEGIN:VEVENT
DTSTART;TZID=America/Chicago:20210310T200000
DTEND;TZID=America/Chicago:20210310T230000
DTSTAMP:20260420T232240
CREATED:20251030T155404Z
LAST-MODIFIED:20251030T155404Z
UID:10012427-1615406400-1615417200@logoncafe.net
SUMMARY:Open Mic Night
DESCRIPTION:Come one and all to transform our stage into your own personal music venue! Even if you just know someone that likes to play and sing\, get them to come out and buy em a beer! \nWe’ve been hosting Open Mic every Wednesday since 1999\, so come in and join in the tradition. \nSign up is at 7:30 | No Cover \n\n 
URL:https://logoncafe.net/event/open-mic-night-51/2021-03-10/
LOCATION:The Logon Cafe & Pub\, 3805 Calder Avenue\, Beaumont\, TX\, 77706\, United States
CATEGORIES:Open Mic Night
ATTACH;FMTTYPE=image/jpeg:https://logoncafe.net/wp-content/uploads/2022/11/313067660_604791594876249_2466134981987312388_n.jpg
END:VEVENT
BEGIN:VEVENT
DTSTART;TZID=America/Chicago:20210313T200000
DTEND;TZID=America/Chicago:20210313T230000
DTSTAMP:20260420T232240
CREATED:20210203T013419Z
LAST-MODIFIED:20210203T013419Z
UID:10000640-1615665600-1615676400@logoncafe.net
SUMMARY:Generations Classic Rock Spring Jam
DESCRIPTION:Generations Classic Rock Spring Jam\nGenerations is headed back to the LogOn!\nWeather is getting warmer and we are here to jam the cool tunes. Come out for a great time with good friends.\nWe have been working up a great show for you! Don’t miss this!
URL:https://logoncafe.net/event/generations-classic-rock-spring-jam/
LOCATION:The Logon Cafe & Pub\, 3805 Calder Avenue\, Beaumont\, TX\, 77706\, United States
ATTACH;FMTTYPE=image/jpeg:https://logoncafe.net/wp-content/uploads/2020/01/81098085_2624944867792592_7794168579020029952_n-e1578331847210.jpg
END:VEVENT
BEGIN:VEVENT
DTSTART;TZID=America/Chicago:20210315T193000
DTEND;TZID=America/Chicago:20210315T210000
DTSTAMP:20260420T232240
CREATED:20190912T212544Z
LAST-MODIFIED:20211015T161606Z
UID:10001133-1615836600-1615842000@logoncafe.net
SUMMARY:Brainstormer Trivia Night
DESCRIPTION:Brainstormer Trivia Night is one of the funnest nights around town OK I said it so get out here and jion the fun. \nCome out for Trivia night at the Logoncafe hope you have fun! \nDo you enjoy Trivia?\nAre you competitive?\nHow about Prizes for the nightly Winners?\nHow about $2.00 Wells for 7pm to 10pm \nTrivia Rules:\nNo yelling out answers\, right or wrong. It disrupts the game and can bother other players. Up to 6 players per team are allowed. There is a 5 point penalty for a team of 7\, and a 10 point pentalty for a team of 8. No cell phones\, blackberries or any type of outside sources are allowed. Have fun!
URL:https://logoncafe.net/event/brainstormer-trivia-night-2-2019-11-25-2020-01-06-2-2020-05-25-2/2021-03-15/
LOCATION:The Logon Cafe & Pub\, 3805 Calder Avenue\, Beaumont\, TX\, 77706\, United States
ATTACH;FMTTYPE=image/jpeg:https://logoncafe.net/wp-content/uploads/2019/09/trivianight2-1000x563-e1567536697294.jpg
END:VEVENT
BEGIN:VEVENT
DTSTART;TZID=America/Chicago:20210315T193000
DTEND;TZID=America/Chicago:20210315T210000
DTSTAMP:20260420T232240
CREATED:20221012T211346Z
LAST-MODIFIED:20221012T211346Z
UID:10001193-1615836600-1615842000@logoncafe.net
SUMMARY:Brainstormer Trivia Night
DESCRIPTION:Brainstormer Trivia Night is one of the funnest nights around town OK I said it so get out here and jion the fun. \nCome out for Trivia night at the Logoncafe hope you have fun! \nDo you enjoy Trivia?\nAre you competitive?\nHow about Prizes for the nightly Winners?\nHow about $2.00 Wells for 7pm to 10pm \nTrivia Rules:\nNo yelling out answers\, right or wrong. It disrupts the game and can bother other players. Up to 6 players per team are allowed. There is a 5 point penalty for a team of 7\, and a 10 point pentalty for a team of 8. No cell phones\, blackberries or any type of outside sources are allowed. Have fun!
URL:https://logoncafe.net/event/brainstormer-trivia-night-2-2019-11-25-2020-01-06-2-2020-05-25-2/2021-03-15/
LOCATION:The Logon Cafe & Pub\, 3805 Calder Avenue\, Beaumont\, TX\, 77706\, United States
ATTACH;FMTTYPE=image/jpeg:https://logoncafe.net/wp-content/uploads/2019/09/trivianight2-1000x563-e1567536697294.jpg
END:VEVENT
BEGIN:VEVENT
DTSTART;TZID=America/Chicago:20210316T200000
DTEND;TZID=America/Chicago:20210316T230000
DTSTAMP:20260420T232240
CREATED:20181030T231335Z
LAST-MODIFIED:20230411T163019Z
UID:10000182-1615924800-1615935600@logoncafe.net
SUMMARY:Taco Tuesday Karaoke!
DESCRIPTION:What goes better together than tacos and booze?!! Specials start at 6. Karaoke starts at 8!\n$2 Street Tacos\n$2 Ritas\n$2 Well Vodka \nSing your butts off.\nWatch your friends act like they can sing 😉\nNo cover wooooo.\nThis is an all ages event.
URL:https://logoncafe.net/event/taco-tuesday-karaoke/2021-03-16/
LOCATION:The Logon Cafe & Pub\, 3805 Calder Avenue\, Beaumont\, TX\, 77706\, United States
ATTACH;FMTTYPE=image/jpeg:https://logoncafe.net/wp-content/uploads/2018/10/339927740_756585839328526_6857413985854363341_n-e1681230563968.jpg
END:VEVENT
BEGIN:VEVENT
DTSTART;TZID=America/Chicago:20210316T200000
DTEND;TZID=America/Chicago:20210316T230000
DTSTAMP:20260420T232240
CREATED:20240411T141711Z
LAST-MODIFIED:20240411T141712Z
UID:10012600-1615924800-1615935600@logoncafe.net
SUMMARY:Taco Tuesday Karaoke!
DESCRIPTION:What goes better together than tacos and booze?!! Specials start at 6. Karaoke starts at 8!\n$2 Street Tacos\n$2 Ritas\n$2 Well Vodka \nSing your butts off.\nWatch your friends act like they can sing 😉\nNo cover wooooo.\nThis is an all ages event.
URL:https://logoncafe.net/event/taco-tuesday-karaoke-3/2021-03-16/
LOCATION:The Logon Cafe & Pub\, 3805 Calder Avenue\, Beaumont\, TX\, 77706\, United States
ATTACH;FMTTYPE=image/jpeg:https://logoncafe.net/wp-content/uploads/2018/10/339927740_756585839328526_6857413985854363341_n-e1681230563968.jpg
END:VEVENT
BEGIN:VEVENT
DTSTART;TZID=America/Chicago:20210316T200000
DTEND;TZID=America/Chicago:20210316T230000
DTSTAMP:20260420T232240
CREATED:20250407T004038Z
LAST-MODIFIED:20250407T004038Z
UID:10009269-1615924800-1615935600@logoncafe.net
SUMMARY:Taco Tuesday Karaoke!
DESCRIPTION:What goes better together than tacos and booze?!! Specials start at 6. Karaoke starts at 8!$2 Street Tacos$2 Ritas$2 Well Vodka \nSing your butts off.Watch your friends act like they can sing 😉No cover wooooo.This is an all ages event.
URL:https://logoncafe.net/event/taco-tuesday-karaoke-18/2021-03-16/
LOCATION:The Logon Cafe & Pub\, 3805 Calder Avenue\, Beaumont\, TX\, 77706\, United States
ATTACH;FMTTYPE=image/jpeg:https://logoncafe.net/wp-content/uploads/2018/10/339927740_756585839328526_6857413985854363341_n-e1681230563968.jpg
END:VEVENT
BEGIN:VEVENT
DTSTART;TZID=America/Chicago:20210317T193000
DTEND;TZID=America/Chicago:20210317T230000
DTSTAMP:20260420T232240
CREATED:20210212T183841Z
LAST-MODIFIED:20210212T183841Z
UID:10000679-1616009400-1616022000@logoncafe.net
SUMMARY:St Patrick's Day Party
DESCRIPTION:St Patrick’s Day Party\nCome out of some Irish Music\nBagpipes and Irish Whiskey\nand a lot of fun
URL:https://logoncafe.net/event/st-patricks-day-party/
LOCATION:The Logon Cafe & Pub\, 3805 Calder Avenue\, Beaumont\, TX\, 77706\, United States
ATTACH;FMTTYPE=image/jpeg:https://logoncafe.net/wp-content/uploads/2018/12/lonestar-bagpipe_n.jpg
END:VEVENT
BEGIN:VEVENT
DTSTART;TZID=America/Chicago:20210317T200000
DTEND;TZID=America/Chicago:20210317T230000
DTSTAMP:20260420T232240
CREATED:20181031T190032Z
LAST-MODIFIED:20210308T230702Z
UID:10001023-1616011200-1616022000@logoncafe.net
SUMMARY:No Open Mic Night Tonight
DESCRIPTION:Come one and all to transform our stage into your own personal music venue! Even if you just know someone that likes to play and sing\, get them to come out and buy em a beer! \nWe’ve been hosting Open Mic every Wednesday since 1999\, so come in and join in the tradition. \nSign up is at 7:30 | No Cover
URL:https://logoncafe.net/event/open-mic-night-2-2021-03-17/
LOCATION:The Logon Cafe & Pub\, 3805 Calder Avenue\, Beaumont\, TX\, 77706\, United States
CATEGORIES:Open Mic Night
ATTACH;FMTTYPE=image/jpeg:https://logoncafe.net/wp-content/uploads/2018/10/45002210_10156594884178567_1673671871041634304_n.jpg
END:VEVENT
BEGIN:VEVENT
DTSTART;TZID=America/Chicago:20210317T200000
DTEND;TZID=America/Chicago:20210317T230000
DTSTAMP:20260420T232240
CREATED:20250303T233810Z
LAST-MODIFIED:20250303T233810Z
UID:10008469-1616011200-1616022000@logoncafe.net
SUMMARY:Open Mic Night
DESCRIPTION:Come one and all to transform our stage into your own personal music venue! Even if you just know someone that likes to play and sing\, get them to come out and buy em a beer! \nWe’ve been hosting Open Mic every Wednesday since 1999\, so come in and join in the tradition. \nSign up is at 7:30 | No Cover \n\n 
URL:https://logoncafe.net/event/open-mic-night-28/2021-03-17/
LOCATION:The Logon Cafe & Pub\, 3805 Calder Avenue\, Beaumont\, TX\, 77706\, United States
CATEGORIES:Open Mic Night
ATTACH;FMTTYPE=image/jpeg:https://logoncafe.net/wp-content/uploads/2022/11/313067660_604791594876249_2466134981987312388_n.jpg
END:VEVENT
BEGIN:VEVENT
DTSTART;TZID=America/Chicago:20210318T200000
DTEND;TZID=America/Chicago:20210318T233000
DTSTAMP:20260420T232240
CREATED:20210316T192808Z
LAST-MODIFIED:20210316T192808Z
UID:10000327-1616097600-1616110200@logoncafe.net
SUMMARY:Thursday Night Karaoke
DESCRIPTION:If you like to sing come on out and have some fun on our stage
URL:https://logoncafe.net/event/thursday-night-karaoke/
LOCATION:The Logon Cafe & Pub\, 3805 Calder Avenue\, Beaumont\, TX\, 77706\, United States
ATTACH;FMTTYPE=image/jpeg:https://logoncafe.net/wp-content/uploads/2019/02/karaoke-e1550246864299.jpg
END:VEVENT
BEGIN:VEVENT
DTSTART;TZID=America/Chicago:20210319T203000
DTEND;TZID=America/Chicago:20210319T233000
DTSTAMP:20260420T232240
CREATED:20210203T013913Z
LAST-MODIFIED:20210203T013913Z
UID:10000678-1616185800-1616196600@logoncafe.net
SUMMARY:Pug & The Hounds With Long Sunday Drive
DESCRIPTION:Pug & The Hounds With Long Sunday Drive\nLong Sunday Drive is\nCourtney Mock\nSouthPaw Smitty\nPug Johnson\nDavid Pool\nWe LOVE these guys! And gal! 😉
URL:https://logoncafe.net/event/pug-the-hounds-with-long-sunday-drive/
LOCATION:The Logon Cafe & Pub\, 3805 Calder Avenue\, Beaumont\, TX\, 77706\, United States
ATTACH;FMTTYPE=image/jpeg:https://logoncafe.net/wp-content/uploads/2021/02/141668101_10158761653523567_2583514414849193325_n-e1612316340842.jpg
END:VEVENT
BEGIN:VEVENT
DTSTART;TZID=America/Chicago:20210320T193000
DTEND;TZID=America/Chicago:20210320T233000
DTSTAMP:20260420T232240
CREATED:20210212T184613Z
LAST-MODIFIED:20210305T210821Z
UID:10000836-1616268600-1616283000@logoncafe.net
SUMMARY:St.Paddy's Celebration w/ Piper Rock Scissors
DESCRIPTION:You can never have too much party! We love St. Patrick’s Day so much\, we’re celebrating all week!\nCome get your Irish on Saturday March 20th at The LogOn Cafe.\nWe are having a St.Patty’s day Party!!\nWe will be serving Corned Beef & Cabbage\, Guinness on tap\, Jameson and other fine Irish Whiskeys.\nFor your entertainment the night’s theme will be bag pipes and Irish music hosted by Krista N Jeff Courts and Piper Rock Scissors
URL:https://logoncafe.net/event/st-pattys-day-party-2/
LOCATION:The Logon Cafe & Pub\, 3805 Calder Avenue\, Beaumont\, TX\, 77706\, United States
ATTACH;FMTTYPE=image/jpeg:https://logoncafe.net/wp-content/uploads/2018/12/lonestar-bagpipe_n.jpg
END:VEVENT
END:VCALENDAR