BEGIN:VCALENDAR
VERSION:2.0
PRODID:-//The Logon Cafe and Pub - ECPv6.15.20//NONSGML v1.0//EN
CALSCALE:GREGORIAN
METHOD:PUBLISH
X-ORIGINAL-URL:https://logoncafe.net
X-WR-CALDESC:Events for The Logon Cafe and Pub
REFRESH-INTERVAL;VALUE=DURATION:PT1H
X-Robots-Tag:noindex
X-PUBLISHED-TTL:PT1H
BEGIN:VTIMEZONE
TZID:America/Chicago
BEGIN:DAYLIGHT
TZOFFSETFROM:-0600
TZOFFSETTO:-0500
TZNAME:CDT
DTSTART:20200308T080000
END:DAYLIGHT
BEGIN:STANDARD
TZOFFSETFROM:-0500
TZOFFSETTO:-0600
TZNAME:CST
DTSTART:20201101T070000
END:STANDARD
BEGIN:DAYLIGHT
TZOFFSETFROM:-0600
TZOFFSETTO:-0500
TZNAME:CDT
DTSTART:20210314T080000
END:DAYLIGHT
BEGIN:STANDARD
TZOFFSETFROM:-0500
TZOFFSETTO:-0600
TZNAME:CST
DTSTART:20211107T070000
END:STANDARD
BEGIN:DAYLIGHT
TZOFFSETFROM:-0600
TZOFFSETTO:-0500
TZNAME:CDT
DTSTART:20220313T080000
END:DAYLIGHT
BEGIN:STANDARD
TZOFFSETFROM:-0500
TZOFFSETTO:-0600
TZNAME:CST
DTSTART:20221106T070000
END:STANDARD
END:VTIMEZONE
BEGIN:VEVENT
DTSTART;TZID=America/Chicago:20210430T200000
DTEND;TZID=America/Chicago:20210430T233000
DTSTAMP:20260421T010221
CREATED:20210203T013419Z
LAST-MODIFIED:20210419T154805Z
UID:10000056-1619812800-1619825400@logoncafe.net
SUMMARY:Memphis' Birthday Bash w/ Generations
DESCRIPTION:Memphis’ Birthday Bash\nGenerations is headed back to the Logon!\nWeather is getting warmer and we are here to jam the cool tunes. Come out for a great time and Memphis’ birthday with good friends.\nWe have been working up a great show for you! Don’t miss this!\n$5 Cover at the door
URL:https://logoncafe.net/event/generations-classic-rock-spring-jam-2/
LOCATION:The Logon Cafe & Pub\, 3805 Calder Avenue\, Beaumont\, TX\, 77706\, United States
ATTACH;FMTTYPE=image/jpeg:https://logoncafe.net/wp-content/uploads/2020/01/81098085_2624944867792592_7794168579020029952_n-e1578331847210.jpg
END:VEVENT
BEGIN:VEVENT
DTSTART;TZID=America/Chicago:20210429T200000
DTEND;TZID=America/Chicago:20210429T235900
DTSTAMP:20260421T010221
CREATED:20200101T193050Z
LAST-MODIFIED:20210422T022149Z
UID:10001254-1619726400-1619740740@logoncafe.net
SUMMARY:The Knott Brothers
DESCRIPTION:Mark you calendars now!  The Knott Brothers will be at the Logon Cafe Saturday\, February 8th .  Classic rock\, blues\, beach music\, and maybe an original tune as well.  Drop in and party with these seasoned local musicians\, and enjoy a snack while your there.  Plus always some interesting beer on tap.  Hope to see y’all there!
URL:https://logoncafe.net/event/the-knott-brothers-2-2-2/
LOCATION:The Logon Cafe & Pub\, 3805 Calder Avenue\, Beaumont\, TX\, 77706\, United States
ATTACH;FMTTYPE=image/jpeg:https://logoncafe.net/wp-content/uploads/2019/01/43281618_1919558418349477_5017452804608884736_n-e1548197614140.jpg
END:VEVENT
BEGIN:VEVENT
DTSTART;TZID=America/Chicago:20210428T200000
DTEND;TZID=America/Chicago:20210428T230000
DTSTAMP:20260421T010221
CREATED:20251030T155404Z
LAST-MODIFIED:20251030T155404Z
UID:10004251-1619640000-1619650800@logoncafe.net
SUMMARY:Open Mic Night
DESCRIPTION:Come one and all to transform our stage into your own personal music venue! Even if you just know someone that likes to play and sing\, get them to come out and buy em a beer! \nWe’ve been hosting Open Mic every Wednesday since 1999\, so come in and join in the tradition. \nSign up is at 7:30 | No Cover \n\n 
URL:https://logoncafe.net/event/open-mic-night-51/2021-04-28/
LOCATION:The Logon Cafe & Pub\, 3805 Calder Avenue\, Beaumont\, TX\, 77706\, United States
CATEGORIES:Open Mic Night
ATTACH;FMTTYPE=image/jpeg:https://logoncafe.net/wp-content/uploads/2022/11/313067660_604791594876249_2466134981987312388_n.jpg
END:VEVENT
BEGIN:VEVENT
DTSTART;TZID=America/Chicago:20210428T200000
DTEND;TZID=America/Chicago:20210428T230000
DTSTAMP:20260421T010221
CREATED:20250303T233810Z
LAST-MODIFIED:20250303T233810Z
UID:10008036-1619640000-1619650800@logoncafe.net
SUMMARY:Open Mic Night
DESCRIPTION:Come one and all to transform our stage into your own personal music venue! Even if you just know someone that likes to play and sing\, get them to come out and buy em a beer! \nWe’ve been hosting Open Mic every Wednesday since 1999\, so come in and join in the tradition. \nSign up is at 7:30 | No Cover \n\n 
URL:https://logoncafe.net/event/open-mic-night-28/2021-04-28/
LOCATION:The Logon Cafe & Pub\, 3805 Calder Avenue\, Beaumont\, TX\, 77706\, United States
CATEGORIES:Open Mic Night
ATTACH;FMTTYPE=image/jpeg:https://logoncafe.net/wp-content/uploads/2022/11/313067660_604791594876249_2466134981987312388_n.jpg
END:VEVENT
BEGIN:VEVENT
DTSTART;TZID=America/Chicago:20210427T200000
DTEND;TZID=America/Chicago:20210427T230000
DTSTAMP:20260421T010221
CREATED:20250407T004038Z
LAST-MODIFIED:20250407T004038Z
UID:10009275-1619553600-1619564400@logoncafe.net
SUMMARY:Taco Tuesday Karaoke!
DESCRIPTION:What goes better together than tacos and booze?!! Specials start at 6. Karaoke starts at 8!$2 Street Tacos$2 Ritas$2 Well Vodka \nSing your butts off.Watch your friends act like they can sing 😉No cover wooooo.This is an all ages event.
URL:https://logoncafe.net/event/taco-tuesday-karaoke-18/2021-04-27/
LOCATION:The Logon Cafe & Pub\, 3805 Calder Avenue\, Beaumont\, TX\, 77706\, United States
ATTACH;FMTTYPE=image/jpeg:https://logoncafe.net/wp-content/uploads/2018/10/339927740_756585839328526_6857413985854363341_n-e1681230563968.jpg
END:VEVENT
BEGIN:VEVENT
DTSTART;TZID=America/Chicago:20210427T200000
DTEND;TZID=America/Chicago:20210427T230000
DTSTAMP:20260421T010221
CREATED:20240411T141711Z
LAST-MODIFIED:20240411T141712Z
UID:10012606-1619553600-1619564400@logoncafe.net
SUMMARY:Taco Tuesday Karaoke!
DESCRIPTION:What goes better together than tacos and booze?!! Specials start at 6. Karaoke starts at 8!\n$2 Street Tacos\n$2 Ritas\n$2 Well Vodka \nSing your butts off.\nWatch your friends act like they can sing 😉\nNo cover wooooo.\nThis is an all ages event.
URL:https://logoncafe.net/event/taco-tuesday-karaoke-3/2021-04-27/
LOCATION:The Logon Cafe & Pub\, 3805 Calder Avenue\, Beaumont\, TX\, 77706\, United States
ATTACH;FMTTYPE=image/jpeg:https://logoncafe.net/wp-content/uploads/2018/10/339927740_756585839328526_6857413985854363341_n-e1681230563968.jpg
END:VEVENT
BEGIN:VEVENT
DTSTART;TZID=America/Chicago:20210427T200000
DTEND;TZID=America/Chicago:20210427T230000
DTSTAMP:20260421T010221
CREATED:20181030T231335Z
LAST-MODIFIED:20230411T163019Z
UID:10000188-1619553600-1619564400@logoncafe.net
SUMMARY:Taco Tuesday Karaoke!
DESCRIPTION:What goes better together than tacos and booze?!! Specials start at 6. Karaoke starts at 8!\n$2 Street Tacos\n$2 Ritas\n$2 Well Vodka \nSing your butts off.\nWatch your friends act like they can sing 😉\nNo cover wooooo.\nThis is an all ages event.
URL:https://logoncafe.net/event/taco-tuesday-karaoke/2021-04-27/
LOCATION:The Logon Cafe & Pub\, 3805 Calder Avenue\, Beaumont\, TX\, 77706\, United States
ATTACH;FMTTYPE=image/jpeg:https://logoncafe.net/wp-content/uploads/2018/10/339927740_756585839328526_6857413985854363341_n-e1681230563968.jpg
END:VEVENT
BEGIN:VEVENT
DTSTART;TZID=America/Chicago:20210426T193000
DTEND;TZID=America/Chicago:20210426T210000
DTSTAMP:20260421T010221
CREATED:20221012T211346Z
LAST-MODIFIED:20221012T211346Z
UID:10001199-1619465400-1619470800@logoncafe.net
SUMMARY:Brainstormer Trivia Night
DESCRIPTION:Brainstormer Trivia Night is one of the funnest nights around town OK I said it so get out here and jion the fun. \nCome out for Trivia night at the Logoncafe hope you have fun! \nDo you enjoy Trivia?\nAre you competitive?\nHow about Prizes for the nightly Winners?\nHow about $2.00 Wells for 7pm to 10pm \nTrivia Rules:\nNo yelling out answers\, right or wrong. It disrupts the game and can bother other players. Up to 6 players per team are allowed. There is a 5 point penalty for a team of 7\, and a 10 point pentalty for a team of 8. No cell phones\, blackberries or any type of outside sources are allowed. Have fun!
URL:https://logoncafe.net/event/brainstormer-trivia-night-2-2019-11-25-2020-01-06-2-2020-05-25-2/2021-04-26/
LOCATION:The Logon Cafe & Pub\, 3805 Calder Avenue\, Beaumont\, TX\, 77706\, United States
ATTACH;FMTTYPE=image/jpeg:https://logoncafe.net/wp-content/uploads/2019/09/trivianight2-1000x563-e1567536697294.jpg
END:VEVENT
BEGIN:VEVENT
DTSTART;TZID=America/Chicago:20210426T193000
DTEND;TZID=America/Chicago:20210426T210000
DTSTAMP:20260421T010221
CREATED:20190912T212544Z
LAST-MODIFIED:20211015T161606Z
UID:10001139-1619465400-1619470800@logoncafe.net
SUMMARY:Brainstormer Trivia Night
DESCRIPTION:Brainstormer Trivia Night is one of the funnest nights around town OK I said it so get out here and jion the fun. \nCome out for Trivia night at the Logoncafe hope you have fun! \nDo you enjoy Trivia?\nAre you competitive?\nHow about Prizes for the nightly Winners?\nHow about $2.00 Wells for 7pm to 10pm \nTrivia Rules:\nNo yelling out answers\, right or wrong. It disrupts the game and can bother other players. Up to 6 players per team are allowed. There is a 5 point penalty for a team of 7\, and a 10 point pentalty for a team of 8. No cell phones\, blackberries or any type of outside sources are allowed. Have fun!
URL:https://logoncafe.net/event/brainstormer-trivia-night-2-2019-11-25-2020-01-06-2-2020-05-25-2/2021-04-26/
LOCATION:The Logon Cafe & Pub\, 3805 Calder Avenue\, Beaumont\, TX\, 77706\, United States
ATTACH;FMTTYPE=image/jpeg:https://logoncafe.net/wp-content/uploads/2019/09/trivianight2-1000x563-e1567536697294.jpg
END:VEVENT
BEGIN:VEVENT
DTSTART;TZID=America/Chicago:20210424T200000
DTEND;TZID=America/Chicago:20210424T233000
DTSTAMP:20260421T010221
CREATED:20210322T215451Z
LAST-MODIFIED:20210419T153803Z
UID:10000326-1619294400-1619307000@logoncafe.net
SUMMARY:Daniel Waters Piano Man
DESCRIPTION:The super talented Daniel Waters! Finally – Beaumont get’s an AMAZING piano player!!
URL:https://logoncafe.net/event/daniel-waters-piano-man-2-2/
LOCATION:The Logon Cafe & Pub\, 3805 Calder Avenue\, Beaumont\, TX\, 77706\, United States
ATTACH;FMTTYPE=image/jpeg:https://logoncafe.net/wp-content/uploads/2021/01/136112782_10158695558563567_1379601443691432188_o-e1610142234736.jpg
END:VEVENT
BEGIN:VEVENT
DTSTART;TZID=America/Chicago:20210423T193000
DTEND;TZID=America/Chicago:20210423T233000
DTSTAMP:20260421T010221
CREATED:20210331T234702Z
LAST-MODIFIED:20210419T155758Z
UID:10000631-1619206200-1619220600@logoncafe.net
SUMMARY:Rainy Kimbrough & Erik Ellington
DESCRIPTION:Rainy Kimbrough & Erik Ellington \nJoin the lovely and talented Rainy Kimbrough and our favorite lefty Erik Ellington this Friday at The Logon Cafe for a little acoustical musical mischief. 😊
URL:https://logoncafe.net/event/mark-nesmith-rainy-kimbrough-erik-ellington-3-2/
LOCATION:The Logon Cafe & Pub\, 3805 Calder Avenue\, Beaumont\, TX\, 77706\, United States
ATTACH;FMTTYPE=image/jpeg:https://logoncafe.net/wp-content/uploads/2021/03/175844772_10158949433823567_5345028023134352336_n-e1618847841851.jpg
END:VEVENT
BEGIN:VEVENT
DTSTART;TZID=America/Chicago:20210422T200000
DTEND;TZID=America/Chicago:20210422T233000
DTSTAMP:20260421T010221
CREATED:20190903T184717Z
LAST-MODIFIED:20210422T022640Z
UID:10001272-1619121600-1619134200@logoncafe.net
SUMMARY:Karaoke Thursday
DESCRIPTION:It’s Thursday and you made it past hump day. Now what to do? Come out to the Logoncafe & Pub have some fun singing Karaoke with complete strangers\, friends\, co workers\, or sit back have some drinks and have a few laughs while your friends get up and sing a song or two.
URL:https://logoncafe.net/event/karaoke-thursday-2/
LOCATION:The Logon Cafe & Pub\, 3805 Calder Avenue\, Beaumont\, TX\, 77706\, United States
ATTACH;FMTTYPE=image/jpeg:https://logoncafe.net/wp-content/uploads/2019/08/karaoke-night.jpg
END:VEVENT
BEGIN:VEVENT
DTSTART;TZID=America/Chicago:20210421T200000
DTEND;TZID=America/Chicago:20210421T230000
DTSTAMP:20260421T010221
CREATED:20251030T155404Z
LAST-MODIFIED:20251030T155404Z
UID:10012432-1619035200-1619046000@logoncafe.net
SUMMARY:Open Mic Night
DESCRIPTION:Come one and all to transform our stage into your own personal music venue! Even if you just know someone that likes to play and sing\, get them to come out and buy em a beer! \nWe’ve been hosting Open Mic every Wednesday since 1999\, so come in and join in the tradition. \nSign up is at 7:30 | No Cover \n\n 
URL:https://logoncafe.net/event/open-mic-night-51/2021-04-21/
LOCATION:The Logon Cafe & Pub\, 3805 Calder Avenue\, Beaumont\, TX\, 77706\, United States
CATEGORIES:Open Mic Night
ATTACH;FMTTYPE=image/jpeg:https://logoncafe.net/wp-content/uploads/2022/11/313067660_604791594876249_2466134981987312388_n.jpg
END:VEVENT
BEGIN:VEVENT
DTSTART;TZID=America/Chicago:20210421T200000
DTEND;TZID=America/Chicago:20210421T230000
DTSTAMP:20260421T010221
CREATED:20250303T233810Z
LAST-MODIFIED:20250303T233810Z
UID:10008035-1619035200-1619046000@logoncafe.net
SUMMARY:Open Mic Night
DESCRIPTION:Come one and all to transform our stage into your own personal music venue! Even if you just know someone that likes to play and sing\, get them to come out and buy em a beer! \nWe’ve been hosting Open Mic every Wednesday since 1999\, so come in and join in the tradition. \nSign up is at 7:30 | No Cover \n\n 
URL:https://logoncafe.net/event/open-mic-night-28/2021-04-21/
LOCATION:The Logon Cafe & Pub\, 3805 Calder Avenue\, Beaumont\, TX\, 77706\, United States
CATEGORIES:Open Mic Night
ATTACH;FMTTYPE=image/jpeg:https://logoncafe.net/wp-content/uploads/2022/11/313067660_604791594876249_2466134981987312388_n.jpg
END:VEVENT
BEGIN:VEVENT
DTSTART;TZID=America/Chicago:20210420T200000
DTEND;TZID=America/Chicago:20210420T230000
DTSTAMP:20260421T010221
CREATED:20250407T004038Z
LAST-MODIFIED:20250407T004038Z
UID:10009274-1618948800-1618959600@logoncafe.net
SUMMARY:Taco Tuesday Karaoke!
DESCRIPTION:What goes better together than tacos and booze?!! Specials start at 6. Karaoke starts at 8!$2 Street Tacos$2 Ritas$2 Well Vodka \nSing your butts off.Watch your friends act like they can sing 😉No cover wooooo.This is an all ages event.
URL:https://logoncafe.net/event/taco-tuesday-karaoke-18/2021-04-20/
LOCATION:The Logon Cafe & Pub\, 3805 Calder Avenue\, Beaumont\, TX\, 77706\, United States
ATTACH;FMTTYPE=image/jpeg:https://logoncafe.net/wp-content/uploads/2018/10/339927740_756585839328526_6857413985854363341_n-e1681230563968.jpg
END:VEVENT
BEGIN:VEVENT
DTSTART;TZID=America/Chicago:20210420T200000
DTEND;TZID=America/Chicago:20210420T230000
DTSTAMP:20260421T010221
CREATED:20240411T141711Z
LAST-MODIFIED:20240411T141712Z
UID:10012605-1618948800-1618959600@logoncafe.net
SUMMARY:Taco Tuesday Karaoke!
DESCRIPTION:What goes better together than tacos and booze?!! Specials start at 6. Karaoke starts at 8!\n$2 Street Tacos\n$2 Ritas\n$2 Well Vodka \nSing your butts off.\nWatch your friends act like they can sing 😉\nNo cover wooooo.\nThis is an all ages event.
URL:https://logoncafe.net/event/taco-tuesday-karaoke-3/2021-04-20/
LOCATION:The Logon Cafe & Pub\, 3805 Calder Avenue\, Beaumont\, TX\, 77706\, United States
ATTACH;FMTTYPE=image/jpeg:https://logoncafe.net/wp-content/uploads/2018/10/339927740_756585839328526_6857413985854363341_n-e1681230563968.jpg
END:VEVENT
BEGIN:VEVENT
DTSTART;TZID=America/Chicago:20210420T200000
DTEND;TZID=America/Chicago:20210420T230000
DTSTAMP:20260421T010221
CREATED:20181030T231335Z
LAST-MODIFIED:20230411T163019Z
UID:10000187-1618948800-1618959600@logoncafe.net
SUMMARY:Taco Tuesday Karaoke!
DESCRIPTION:What goes better together than tacos and booze?!! Specials start at 6. Karaoke starts at 8!\n$2 Street Tacos\n$2 Ritas\n$2 Well Vodka \nSing your butts off.\nWatch your friends act like they can sing 😉\nNo cover wooooo.\nThis is an all ages event.
URL:https://logoncafe.net/event/taco-tuesday-karaoke/2021-04-20/
LOCATION:The Logon Cafe & Pub\, 3805 Calder Avenue\, Beaumont\, TX\, 77706\, United States
ATTACH;FMTTYPE=image/jpeg:https://logoncafe.net/wp-content/uploads/2018/10/339927740_756585839328526_6857413985854363341_n-e1681230563968.jpg
END:VEVENT
BEGIN:VEVENT
DTSTART;TZID=America/Chicago:20210419T193000
DTEND;TZID=America/Chicago:20210419T210000
DTSTAMP:20260421T010221
CREATED:20221012T211346Z
LAST-MODIFIED:20221012T211346Z
UID:10001198-1618860600-1618866000@logoncafe.net
SUMMARY:Brainstormer Trivia Night
DESCRIPTION:Brainstormer Trivia Night is one of the funnest nights around town OK I said it so get out here and jion the fun. \nCome out for Trivia night at the Logoncafe hope you have fun! \nDo you enjoy Trivia?\nAre you competitive?\nHow about Prizes for the nightly Winners?\nHow about $2.00 Wells for 7pm to 10pm \nTrivia Rules:\nNo yelling out answers\, right or wrong. It disrupts the game and can bother other players. Up to 6 players per team are allowed. There is a 5 point penalty for a team of 7\, and a 10 point pentalty for a team of 8. No cell phones\, blackberries or any type of outside sources are allowed. Have fun!
URL:https://logoncafe.net/event/brainstormer-trivia-night-2-2019-11-25-2020-01-06-2-2020-05-25-2/2021-04-19/
LOCATION:The Logon Cafe & Pub\, 3805 Calder Avenue\, Beaumont\, TX\, 77706\, United States
ATTACH;FMTTYPE=image/jpeg:https://logoncafe.net/wp-content/uploads/2019/09/trivianight2-1000x563-e1567536697294.jpg
END:VEVENT
BEGIN:VEVENT
DTSTART;TZID=America/Chicago:20210419T193000
DTEND;TZID=America/Chicago:20210419T210000
DTSTAMP:20260421T010221
CREATED:20190912T212544Z
LAST-MODIFIED:20211015T161606Z
UID:10001138-1618860600-1618866000@logoncafe.net
SUMMARY:Brainstormer Trivia Night
DESCRIPTION:Brainstormer Trivia Night is one of the funnest nights around town OK I said it so get out here and jion the fun. \nCome out for Trivia night at the Logoncafe hope you have fun! \nDo you enjoy Trivia?\nAre you competitive?\nHow about Prizes for the nightly Winners?\nHow about $2.00 Wells for 7pm to 10pm \nTrivia Rules:\nNo yelling out answers\, right or wrong. It disrupts the game and can bother other players. Up to 6 players per team are allowed. There is a 5 point penalty for a team of 7\, and a 10 point pentalty for a team of 8. No cell phones\, blackberries or any type of outside sources are allowed. Have fun!
URL:https://logoncafe.net/event/brainstormer-trivia-night-2-2019-11-25-2020-01-06-2-2020-05-25-2/2021-04-19/
LOCATION:The Logon Cafe & Pub\, 3805 Calder Avenue\, Beaumont\, TX\, 77706\, United States
ATTACH;FMTTYPE=image/jpeg:https://logoncafe.net/wp-content/uploads/2019/09/trivianight2-1000x563-e1567536697294.jpg
END:VEVENT
BEGIN:VEVENT
DTSTART;TZID=America/Chicago:20210417T200000
DTEND;TZID=America/Chicago:20210417T235900
DTSTAMP:20260421T010221
CREATED:20210316T193843Z
LAST-MODIFIED:20210316T193844Z
UID:10000330-1618689600-1618703940@logoncafe.net
SUMMARY:The Bill Brooks Band
DESCRIPTION:Back by popular demand is the Bill Brooks Band! A night of great music to go along with great food\, drinks\, and friends. Make plans NOW to join us and come rock out with us!
URL:https://logoncafe.net/event/the-bill-brooks-band/
LOCATION:The Logon Cafe & Pub\, 3805 Calder Avenue\, Beaumont\, TX\, 77706\, United States
ATTACH;FMTTYPE=image/jpeg:https://logoncafe.net/wp-content/uploads/2021/03/159795688_10158864875833567_1669301061003809506_n-e1615923482815.jpg
END:VEVENT
BEGIN:VEVENT
DTSTART;TZID=America/Chicago:20210416T200000
DTEND;TZID=America/Chicago:20210416T233000
DTSTAMP:20260421T010221
CREATED:20210308T230105Z
LAST-MODIFIED:20210407T211503Z
UID:10000632-1618603200-1618615800@logoncafe.net
SUMMARY:Blind Lemon Hemmons
DESCRIPTION:Blind Lemon Hemmons will be performing an eclectic acoustic variety from Bob Dylan to Band of Heathens….and a healthy dose of original songs from his life as a young Lemon.
URL:https://logoncafe.net/event/andy-hemmings-and-the-gang-2/
LOCATION:The Logon Cafe & Pub\, 3805 Calder Avenue\, Beaumont\, TX\, 77706\, United States
ATTACH;FMTTYPE=image/jpeg:https://logoncafe.net/wp-content/uploads/2021/03/163980380_10215784539481441_8518189574734225116_o.jpg
END:VEVENT
BEGIN:VEVENT
DTSTART;TZID=America/Chicago:20210415T080000
DTEND;TZID=America/Chicago:20210415T170000
DTSTAMP:20260421T010221
CREATED:20210422T024040Z
LAST-MODIFIED:20210422T024040Z
UID:10001227-1618473600-1618506000@logoncafe.net
SUMMARY:It's time to come out to the Logoncafe & Pub for a Great time
DESCRIPTION:
URL:https://logoncafe.net/event/its-time-to-come-out-to-the-logoncafe-pub-for-a-great-time/
LOCATION:The Logon Cafe & Pub\, 3805 Calder Avenue\, Beaumont\, TX\, 77706\, United States
END:VEVENT
BEGIN:VEVENT
DTSTART;TZID=America/Chicago:20210414T200000
DTEND;TZID=America/Chicago:20210414T230000
DTSTAMP:20260421T010221
CREATED:20251030T155404Z
LAST-MODIFIED:20251030T155404Z
UID:10012431-1618430400-1618441200@logoncafe.net
SUMMARY:Open Mic Night
DESCRIPTION:Come one and all to transform our stage into your own personal music venue! Even if you just know someone that likes to play and sing\, get them to come out and buy em a beer! \nWe’ve been hosting Open Mic every Wednesday since 1999\, so come in and join in the tradition. \nSign up is at 7:30 | No Cover \n\n 
URL:https://logoncafe.net/event/open-mic-night-51/2021-04-14/
LOCATION:The Logon Cafe & Pub\, 3805 Calder Avenue\, Beaumont\, TX\, 77706\, United States
CATEGORIES:Open Mic Night
ATTACH;FMTTYPE=image/jpeg:https://logoncafe.net/wp-content/uploads/2022/11/313067660_604791594876249_2466134981987312388_n.jpg
END:VEVENT
BEGIN:VEVENT
DTSTART;TZID=America/Chicago:20210414T200000
DTEND;TZID=America/Chicago:20210414T230000
DTSTAMP:20260421T010221
CREATED:20250303T233810Z
LAST-MODIFIED:20250303T233810Z
UID:10008034-1618430400-1618441200@logoncafe.net
SUMMARY:Open Mic Night
DESCRIPTION:Come one and all to transform our stage into your own personal music venue! Even if you just know someone that likes to play and sing\, get them to come out and buy em a beer! \nWe’ve been hosting Open Mic every Wednesday since 1999\, so come in and join in the tradition. \nSign up is at 7:30 | No Cover \n\n 
URL:https://logoncafe.net/event/open-mic-night-28/2021-04-14/
LOCATION:The Logon Cafe & Pub\, 3805 Calder Avenue\, Beaumont\, TX\, 77706\, United States
CATEGORIES:Open Mic Night
ATTACH;FMTTYPE=image/jpeg:https://logoncafe.net/wp-content/uploads/2022/11/313067660_604791594876249_2466134981987312388_n.jpg
END:VEVENT
BEGIN:VEVENT
DTSTART;TZID=America/Chicago:20210413T200000
DTEND;TZID=America/Chicago:20210413T230000
DTSTAMP:20260421T010221
CREATED:20250407T004038Z
LAST-MODIFIED:20250407T004038Z
UID:10009273-1618344000-1618354800@logoncafe.net
SUMMARY:Taco Tuesday Karaoke!
DESCRIPTION:What goes better together than tacos and booze?!! Specials start at 6. Karaoke starts at 8!$2 Street Tacos$2 Ritas$2 Well Vodka \nSing your butts off.Watch your friends act like they can sing 😉No cover wooooo.This is an all ages event.
URL:https://logoncafe.net/event/taco-tuesday-karaoke-18/2021-04-13/
LOCATION:The Logon Cafe & Pub\, 3805 Calder Avenue\, Beaumont\, TX\, 77706\, United States
ATTACH;FMTTYPE=image/jpeg:https://logoncafe.net/wp-content/uploads/2018/10/339927740_756585839328526_6857413985854363341_n-e1681230563968.jpg
END:VEVENT
BEGIN:VEVENT
DTSTART;TZID=America/Chicago:20210413T200000
DTEND;TZID=America/Chicago:20210413T230000
DTSTAMP:20260421T010221
CREATED:20240411T141711Z
LAST-MODIFIED:20240411T141712Z
UID:10012604-1618344000-1618354800@logoncafe.net
SUMMARY:Taco Tuesday Karaoke!
DESCRIPTION:What goes better together than tacos and booze?!! Specials start at 6. Karaoke starts at 8!\n$2 Street Tacos\n$2 Ritas\n$2 Well Vodka \nSing your butts off.\nWatch your friends act like they can sing 😉\nNo cover wooooo.\nThis is an all ages event.
URL:https://logoncafe.net/event/taco-tuesday-karaoke-3/2021-04-13/
LOCATION:The Logon Cafe & Pub\, 3805 Calder Avenue\, Beaumont\, TX\, 77706\, United States
ATTACH;FMTTYPE=image/jpeg:https://logoncafe.net/wp-content/uploads/2018/10/339927740_756585839328526_6857413985854363341_n-e1681230563968.jpg
END:VEVENT
BEGIN:VEVENT
DTSTART;TZID=America/Chicago:20210413T200000
DTEND;TZID=America/Chicago:20210413T230000
DTSTAMP:20260421T010221
CREATED:20181030T231335Z
LAST-MODIFIED:20230411T163019Z
UID:10000186-1618344000-1618354800@logoncafe.net
SUMMARY:Taco Tuesday Karaoke!
DESCRIPTION:What goes better together than tacos and booze?!! Specials start at 6. Karaoke starts at 8!\n$2 Street Tacos\n$2 Ritas\n$2 Well Vodka \nSing your butts off.\nWatch your friends act like they can sing 😉\nNo cover wooooo.\nThis is an all ages event.
URL:https://logoncafe.net/event/taco-tuesday-karaoke/2021-04-13/
LOCATION:The Logon Cafe & Pub\, 3805 Calder Avenue\, Beaumont\, TX\, 77706\, United States
ATTACH;FMTTYPE=image/jpeg:https://logoncafe.net/wp-content/uploads/2018/10/339927740_756585839328526_6857413985854363341_n-e1681230563968.jpg
END:VEVENT
BEGIN:VEVENT
DTSTART;TZID=America/Chicago:20210412T193000
DTEND;TZID=America/Chicago:20210412T210000
DTSTAMP:20260421T010221
CREATED:20221012T211346Z
LAST-MODIFIED:20221012T211346Z
UID:10001197-1618255800-1618261200@logoncafe.net
SUMMARY:Brainstormer Trivia Night
DESCRIPTION:Brainstormer Trivia Night is one of the funnest nights around town OK I said it so get out here and jion the fun. \nCome out for Trivia night at the Logoncafe hope you have fun! \nDo you enjoy Trivia?\nAre you competitive?\nHow about Prizes for the nightly Winners?\nHow about $2.00 Wells for 7pm to 10pm \nTrivia Rules:\nNo yelling out answers\, right or wrong. It disrupts the game and can bother other players. Up to 6 players per team are allowed. There is a 5 point penalty for a team of 7\, and a 10 point pentalty for a team of 8. No cell phones\, blackberries or any type of outside sources are allowed. Have fun!
URL:https://logoncafe.net/event/brainstormer-trivia-night-2-2019-11-25-2020-01-06-2-2020-05-25-2/2021-04-12/
LOCATION:The Logon Cafe & Pub\, 3805 Calder Avenue\, Beaumont\, TX\, 77706\, United States
ATTACH;FMTTYPE=image/jpeg:https://logoncafe.net/wp-content/uploads/2019/09/trivianight2-1000x563-e1567536697294.jpg
END:VEVENT
BEGIN:VEVENT
DTSTART;TZID=America/Chicago:20210412T193000
DTEND;TZID=America/Chicago:20210412T210000
DTSTAMP:20260421T010221
CREATED:20190912T212544Z
LAST-MODIFIED:20211015T161606Z
UID:10001137-1618255800-1618261200@logoncafe.net
SUMMARY:Brainstormer Trivia Night
DESCRIPTION:Brainstormer Trivia Night is one of the funnest nights around town OK I said it so get out here and jion the fun. \nCome out for Trivia night at the Logoncafe hope you have fun! \nDo you enjoy Trivia?\nAre you competitive?\nHow about Prizes for the nightly Winners?\nHow about $2.00 Wells for 7pm to 10pm \nTrivia Rules:\nNo yelling out answers\, right or wrong. It disrupts the game and can bother other players. Up to 6 players per team are allowed. There is a 5 point penalty for a team of 7\, and a 10 point pentalty for a team of 8. No cell phones\, blackberries or any type of outside sources are allowed. Have fun!
URL:https://logoncafe.net/event/brainstormer-trivia-night-2-2019-11-25-2020-01-06-2-2020-05-25-2/2021-04-12/
LOCATION:The Logon Cafe & Pub\, 3805 Calder Avenue\, Beaumont\, TX\, 77706\, United States
ATTACH;FMTTYPE=image/jpeg:https://logoncafe.net/wp-content/uploads/2019/09/trivianight2-1000x563-e1567536697294.jpg
END:VEVENT
BEGIN:VEVENT
DTSTART;TZID=America/Chicago:20210410T200000
DTEND;TZID=America/Chicago:20210410T233000
DTSTAMP:20260421T010221
CREATED:20210324T210656Z
LAST-MODIFIED:20210324T210656Z
UID:10001258-1618084800-1618097400@logoncafe.net
SUMMARY:Pug Johnson & the Hounds
DESCRIPTION:Kickass Gulf Coast Southern excellence.
URL:https://logoncafe.net/event/pug-johnson-the-hounds/
LOCATION:The Logon Cafe & Pub\, 3805 Calder Avenue\, Beaumont\, TX\, 77706\, United States
ATTACH;FMTTYPE=image/jpeg:https://logoncafe.net/wp-content/uploads/2021/03/163922319_10158892192813567_740503331769552988_n-e1616620001185.jpg
END:VEVENT
END:VCALENDAR