BEGIN:VCALENDAR
VERSION:2.0
PRODID:-//The Logon Cafe and Pub - ECPv6.15.20//NONSGML v1.0//EN
CALSCALE:GREGORIAN
METHOD:PUBLISH
X-WR-CALNAME:The Logon Cafe and Pub
X-ORIGINAL-URL:https://logoncafe.net
X-WR-CALDESC:Events for The Logon Cafe and Pub
REFRESH-INTERVAL;VALUE=DURATION:PT1H
X-Robots-Tag:noindex
X-PUBLISHED-TTL:PT1H
BEGIN:VTIMEZONE
TZID:America/Chicago
BEGIN:DAYLIGHT
TZOFFSETFROM:-0600
TZOFFSETTO:-0500
TZNAME:CDT
DTSTART:20200308T080000
END:DAYLIGHT
BEGIN:STANDARD
TZOFFSETFROM:-0500
TZOFFSETTO:-0600
TZNAME:CST
DTSTART:20201101T070000
END:STANDARD
BEGIN:DAYLIGHT
TZOFFSETFROM:-0600
TZOFFSETTO:-0500
TZNAME:CDT
DTSTART:20210314T080000
END:DAYLIGHT
BEGIN:STANDARD
TZOFFSETFROM:-0500
TZOFFSETTO:-0600
TZNAME:CST
DTSTART:20211107T070000
END:STANDARD
BEGIN:DAYLIGHT
TZOFFSETFROM:-0600
TZOFFSETTO:-0500
TZNAME:CDT
DTSTART:20220313T080000
END:DAYLIGHT
BEGIN:STANDARD
TZOFFSETFROM:-0500
TZOFFSETTO:-0600
TZNAME:CST
DTSTART:20221106T070000
END:STANDARD
END:VTIMEZONE
BEGIN:VEVENT
DTSTART;TZID=America/Chicago:20210405T193000
DTEND;TZID=America/Chicago:20210405T210000
DTSTAMP:20260421T150222
CREATED:20221012T211346Z
LAST-MODIFIED:20221012T211346Z
UID:10001196-1617651000-1617656400@logoncafe.net
SUMMARY:Brainstormer Trivia Night
DESCRIPTION:Brainstormer Trivia Night is one of the funnest nights around town OK I said it so get out here and jion the fun. \nCome out for Trivia night at the Logoncafe hope you have fun! \nDo you enjoy Trivia?\nAre you competitive?\nHow about Prizes for the nightly Winners?\nHow about $2.00 Wells for 7pm to 10pm \nTrivia Rules:\nNo yelling out answers\, right or wrong. It disrupts the game and can bother other players. Up to 6 players per team are allowed. There is a 5 point penalty for a team of 7\, and a 10 point pentalty for a team of 8. No cell phones\, blackberries or any type of outside sources are allowed. Have fun!
URL:https://logoncafe.net/event/brainstormer-trivia-night-2-2019-11-25-2020-01-06-2-2020-05-25-2/2021-04-05/
LOCATION:The Logon Cafe & Pub\, 3805 Calder Avenue\, Beaumont\, TX\, 77706\, United States
ATTACH;FMTTYPE=image/jpeg:https://logoncafe.net/wp-content/uploads/2019/09/trivianight2-1000x563-e1567536697294.jpg
END:VEVENT
BEGIN:VEVENT
DTSTART;TZID=America/Chicago:20210405T193000
DTEND;TZID=America/Chicago:20210405T210000
DTSTAMP:20260421T150222
CREATED:20190912T212544Z
LAST-MODIFIED:20211015T161606Z
UID:10001136-1617651000-1617656400@logoncafe.net
SUMMARY:Brainstormer Trivia Night
DESCRIPTION:Brainstormer Trivia Night is one of the funnest nights around town OK I said it so get out here and jion the fun. \nCome out for Trivia night at the Logoncafe hope you have fun! \nDo you enjoy Trivia?\nAre you competitive?\nHow about Prizes for the nightly Winners?\nHow about $2.00 Wells for 7pm to 10pm \nTrivia Rules:\nNo yelling out answers\, right or wrong. It disrupts the game and can bother other players. Up to 6 players per team are allowed. There is a 5 point penalty for a team of 7\, and a 10 point pentalty for a team of 8. No cell phones\, blackberries or any type of outside sources are allowed. Have fun!
URL:https://logoncafe.net/event/brainstormer-trivia-night-2-2019-11-25-2020-01-06-2-2020-05-25-2/2021-04-05/
LOCATION:The Logon Cafe & Pub\, 3805 Calder Avenue\, Beaumont\, TX\, 77706\, United States
ATTACH;FMTTYPE=image/jpeg:https://logoncafe.net/wp-content/uploads/2019/09/trivianight2-1000x563-e1567536697294.jpg
END:VEVENT
BEGIN:VEVENT
DTSTART;TZID=America/Chicago:20210405T180000
DTEND;TZID=America/Chicago:20210405T190000
DTSTAMP:20260421T150222
CREATED:20181202T172057Z
LAST-MODIFIED:20240430T004354Z
UID:10000700-1617645600-1617649200@logoncafe.net
SUMMARY:SETX Local BeeKeepers Meeting
DESCRIPTION:Please join us @ The LogOn Cafe every 1st Monday of the month – we’re having the Setx Local Beekeepers meeting at 6pm. Beekeepers from all over the area gather to discuss everything you need to know about keeping bees. Come catch the buzz! This is a free event ♥
URL:https://logoncafe.net/event/setx-local-beekeepers-meeting/2021-04-05/
LOCATION:The Logon Cafe & Pub\, 3805 Calder Avenue\, Beaumont\, TX\, 77706\, United States
ATTACH;FMTTYPE=image/jpeg:https://logoncafe.net/wp-content/uploads/2018/12/setx-beekeepers-meeting-e1682469430874.jpg
END:VEVENT
BEGIN:VEVENT
DTSTART;TZID=America/Chicago:20210404T080000
DTEND;TZID=America/Chicago:20210404T170000
DTSTAMP:20260421T150222
CREATED:20210422T023527Z
LAST-MODIFIED:20210422T023655Z
UID:10001253-1617523200-1617555600@logoncafe.net
SUMMARY:Have you tried the Chili?  Best in town
DESCRIPTION:
URL:https://logoncafe.net/event/come-out-to-the-logon-and-join-us-for-a-great-night/
LOCATION:The Logon Cafe & Pub\, 3805 Calder Avenue\, Beaumont\, TX\, 77706\, United States
END:VEVENT
BEGIN:VEVENT
DTSTART;TZID=America/Chicago:20210403T200000
DTEND;TZID=America/Chicago:20210403T233000
DTSTAMP:20260421T150222
CREATED:20210305T211238Z
LAST-MODIFIED:20210331T235132Z
UID:10001260-1617480000-1617492600@logoncafe.net
SUMMARY:Saturday Karaoke PARTY
DESCRIPTION:Saturday Karaoke PARTY\nGet here.\nSing your butts off.\nWatch your friends act like they can sing 😉\nNo cover wooooo.
URL:https://logoncafe.net/event/saturday-karaoke-party-6-2/
LOCATION:The Logon Cafe & Pub\, 3805 Calder Avenue\, Beaumont\, TX\, 77706\, United States
ATTACH;FMTTYPE=image/jpeg:https://logoncafe.net/wp-content/uploads/2018/10/Karaoke-Party-scaled.jpg
END:VEVENT
BEGIN:VEVENT
DTSTART;TZID=America/Chicago:20210402T200000
DTEND;TZID=America/Chicago:20210402T233000
DTSTAMP:20260421T150222
CREATED:20210322T215451Z
LAST-MODIFIED:20210331T234946Z
UID:10001259-1617393600-1617406200@logoncafe.net
SUMMARY:Daniel Waters Piano Man
DESCRIPTION:The super talented Daniel Waters! Finally – Beaumont get’s an AMAZING piano player!!
URL:https://logoncafe.net/event/daniel-waters-piano-man-2/
LOCATION:The Logon Cafe & Pub\, 3805 Calder Avenue\, Beaumont\, TX\, 77706\, United States
ATTACH;FMTTYPE=image/jpeg:https://logoncafe.net/wp-content/uploads/2021/01/136112782_10158695558563567_1379601443691432188_o-e1610142234736.jpg
END:VEVENT
BEGIN:VEVENT
DTSTART;TZID=America/Chicago:20210401T200000
DTEND;TZID=America/Chicago:20210401T233000
DTSTAMP:20260421T150222
CREATED:20210331T234702Z
LAST-MODIFIED:20210331T234702Z
UID:10000633-1617307200-1617319800@logoncafe.net
SUMMARY:Mark Nesmith\, Rainy Kimbrough & Erik Ellington
DESCRIPTION:Mark Nesmith\, Rainy Kimbrough & Erik Ellington \nJoin Mark Nesmith along with the lovely and talented Rainy Kimbrough and our favorite lefty Erik Ellington this Thursday at The Logon Cafe for a little acoustical musical mischief. 😊
URL:https://logoncafe.net/event/mark-nesmith-rainy-kimbrough-erik-ellington-3/
LOCATION:The Logon Cafe & Pub\, 3805 Calder Avenue\, Beaumont\, TX\, 77706\, United States
ATTACH;FMTTYPE=image/jpeg:https://logoncafe.net/wp-content/uploads/2021/03/134379296_10158694662338567_164518306888169942_o-e1617234399847.jpg
END:VEVENT
BEGIN:VEVENT
DTSTART;TZID=America/Chicago:20210331T200000
DTEND;TZID=America/Chicago:20210331T230000
DTSTAMP:20260421T150222
CREATED:20251030T155404Z
LAST-MODIFIED:20251030T155404Z
UID:10012429-1617220800-1617231600@logoncafe.net
SUMMARY:Open Mic Night
DESCRIPTION:Come one and all to transform our stage into your own personal music venue! Even if you just know someone that likes to play and sing\, get them to come out and buy em a beer! \nWe’ve been hosting Open Mic every Wednesday since 1999\, so come in and join in the tradition. \nSign up is at 7:30 | No Cover \n\n 
URL:https://logoncafe.net/event/open-mic-night-51/2021-03-31/
LOCATION:The Logon Cafe & Pub\, 3805 Calder Avenue\, Beaumont\, TX\, 77706\, United States
CATEGORIES:Open Mic Night
ATTACH;FMTTYPE=image/jpeg:https://logoncafe.net/wp-content/uploads/2022/11/313067660_604791594876249_2466134981987312388_n.jpg
END:VEVENT
BEGIN:VEVENT
DTSTART;TZID=America/Chicago:20210331T200000
DTEND;TZID=America/Chicago:20210331T230000
DTSTAMP:20260421T150222
CREATED:20250303T233810Z
LAST-MODIFIED:20250303T233810Z
UID:10008032-1617220800-1617231600@logoncafe.net
SUMMARY:Open Mic Night
DESCRIPTION:Come one and all to transform our stage into your own personal music venue! Even if you just know someone that likes to play and sing\, get them to come out and buy em a beer! \nWe’ve been hosting Open Mic every Wednesday since 1999\, so come in and join in the tradition. \nSign up is at 7:30 | No Cover \n\n 
URL:https://logoncafe.net/event/open-mic-night-28/2021-03-31/
LOCATION:The Logon Cafe & Pub\, 3805 Calder Avenue\, Beaumont\, TX\, 77706\, United States
CATEGORIES:Open Mic Night
ATTACH;FMTTYPE=image/jpeg:https://logoncafe.net/wp-content/uploads/2022/11/313067660_604791594876249_2466134981987312388_n.jpg
END:VEVENT
BEGIN:VEVENT
DTSTART;TZID=America/Chicago:20210330T200000
DTEND;TZID=America/Chicago:20210330T230000
DTSTAMP:20260421T150222
CREATED:20250407T004038Z
LAST-MODIFIED:20250407T004038Z
UID:10009271-1617134400-1617145200@logoncafe.net
SUMMARY:Taco Tuesday Karaoke!
DESCRIPTION:What goes better together than tacos and booze?!! Specials start at 6. Karaoke starts at 8!$2 Street Tacos$2 Ritas$2 Well Vodka \nSing your butts off.Watch your friends act like they can sing 😉No cover wooooo.This is an all ages event.
URL:https://logoncafe.net/event/taco-tuesday-karaoke-18/2021-03-30/
LOCATION:The Logon Cafe & Pub\, 3805 Calder Avenue\, Beaumont\, TX\, 77706\, United States
ATTACH;FMTTYPE=image/jpeg:https://logoncafe.net/wp-content/uploads/2018/10/339927740_756585839328526_6857413985854363341_n-e1681230563968.jpg
END:VEVENT
BEGIN:VEVENT
DTSTART;TZID=America/Chicago:20210330T200000
DTEND;TZID=America/Chicago:20210330T230000
DTSTAMP:20260421T150222
CREATED:20240411T141711Z
LAST-MODIFIED:20240411T141712Z
UID:10012602-1617134400-1617145200@logoncafe.net
SUMMARY:Taco Tuesday Karaoke!
DESCRIPTION:What goes better together than tacos and booze?!! Specials start at 6. Karaoke starts at 8!\n$2 Street Tacos\n$2 Ritas\n$2 Well Vodka \nSing your butts off.\nWatch your friends act like they can sing 😉\nNo cover wooooo.\nThis is an all ages event.
URL:https://logoncafe.net/event/taco-tuesday-karaoke-3/2021-03-30/
LOCATION:The Logon Cafe & Pub\, 3805 Calder Avenue\, Beaumont\, TX\, 77706\, United States
ATTACH;FMTTYPE=image/jpeg:https://logoncafe.net/wp-content/uploads/2018/10/339927740_756585839328526_6857413985854363341_n-e1681230563968.jpg
END:VEVENT
BEGIN:VEVENT
DTSTART;TZID=America/Chicago:20210330T200000
DTEND;TZID=America/Chicago:20210330T230000
DTSTAMP:20260421T150222
CREATED:20181030T231335Z
LAST-MODIFIED:20230411T163019Z
UID:10000184-1617134400-1617145200@logoncafe.net
SUMMARY:Taco Tuesday Karaoke!
DESCRIPTION:What goes better together than tacos and booze?!! Specials start at 6. Karaoke starts at 8!\n$2 Street Tacos\n$2 Ritas\n$2 Well Vodka \nSing your butts off.\nWatch your friends act like they can sing 😉\nNo cover wooooo.\nThis is an all ages event.
URL:https://logoncafe.net/event/taco-tuesday-karaoke/2021-03-30/
LOCATION:The Logon Cafe & Pub\, 3805 Calder Avenue\, Beaumont\, TX\, 77706\, United States
ATTACH;FMTTYPE=image/jpeg:https://logoncafe.net/wp-content/uploads/2018/10/339927740_756585839328526_6857413985854363341_n-e1681230563968.jpg
END:VEVENT
BEGIN:VEVENT
DTSTART;TZID=America/Chicago:20210329T193000
DTEND;TZID=America/Chicago:20210329T210000
DTSTAMP:20260421T150222
CREATED:20221012T211346Z
LAST-MODIFIED:20221012T211346Z
UID:10001195-1617046200-1617051600@logoncafe.net
SUMMARY:Brainstormer Trivia Night
DESCRIPTION:Brainstormer Trivia Night is one of the funnest nights around town OK I said it so get out here and jion the fun. \nCome out for Trivia night at the Logoncafe hope you have fun! \nDo you enjoy Trivia?\nAre you competitive?\nHow about Prizes for the nightly Winners?\nHow about $2.00 Wells for 7pm to 10pm \nTrivia Rules:\nNo yelling out answers\, right or wrong. It disrupts the game and can bother other players. Up to 6 players per team are allowed. There is a 5 point penalty for a team of 7\, and a 10 point pentalty for a team of 8. No cell phones\, blackberries or any type of outside sources are allowed. Have fun!
URL:https://logoncafe.net/event/brainstormer-trivia-night-2-2019-11-25-2020-01-06-2-2020-05-25-2/2021-03-29/
LOCATION:The Logon Cafe & Pub\, 3805 Calder Avenue\, Beaumont\, TX\, 77706\, United States
ATTACH;FMTTYPE=image/jpeg:https://logoncafe.net/wp-content/uploads/2019/09/trivianight2-1000x563-e1567536697294.jpg
END:VEVENT
BEGIN:VEVENT
DTSTART;TZID=America/Chicago:20210329T193000
DTEND;TZID=America/Chicago:20210329T210000
DTSTAMP:20260421T150222
CREATED:20190912T212544Z
LAST-MODIFIED:20211015T161606Z
UID:10001135-1617046200-1617051600@logoncafe.net
SUMMARY:Brainstormer Trivia Night
DESCRIPTION:Brainstormer Trivia Night is one of the funnest nights around town OK I said it so get out here and jion the fun. \nCome out for Trivia night at the Logoncafe hope you have fun! \nDo you enjoy Trivia?\nAre you competitive?\nHow about Prizes for the nightly Winners?\nHow about $2.00 Wells for 7pm to 10pm \nTrivia Rules:\nNo yelling out answers\, right or wrong. It disrupts the game and can bother other players. Up to 6 players per team are allowed. There is a 5 point penalty for a team of 7\, and a 10 point pentalty for a team of 8. No cell phones\, blackberries or any type of outside sources are allowed. Have fun!
URL:https://logoncafe.net/event/brainstormer-trivia-night-2-2019-11-25-2020-01-06-2-2020-05-25-2/2021-03-29/
LOCATION:The Logon Cafe & Pub\, 3805 Calder Avenue\, Beaumont\, TX\, 77706\, United States
ATTACH;FMTTYPE=image/jpeg:https://logoncafe.net/wp-content/uploads/2019/09/trivianight2-1000x563-e1567536697294.jpg
END:VEVENT
BEGIN:VEVENT
DTSTART;TZID=America/Chicago:20210327T200000
DTEND;TZID=America/Chicago:20210327T233000
DTSTAMP:20260421T150222
CREATED:20210322T215451Z
LAST-MODIFIED:20210322T215451Z
UID:10001255-1616875200-1616887800@logoncafe.net
SUMMARY:Daniel Waters Piano Man
DESCRIPTION:The super talented Daniel Waters! Finally – Beaumont get’s an AMAZING piano player!!
URL:https://logoncafe.net/event/daniel-waters-piano-man/
LOCATION:The Logon Cafe & Pub\, 3805 Calder Avenue\, Beaumont\, TX\, 77706\, United States
ATTACH;FMTTYPE=image/jpeg:https://logoncafe.net/wp-content/uploads/2021/01/136112782_10158695558563567_1379601443691432188_o-e1610142234736.jpg
END:VEVENT
BEGIN:VEVENT
DTSTART;TZID=America/Chicago:20210326T200000
DTEND;TZID=America/Chicago:20210326T233000
DTSTAMP:20260421T150222
CREATED:20210308T230105Z
LAST-MODIFIED:20210322T205815Z
UID:10000057-1616788800-1616801400@logoncafe.net
SUMMARY:Blind Lemon Hemmons
DESCRIPTION:Blind Lemon Hemmons will be performing an eclectic acoustic variety from Bob Dylan to Band of Heathens….and a healthy dose of original songs from his life as a young Lemon.
URL:https://logoncafe.net/event/andy-hemmings-and-the-gang/
LOCATION:The Logon Cafe & Pub\, 3805 Calder Avenue\, Beaumont\, TX\, 77706\, United States
ATTACH;FMTTYPE=image/jpeg:https://logoncafe.net/wp-content/uploads/2021/03/163980380_10215784539481441_8518189574734225116_o.jpg
END:VEVENT
BEGIN:VEVENT
DTSTART;TZID=America/Chicago:20210325T200000
DTEND;TZID=America/Chicago:20210325T233000
DTSTAMP:20260421T150222
CREATED:20210324T205636Z
LAST-MODIFIED:20210324T205636Z
UID:10001257-1616702400-1616715000@logoncafe.net
SUMMARY:Matt Schuldt
DESCRIPTION:Matt Schuldt
URL:https://logoncafe.net/event/matt-schuldt-3/
LOCATION:The Logon Cafe & Pub\, 3805 Calder Avenue\, Beaumont\, TX\, 77706\, United States
ATTACH;FMTTYPE=image/jpeg:https://logoncafe.net/wp-content/uploads/2021/02/152965208_10158835060913567_1646180114165249546_o-e1614293765845.jpg
END:VEVENT
BEGIN:VEVENT
DTSTART;TZID=America/Chicago:20210324T200000
DTEND;TZID=America/Chicago:20210324T230000
DTSTAMP:20260421T150222
CREATED:20251030T155404Z
LAST-MODIFIED:20251030T155404Z
UID:10012428-1616616000-1616626800@logoncafe.net
SUMMARY:Open Mic Night
DESCRIPTION:Come one and all to transform our stage into your own personal music venue! Even if you just know someone that likes to play and sing\, get them to come out and buy em a beer! \nWe’ve been hosting Open Mic every Wednesday since 1999\, so come in and join in the tradition. \nSign up is at 7:30 | No Cover \n\n 
URL:https://logoncafe.net/event/open-mic-night-51/2021-03-24/
LOCATION:The Logon Cafe & Pub\, 3805 Calder Avenue\, Beaumont\, TX\, 77706\, United States
CATEGORIES:Open Mic Night
ATTACH;FMTTYPE=image/jpeg:https://logoncafe.net/wp-content/uploads/2022/11/313067660_604791594876249_2466134981987312388_n.jpg
END:VEVENT
BEGIN:VEVENT
DTSTART;TZID=America/Chicago:20210324T200000
DTEND;TZID=America/Chicago:20210324T230000
DTSTAMP:20260421T150222
CREATED:20250303T233810Z
LAST-MODIFIED:20250303T233810Z
UID:10008031-1616616000-1616626800@logoncafe.net
SUMMARY:Open Mic Night
DESCRIPTION:Come one and all to transform our stage into your own personal music venue! Even if you just know someone that likes to play and sing\, get them to come out and buy em a beer! \nWe’ve been hosting Open Mic every Wednesday since 1999\, so come in and join in the tradition. \nSign up is at 7:30 | No Cover \n\n 
URL:https://logoncafe.net/event/open-mic-night-28/2021-03-24/
LOCATION:The Logon Cafe & Pub\, 3805 Calder Avenue\, Beaumont\, TX\, 77706\, United States
CATEGORIES:Open Mic Night
ATTACH;FMTTYPE=image/jpeg:https://logoncafe.net/wp-content/uploads/2022/11/313067660_604791594876249_2466134981987312388_n.jpg
END:VEVENT
BEGIN:VEVENT
DTSTART;TZID=America/Chicago:20210323T200000
DTEND;TZID=America/Chicago:20210323T230000
DTSTAMP:20260421T150222
CREATED:20250407T004038Z
LAST-MODIFIED:20250407T004038Z
UID:10009270-1616529600-1616540400@logoncafe.net
SUMMARY:Taco Tuesday Karaoke!
DESCRIPTION:What goes better together than tacos and booze?!! Specials start at 6. Karaoke starts at 8!$2 Street Tacos$2 Ritas$2 Well Vodka \nSing your butts off.Watch your friends act like they can sing 😉No cover wooooo.This is an all ages event.
URL:https://logoncafe.net/event/taco-tuesday-karaoke-18/2021-03-23/
LOCATION:The Logon Cafe & Pub\, 3805 Calder Avenue\, Beaumont\, TX\, 77706\, United States
ATTACH;FMTTYPE=image/jpeg:https://logoncafe.net/wp-content/uploads/2018/10/339927740_756585839328526_6857413985854363341_n-e1681230563968.jpg
END:VEVENT
BEGIN:VEVENT
DTSTART;TZID=America/Chicago:20210323T200000
DTEND;TZID=America/Chicago:20210323T230000
DTSTAMP:20260421T150222
CREATED:20240411T141711Z
LAST-MODIFIED:20240411T141712Z
UID:10012601-1616529600-1616540400@logoncafe.net
SUMMARY:Taco Tuesday Karaoke!
DESCRIPTION:What goes better together than tacos and booze?!! Specials start at 6. Karaoke starts at 8!\n$2 Street Tacos\n$2 Ritas\n$2 Well Vodka \nSing your butts off.\nWatch your friends act like they can sing 😉\nNo cover wooooo.\nThis is an all ages event.
URL:https://logoncafe.net/event/taco-tuesday-karaoke-3/2021-03-23/
LOCATION:The Logon Cafe & Pub\, 3805 Calder Avenue\, Beaumont\, TX\, 77706\, United States
ATTACH;FMTTYPE=image/jpeg:https://logoncafe.net/wp-content/uploads/2018/10/339927740_756585839328526_6857413985854363341_n-e1681230563968.jpg
END:VEVENT
BEGIN:VEVENT
DTSTART;TZID=America/Chicago:20210323T200000
DTEND;TZID=America/Chicago:20210323T230000
DTSTAMP:20260421T150223
CREATED:20181030T231335Z
LAST-MODIFIED:20230411T163019Z
UID:10000183-1616529600-1616540400@logoncafe.net
SUMMARY:Taco Tuesday Karaoke!
DESCRIPTION:What goes better together than tacos and booze?!! Specials start at 6. Karaoke starts at 8!\n$2 Street Tacos\n$2 Ritas\n$2 Well Vodka \nSing your butts off.\nWatch your friends act like they can sing 😉\nNo cover wooooo.\nThis is an all ages event.
URL:https://logoncafe.net/event/taco-tuesday-karaoke/2021-03-23/
LOCATION:The Logon Cafe & Pub\, 3805 Calder Avenue\, Beaumont\, TX\, 77706\, United States
ATTACH;FMTTYPE=image/jpeg:https://logoncafe.net/wp-content/uploads/2018/10/339927740_756585839328526_6857413985854363341_n-e1681230563968.jpg
END:VEVENT
BEGIN:VEVENT
DTSTART;TZID=America/Chicago:20210322T193000
DTEND;TZID=America/Chicago:20210322T210000
DTSTAMP:20260421T150223
CREATED:20221012T211346Z
LAST-MODIFIED:20221012T211346Z
UID:10001194-1616441400-1616446800@logoncafe.net
SUMMARY:Brainstormer Trivia Night
DESCRIPTION:Brainstormer Trivia Night is one of the funnest nights around town OK I said it so get out here and jion the fun. \nCome out for Trivia night at the Logoncafe hope you have fun! \nDo you enjoy Trivia?\nAre you competitive?\nHow about Prizes for the nightly Winners?\nHow about $2.00 Wells for 7pm to 10pm \nTrivia Rules:\nNo yelling out answers\, right or wrong. It disrupts the game and can bother other players. Up to 6 players per team are allowed. There is a 5 point penalty for a team of 7\, and a 10 point pentalty for a team of 8. No cell phones\, blackberries or any type of outside sources are allowed. Have fun!
URL:https://logoncafe.net/event/brainstormer-trivia-night-2-2019-11-25-2020-01-06-2-2020-05-25-2/2021-03-22/
LOCATION:The Logon Cafe & Pub\, 3805 Calder Avenue\, Beaumont\, TX\, 77706\, United States
ATTACH;FMTTYPE=image/jpeg:https://logoncafe.net/wp-content/uploads/2019/09/trivianight2-1000x563-e1567536697294.jpg
END:VEVENT
BEGIN:VEVENT
DTSTART;TZID=America/Chicago:20210322T193000
DTEND;TZID=America/Chicago:20210322T210000
DTSTAMP:20260421T150223
CREATED:20190912T212544Z
LAST-MODIFIED:20211015T161606Z
UID:10001134-1616441400-1616446800@logoncafe.net
SUMMARY:Brainstormer Trivia Night
DESCRIPTION:Brainstormer Trivia Night is one of the funnest nights around town OK I said it so get out here and jion the fun. \nCome out for Trivia night at the Logoncafe hope you have fun! \nDo you enjoy Trivia?\nAre you competitive?\nHow about Prizes for the nightly Winners?\nHow about $2.00 Wells for 7pm to 10pm \nTrivia Rules:\nNo yelling out answers\, right or wrong. It disrupts the game and can bother other players. Up to 6 players per team are allowed. There is a 5 point penalty for a team of 7\, and a 10 point pentalty for a team of 8. No cell phones\, blackberries or any type of outside sources are allowed. Have fun!
URL:https://logoncafe.net/event/brainstormer-trivia-night-2-2019-11-25-2020-01-06-2-2020-05-25-2/2021-03-22/
LOCATION:The Logon Cafe & Pub\, 3805 Calder Avenue\, Beaumont\, TX\, 77706\, United States
ATTACH;FMTTYPE=image/jpeg:https://logoncafe.net/wp-content/uploads/2019/09/trivianight2-1000x563-e1567536697294.jpg
END:VEVENT
BEGIN:VEVENT
DTSTART;TZID=America/Chicago:20210320T193000
DTEND;TZID=America/Chicago:20210320T233000
DTSTAMP:20260421T150223
CREATED:20210212T184613Z
LAST-MODIFIED:20210305T210821Z
UID:10000836-1616268600-1616283000@logoncafe.net
SUMMARY:St.Paddy's Celebration w/ Piper Rock Scissors
DESCRIPTION:You can never have too much party! We love St. Patrick’s Day so much\, we’re celebrating all week!\nCome get your Irish on Saturday March 20th at The LogOn Cafe.\nWe are having a St.Patty’s day Party!!\nWe will be serving Corned Beef & Cabbage\, Guinness on tap\, Jameson and other fine Irish Whiskeys.\nFor your entertainment the night’s theme will be bag pipes and Irish music hosted by Krista N Jeff Courts and Piper Rock Scissors
URL:https://logoncafe.net/event/st-pattys-day-party-2/
LOCATION:The Logon Cafe & Pub\, 3805 Calder Avenue\, Beaumont\, TX\, 77706\, United States
ATTACH;FMTTYPE=image/jpeg:https://logoncafe.net/wp-content/uploads/2018/12/lonestar-bagpipe_n.jpg
END:VEVENT
BEGIN:VEVENT
DTSTART;TZID=America/Chicago:20210319T203000
DTEND;TZID=America/Chicago:20210319T233000
DTSTAMP:20260421T150223
CREATED:20210203T013913Z
LAST-MODIFIED:20210203T013913Z
UID:10000678-1616185800-1616196600@logoncafe.net
SUMMARY:Pug & The Hounds With Long Sunday Drive
DESCRIPTION:Pug & The Hounds With Long Sunday Drive\nLong Sunday Drive is\nCourtney Mock\nSouthPaw Smitty\nPug Johnson\nDavid Pool\nWe LOVE these guys! And gal! 😉
URL:https://logoncafe.net/event/pug-the-hounds-with-long-sunday-drive/
LOCATION:The Logon Cafe & Pub\, 3805 Calder Avenue\, Beaumont\, TX\, 77706\, United States
ATTACH;FMTTYPE=image/jpeg:https://logoncafe.net/wp-content/uploads/2021/02/141668101_10158761653523567_2583514414849193325_n-e1612316340842.jpg
END:VEVENT
BEGIN:VEVENT
DTSTART;TZID=America/Chicago:20210318T200000
DTEND;TZID=America/Chicago:20210318T233000
DTSTAMP:20260421T150223
CREATED:20210316T192808Z
LAST-MODIFIED:20210316T192808Z
UID:10000327-1616097600-1616110200@logoncafe.net
SUMMARY:Thursday Night Karaoke
DESCRIPTION:If you like to sing come on out and have some fun on our stage
URL:https://logoncafe.net/event/thursday-night-karaoke/
LOCATION:The Logon Cafe & Pub\, 3805 Calder Avenue\, Beaumont\, TX\, 77706\, United States
ATTACH;FMTTYPE=image/jpeg:https://logoncafe.net/wp-content/uploads/2019/02/karaoke-e1550246864299.jpg
END:VEVENT
BEGIN:VEVENT
DTSTART;TZID=America/Chicago:20210317T200000
DTEND;TZID=America/Chicago:20210317T230000
DTSTAMP:20260421T150223
CREATED:20250303T233810Z
LAST-MODIFIED:20250303T233810Z
UID:10008469-1616011200-1616022000@logoncafe.net
SUMMARY:Open Mic Night
DESCRIPTION:Come one and all to transform our stage into your own personal music venue! Even if you just know someone that likes to play and sing\, get them to come out and buy em a beer! \nWe’ve been hosting Open Mic every Wednesday since 1999\, so come in and join in the tradition. \nSign up is at 7:30 | No Cover \n\n 
URL:https://logoncafe.net/event/open-mic-night-28/2021-03-17/
LOCATION:The Logon Cafe & Pub\, 3805 Calder Avenue\, Beaumont\, TX\, 77706\, United States
CATEGORIES:Open Mic Night
ATTACH;FMTTYPE=image/jpeg:https://logoncafe.net/wp-content/uploads/2022/11/313067660_604791594876249_2466134981987312388_n.jpg
END:VEVENT
BEGIN:VEVENT
DTSTART;TZID=America/Chicago:20210317T200000
DTEND;TZID=America/Chicago:20210317T230000
DTSTAMP:20260421T150223
CREATED:20181031T190032Z
LAST-MODIFIED:20210308T230702Z
UID:10001023-1616011200-1616022000@logoncafe.net
SUMMARY:No Open Mic Night Tonight
DESCRIPTION:Come one and all to transform our stage into your own personal music venue! Even if you just know someone that likes to play and sing\, get them to come out and buy em a beer! \nWe’ve been hosting Open Mic every Wednesday since 1999\, so come in and join in the tradition. \nSign up is at 7:30 | No Cover
URL:https://logoncafe.net/event/open-mic-night-2-2021-03-17/
LOCATION:The Logon Cafe & Pub\, 3805 Calder Avenue\, Beaumont\, TX\, 77706\, United States
CATEGORIES:Open Mic Night
ATTACH;FMTTYPE=image/jpeg:https://logoncafe.net/wp-content/uploads/2018/10/45002210_10156594884178567_1673671871041634304_n.jpg
END:VEVENT
BEGIN:VEVENT
DTSTART;TZID=America/Chicago:20210317T193000
DTEND;TZID=America/Chicago:20210317T230000
DTSTAMP:20260421T150223
CREATED:20210212T183841Z
LAST-MODIFIED:20210212T183841Z
UID:10000679-1616009400-1616022000@logoncafe.net
SUMMARY:St Patrick's Day Party
DESCRIPTION:St Patrick’s Day Party\nCome out of some Irish Music\nBagpipes and Irish Whiskey\nand a lot of fun
URL:https://logoncafe.net/event/st-patricks-day-party/
LOCATION:The Logon Cafe & Pub\, 3805 Calder Avenue\, Beaumont\, TX\, 77706\, United States
ATTACH;FMTTYPE=image/jpeg:https://logoncafe.net/wp-content/uploads/2018/12/lonestar-bagpipe_n.jpg
END:VEVENT
END:VCALENDAR