BEGIN:VCALENDAR
VERSION:2.0
PRODID:-//The Logon Cafe and Pub - ECPv6.15.20//NONSGML v1.0//EN
CALSCALE:GREGORIAN
METHOD:PUBLISH
X-WR-CALNAME:The Logon Cafe and Pub
X-ORIGINAL-URL:https://logoncafe.net
X-WR-CALDESC:Events for The Logon Cafe and Pub
REFRESH-INTERVAL;VALUE=DURATION:PT1H
X-Robots-Tag:noindex
X-PUBLISHED-TTL:PT1H
BEGIN:VTIMEZONE
TZID:America/Chicago
BEGIN:DAYLIGHT
TZOFFSETFROM:-0600
TZOFFSETTO:-0500
TZNAME:CDT
DTSTART:20200308T080000
END:DAYLIGHT
BEGIN:STANDARD
TZOFFSETFROM:-0500
TZOFFSETTO:-0600
TZNAME:CST
DTSTART:20201101T070000
END:STANDARD
BEGIN:DAYLIGHT
TZOFFSETFROM:-0600
TZOFFSETTO:-0500
TZNAME:CDT
DTSTART:20210314T080000
END:DAYLIGHT
BEGIN:STANDARD
TZOFFSETFROM:-0500
TZOFFSETTO:-0600
TZNAME:CST
DTSTART:20211107T070000
END:STANDARD
BEGIN:DAYLIGHT
TZOFFSETFROM:-0600
TZOFFSETTO:-0500
TZNAME:CDT
DTSTART:20220313T080000
END:DAYLIGHT
BEGIN:STANDARD
TZOFFSETFROM:-0500
TZOFFSETTO:-0600
TZNAME:CST
DTSTART:20221106T070000
END:STANDARD
END:VTIMEZONE
BEGIN:VEVENT
DTSTART;TZID=America/Chicago:20210710T200000
DTEND;TZID=America/Chicago:20210710T235900
DTSTAMP:20260420T120250
CREATED:20210708T001845Z
LAST-MODIFIED:20210708T001845Z
UID:10000719-1625947200-1625961540@logoncafe.net
SUMMARY:Daniel Waters w/ Britt Simoneaux
DESCRIPTION:Daniel Waters w/ Britt Simoneaux\nThe super talented Daniel Waters! Finally – Beaumont gets an AMAZING piano player!!\nWith Britt Simoneaux on drums – We love this combo!
URL:https://logoncafe.net/event/daniel-waters-w-britt-simoneaux/
LOCATION:The Logon Cafe & Pub\, 3805 Calder Avenue\, Beaumont\, TX\, 77706\, United States
ATTACH;FMTTYPE=image/jpeg:https://logoncafe.net/wp-content/uploads/2021/01/136112782_10158695558563567_1379601443691432188_o-e1610142234736.jpg
END:VEVENT
BEGIN:VEVENT
DTSTART;TZID=America/Chicago:20210709T203000
DTEND;TZID=America/Chicago:20210709T233000
DTSTAMP:20260420T120250
CREATED:20210203T013913Z
LAST-MODIFIED:20210618T150716Z
UID:10001278-1625862600-1625873400@logoncafe.net
SUMMARY:Long Sunday Drive Live @ the Logon
DESCRIPTION:Long Sunday Drive & Pug\nLong Sunday Drive is\nCourtney Mock\nSouthPaw Smitty\nPug Johnson\nDavid Pool\nWe LOVE these guys! And gal! 😉
URL:https://logoncafe.net/event/pug-the-hounds-with-long-sunday-drive-2-2/
LOCATION:The Logon Cafe & Pub\, 3805 Calder Avenue\, Beaumont\, TX\, 77706\, United States
ATTACH;FMTTYPE=image/jpeg:https://logoncafe.net/wp-content/uploads/2021/02/141668101_10158761653523567_2583514414849193325_n-e1612316340842.jpg
END:VEVENT
BEGIN:VEVENT
DTSTART;TZID=America/Chicago:20210708T200000
DTEND;TZID=America/Chicago:20210708T233000
DTSTAMP:20260420T120250
CREATED:20210422T003728Z
LAST-MODIFIED:20210422T003728Z
UID:10001262-1625774400-1625787000@logoncafe.net
SUMMARY:Rick Tiger live with Floyd Callen
DESCRIPTION:Rick Tiger live with Floyd Callen\nCome on down and let me and my buddy Floyd tell ya some stories and sing you some songs.\nOur 1st time here. Sure could use some familiar faces
URL:https://logoncafe.net/event/rick-tiger-live-with-floyd-callen/
LOCATION:The Logon Cafe & Pub\, 3805 Calder Avenue\, Beaumont\, TX\, 77706\, United States
ATTACH;FMTTYPE=image/jpeg:https://logoncafe.net/wp-content/uploads/2021/04/122589992_10223130689766102_5334373315183650837_n-e1619051582578.jpg
END:VEVENT
BEGIN:VEVENT
DTSTART;TZID=America/Chicago:20210707T200000
DTEND;TZID=America/Chicago:20210707T230000
DTSTAMP:20260420T120250
CREATED:20251030T155404Z
LAST-MODIFIED:20251030T155404Z
UID:10004261-1625688000-1625698800@logoncafe.net
SUMMARY:Open Mic Night
DESCRIPTION:Come one and all to transform our stage into your own personal music venue! Even if you just know someone that likes to play and sing\, get them to come out and buy em a beer! \nWe’ve been hosting Open Mic every Wednesday since 1999\, so come in and join in the tradition. \nSign up is at 7:30 | No Cover \n\n 
URL:https://logoncafe.net/event/open-mic-night-51/2021-07-07/
LOCATION:The Logon Cafe & Pub\, 3805 Calder Avenue\, Beaumont\, TX\, 77706\, United States
CATEGORIES:Open Mic Night
ATTACH;FMTTYPE=image/jpeg:https://logoncafe.net/wp-content/uploads/2022/11/313067660_604791594876249_2466134981987312388_n.jpg
END:VEVENT
BEGIN:VEVENT
DTSTART;TZID=America/Chicago:20210707T200000
DTEND;TZID=America/Chicago:20210707T230000
DTSTAMP:20260420T120250
CREATED:20250303T233810Z
LAST-MODIFIED:20250303T233810Z
UID:10008046-1625688000-1625698800@logoncafe.net
SUMMARY:Open Mic Night
DESCRIPTION:Come one and all to transform our stage into your own personal music venue! Even if you just know someone that likes to play and sing\, get them to come out and buy em a beer! \nWe’ve been hosting Open Mic every Wednesday since 1999\, so come in and join in the tradition. \nSign up is at 7:30 | No Cover \n\n 
URL:https://logoncafe.net/event/open-mic-night-28/2021-07-07/
LOCATION:The Logon Cafe & Pub\, 3805 Calder Avenue\, Beaumont\, TX\, 77706\, United States
CATEGORIES:Open Mic Night
ATTACH;FMTTYPE=image/jpeg:https://logoncafe.net/wp-content/uploads/2022/11/313067660_604791594876249_2466134981987312388_n.jpg
END:VEVENT
BEGIN:VEVENT
DTSTART;TZID=America/Chicago:20210706T200000
DTEND;TZID=America/Chicago:20210706T230000
DTSTAMP:20260420T120250
CREATED:20250407T004038Z
LAST-MODIFIED:20250407T004038Z
UID:10009285-1625601600-1625612400@logoncafe.net
SUMMARY:Taco Tuesday Karaoke!
DESCRIPTION:What goes better together than tacos and booze?!! Specials start at 6. Karaoke starts at 8!$2 Street Tacos$2 Ritas$2 Well Vodka \nSing your butts off.Watch your friends act like they can sing 😉No cover wooooo.This is an all ages event.
URL:https://logoncafe.net/event/taco-tuesday-karaoke-18/2021-07-06/
LOCATION:The Logon Cafe & Pub\, 3805 Calder Avenue\, Beaumont\, TX\, 77706\, United States
ATTACH;FMTTYPE=image/jpeg:https://logoncafe.net/wp-content/uploads/2018/10/339927740_756585839328526_6857413985854363341_n-e1681230563968.jpg
END:VEVENT
BEGIN:VEVENT
DTSTART;TZID=America/Chicago:20210706T200000
DTEND;TZID=America/Chicago:20210706T230000
DTSTAMP:20260420T120250
CREATED:20240411T141711Z
LAST-MODIFIED:20240411T141712Z
UID:10012616-1625601600-1625612400@logoncafe.net
SUMMARY:Taco Tuesday Karaoke!
DESCRIPTION:What goes better together than tacos and booze?!! Specials start at 6. Karaoke starts at 8!\n$2 Street Tacos\n$2 Ritas\n$2 Well Vodka \nSing your butts off.\nWatch your friends act like they can sing 😉\nNo cover wooooo.\nThis is an all ages event.
URL:https://logoncafe.net/event/taco-tuesday-karaoke-3/2021-07-06/
LOCATION:The Logon Cafe & Pub\, 3805 Calder Avenue\, Beaumont\, TX\, 77706\, United States
ATTACH;FMTTYPE=image/jpeg:https://logoncafe.net/wp-content/uploads/2018/10/339927740_756585839328526_6857413985854363341_n-e1681230563968.jpg
END:VEVENT
BEGIN:VEVENT
DTSTART;TZID=America/Chicago:20210706T200000
DTEND;TZID=America/Chicago:20210706T230000
DTSTAMP:20260420T120250
CREATED:20181030T231335Z
LAST-MODIFIED:20230411T163019Z
UID:10000198-1625601600-1625612400@logoncafe.net
SUMMARY:Taco Tuesday Karaoke!
DESCRIPTION:What goes better together than tacos and booze?!! Specials start at 6. Karaoke starts at 8!\n$2 Street Tacos\n$2 Ritas\n$2 Well Vodka \nSing your butts off.\nWatch your friends act like they can sing 😉\nNo cover wooooo.\nThis is an all ages event.
URL:https://logoncafe.net/event/taco-tuesday-karaoke/2021-07-06/
LOCATION:The Logon Cafe & Pub\, 3805 Calder Avenue\, Beaumont\, TX\, 77706\, United States
ATTACH;FMTTYPE=image/jpeg:https://logoncafe.net/wp-content/uploads/2018/10/339927740_756585839328526_6857413985854363341_n-e1681230563968.jpg
END:VEVENT
BEGIN:VEVENT
DTSTART;TZID=America/Chicago:20210705T193000
DTEND;TZID=America/Chicago:20210705T210000
DTSTAMP:20260420T120250
CREATED:20190912T212544Z
LAST-MODIFIED:20211015T161606Z
UID:10001149-1625513400-1625518800@logoncafe.net
SUMMARY:Brainstormer Trivia Night
DESCRIPTION:Brainstormer Trivia Night is one of the funnest nights around town OK I said it so get out here and jion the fun. \nCome out for Trivia night at the Logoncafe hope you have fun! \nDo you enjoy Trivia?\nAre you competitive?\nHow about Prizes for the nightly Winners?\nHow about $2.00 Wells for 7pm to 10pm \nTrivia Rules:\nNo yelling out answers\, right or wrong. It disrupts the game and can bother other players. Up to 6 players per team are allowed. There is a 5 point penalty for a team of 7\, and a 10 point pentalty for a team of 8. No cell phones\, blackberries or any type of outside sources are allowed. Have fun!
URL:https://logoncafe.net/event/brainstormer-trivia-night-2-2019-11-25-2020-01-06-2-2020-05-25-2/2021-07-05/
LOCATION:The Logon Cafe & Pub\, 3805 Calder Avenue\, Beaumont\, TX\, 77706\, United States
ATTACH;FMTTYPE=image/jpeg:https://logoncafe.net/wp-content/uploads/2019/09/trivianight2-1000x563-e1567536697294.jpg
END:VEVENT
BEGIN:VEVENT
DTSTART;TZID=America/Chicago:20210703T200000
DTEND;TZID=America/Chicago:20210703T235900
DTSTAMP:20260420T120250
CREATED:20210530T165317Z
LAST-MODIFIED:20210630T205806Z
UID:10000638-1625342400-1625356740@logoncafe.net
SUMMARY:Saturday Karaoke Party in July
DESCRIPTION:Awww yeah…. KARAOKE ON A SATURDAY!!!!!\nGet here.\nSing your butts off.\nWatch your friends act like they can sing 😉\nNo cover wooooo.
URL:https://logoncafe.net/event/saturday-karaoke-party-thelogon-2-2/
LOCATION:The Logon Cafe & Pub\, 3805 Calder Avenue\, Beaumont\, TX\, 77706\, United States
ATTACH;FMTTYPE=image/jpeg:https://logoncafe.net/wp-content/uploads/2021/05/180478552_10158974899358567_2371589748890907789_n.jpg
END:VEVENT
BEGIN:VEVENT
DTSTART;TZID=America/Chicago:20210702T200000
DTEND;TZID=America/Chicago:20210702T233000
DTSTAMP:20260420T120250
CREATED:20181202T171300Z
LAST-MODIFIED:20210423T171539Z
UID:10000720-1625256000-1625268600@logoncafe.net
SUMMARY:Ward\, Bowen\, Steinman
DESCRIPTION:This will be there first show this year\, so Friday night + three great musicians + the intimate venue at The Logon Cafe = a fantastic start to your weekend! Only $5 at the door. Come join us!
URL:https://logoncafe.net/event/ward-bowen-steinman-2022-04-01/
LOCATION:Logoncafe & Pub\, 3805 Calder Avenue\, Beaumont\, TX\, 77706\, United States
ATTACH;FMTTYPE=image/jpeg:https://logoncafe.net/wp-content/uploads/2018/12/Ward-Bowen-and-Steinman.jpg
END:VEVENT
BEGIN:VEVENT
DTSTART;TZID=America/Chicago:20210701T200000
DTEND;TZID=America/Chicago:20210701T233000
DTSTAMP:20260420T120250
CREATED:20210324T205636Z
LAST-MODIFIED:20210630T205601Z
UID:10000637-1625169600-1625182200@logoncafe.net
SUMMARY:Matt Schuldt
DESCRIPTION:Matt Schuldt
URL:https://logoncafe.net/event/matt-schuldt-3-2-2-2/
LOCATION:The Logon Cafe & Pub\, 3805 Calder Avenue\, Beaumont\, TX\, 77706\, United States
ATTACH;FMTTYPE=image/jpeg:https://logoncafe.net/wp-content/uploads/2021/02/152965208_10158835060913567_1646180114165249546_o-e1614293765845.jpg
END:VEVENT
BEGIN:VEVENT
DTSTART;TZID=America/Chicago:20210630T200000
DTEND;TZID=America/Chicago:20210630T230000
DTSTAMP:20260420T120250
CREATED:20251030T155404Z
LAST-MODIFIED:20251030T155404Z
UID:10004260-1625083200-1625094000@logoncafe.net
SUMMARY:Open Mic Night
DESCRIPTION:Come one and all to transform our stage into your own personal music venue! Even if you just know someone that likes to play and sing\, get them to come out and buy em a beer! \nWe’ve been hosting Open Mic every Wednesday since 1999\, so come in and join in the tradition. \nSign up is at 7:30 | No Cover \n\n 
URL:https://logoncafe.net/event/open-mic-night-51/2021-06-30/
LOCATION:The Logon Cafe & Pub\, 3805 Calder Avenue\, Beaumont\, TX\, 77706\, United States
CATEGORIES:Open Mic Night
ATTACH;FMTTYPE=image/jpeg:https://logoncafe.net/wp-content/uploads/2022/11/313067660_604791594876249_2466134981987312388_n.jpg
END:VEVENT
BEGIN:VEVENT
DTSTART;TZID=America/Chicago:20210630T200000
DTEND;TZID=America/Chicago:20210630T230000
DTSTAMP:20260420T120250
CREATED:20250303T233810Z
LAST-MODIFIED:20250303T233810Z
UID:10008045-1625083200-1625094000@logoncafe.net
SUMMARY:Open Mic Night
DESCRIPTION:Come one and all to transform our stage into your own personal music venue! Even if you just know someone that likes to play and sing\, get them to come out and buy em a beer! \nWe’ve been hosting Open Mic every Wednesday since 1999\, so come in and join in the tradition. \nSign up is at 7:30 | No Cover \n\n 
URL:https://logoncafe.net/event/open-mic-night-28/2021-06-30/
LOCATION:The Logon Cafe & Pub\, 3805 Calder Avenue\, Beaumont\, TX\, 77706\, United States
CATEGORIES:Open Mic Night
ATTACH;FMTTYPE=image/jpeg:https://logoncafe.net/wp-content/uploads/2022/11/313067660_604791594876249_2466134981987312388_n.jpg
END:VEVENT
BEGIN:VEVENT
DTSTART;TZID=America/Chicago:20210629T200000
DTEND;TZID=America/Chicago:20210629T230000
DTSTAMP:20260420T120250
CREATED:20250407T004038Z
LAST-MODIFIED:20250407T004038Z
UID:10009284-1624996800-1625007600@logoncafe.net
SUMMARY:Taco Tuesday Karaoke!
DESCRIPTION:What goes better together than tacos and booze?!! Specials start at 6. Karaoke starts at 8!$2 Street Tacos$2 Ritas$2 Well Vodka \nSing your butts off.Watch your friends act like they can sing 😉No cover wooooo.This is an all ages event.
URL:https://logoncafe.net/event/taco-tuesday-karaoke-18/2021-06-29/
LOCATION:The Logon Cafe & Pub\, 3805 Calder Avenue\, Beaumont\, TX\, 77706\, United States
ATTACH;FMTTYPE=image/jpeg:https://logoncafe.net/wp-content/uploads/2018/10/339927740_756585839328526_6857413985854363341_n-e1681230563968.jpg
END:VEVENT
BEGIN:VEVENT
DTSTART;TZID=America/Chicago:20210629T200000
DTEND;TZID=America/Chicago:20210629T230000
DTSTAMP:20260420T120250
CREATED:20240411T141711Z
LAST-MODIFIED:20240411T141712Z
UID:10012615-1624996800-1625007600@logoncafe.net
SUMMARY:Taco Tuesday Karaoke!
DESCRIPTION:What goes better together than tacos and booze?!! Specials start at 6. Karaoke starts at 8!\n$2 Street Tacos\n$2 Ritas\n$2 Well Vodka \nSing your butts off.\nWatch your friends act like they can sing 😉\nNo cover wooooo.\nThis is an all ages event.
URL:https://logoncafe.net/event/taco-tuesday-karaoke-3/2021-06-29/
LOCATION:The Logon Cafe & Pub\, 3805 Calder Avenue\, Beaumont\, TX\, 77706\, United States
ATTACH;FMTTYPE=image/jpeg:https://logoncafe.net/wp-content/uploads/2018/10/339927740_756585839328526_6857413985854363341_n-e1681230563968.jpg
END:VEVENT
BEGIN:VEVENT
DTSTART;TZID=America/Chicago:20210629T200000
DTEND;TZID=America/Chicago:20210629T230000
DTSTAMP:20260420T120250
CREATED:20181030T231335Z
LAST-MODIFIED:20230411T163019Z
UID:10000197-1624996800-1625007600@logoncafe.net
SUMMARY:Taco Tuesday Karaoke!
DESCRIPTION:What goes better together than tacos and booze?!! Specials start at 6. Karaoke starts at 8!\n$2 Street Tacos\n$2 Ritas\n$2 Well Vodka \nSing your butts off.\nWatch your friends act like they can sing 😉\nNo cover wooooo.\nThis is an all ages event.
URL:https://logoncafe.net/event/taco-tuesday-karaoke/2021-06-29/
LOCATION:The Logon Cafe & Pub\, 3805 Calder Avenue\, Beaumont\, TX\, 77706\, United States
ATTACH;FMTTYPE=image/jpeg:https://logoncafe.net/wp-content/uploads/2018/10/339927740_756585839328526_6857413985854363341_n-e1681230563968.jpg
END:VEVENT
BEGIN:VEVENT
DTSTART;TZID=America/Chicago:20210628T193000
DTEND;TZID=America/Chicago:20210628T210000
DTSTAMP:20260420T120250
CREATED:20190912T212544Z
LAST-MODIFIED:20211015T161606Z
UID:10001148-1624908600-1624914000@logoncafe.net
SUMMARY:Brainstormer Trivia Night
DESCRIPTION:Brainstormer Trivia Night is one of the funnest nights around town OK I said it so get out here and jion the fun. \nCome out for Trivia night at the Logoncafe hope you have fun! \nDo you enjoy Trivia?\nAre you competitive?\nHow about Prizes for the nightly Winners?\nHow about $2.00 Wells for 7pm to 10pm \nTrivia Rules:\nNo yelling out answers\, right or wrong. It disrupts the game and can bother other players. Up to 6 players per team are allowed. There is a 5 point penalty for a team of 7\, and a 10 point pentalty for a team of 8. No cell phones\, blackberries or any type of outside sources are allowed. Have fun!
URL:https://logoncafe.net/event/brainstormer-trivia-night-2-2019-11-25-2020-01-06-2-2020-05-25-2/2021-06-28/
LOCATION:The Logon Cafe & Pub\, 3805 Calder Avenue\, Beaumont\, TX\, 77706\, United States
ATTACH;FMTTYPE=image/jpeg:https://logoncafe.net/wp-content/uploads/2019/09/trivianight2-1000x563-e1567536697294.jpg
END:VEVENT
BEGIN:VEVENT
DTSTART;TZID=America/Chicago:20210626T210000
DTEND;TZID=America/Chicago:20210626T235900
DTSTAMP:20260420T120250
CREATED:20210510T185204Z
LAST-MODIFIED:20210510T190522Z
UID:10000747-1624741200-1624751940@logoncafe.net
SUMMARY:Jack Edery trio live at the Logon
DESCRIPTION:Jack Edery Trio is back from Austin Tx!With soulful blues sound and a voice like the Chicago sound we love this trio brings some of the best musicians in the Beaumont area together!
URL:https://logoncafe.net/event/jack-edery-trio-live-at-the-logon/
LOCATION:The Logon Cafe & Pub\, 3805 Calder Avenue\, Beaumont\, TX\, 77706\, United States
ATTACH;FMTTYPE=image/jpeg:https://logoncafe.net/wp-content/uploads/2021/05/28059338_421781831598966_8796978885538627709_n.jpg
END:VEVENT
BEGIN:VEVENT
DTSTART;TZID=America/Chicago:20210625T203000
DTEND;TZID=America/Chicago:20210625T203000
DTSTAMP:20260420T120250
CREATED:20210105T031301Z
LAST-MODIFIED:20210618T145917Z
UID:10000881-1624653000-1624653000@logoncafe.net
SUMMARY:Pug Johnson & The Hound
DESCRIPTION:Pug Johnson & the Hounds
URL:https://logoncafe.net/event/pug-johnson-the-hounds-long-sunday-drive-2/
LOCATION:The Logon Cafe & Pub\, 3805 Calder Avenue\, Beaumont\, TX\, 77706\, United States
ATTACH;FMTTYPE=image/jpeg:https://logoncafe.net/wp-content/uploads/2021/01/193146286_10159039618288567_1070420491478905703_n-e1624028233201.jpg
END:VEVENT
BEGIN:VEVENT
DTSTART;TZID=America/Chicago:20210624T200000
DTEND;TZID=America/Chicago:20210624T235900
DTSTAMP:20260420T120250
CREATED:20200101T193050Z
LAST-MODIFIED:20210624T141227Z
UID:10000052-1624564800-1624579140@logoncafe.net
SUMMARY:The Knott Brothers
DESCRIPTION:Mark you calendars now!  The Knott Brothers will be at the Logon Cafe Saturday\, February 8th .  Classic rock\, blues\, beach music\, and maybe an original tune as well.  Drop in and party with these seasoned local musicians\, and enjoy a snack while your there.  Plus always some interesting beer on tap.  Hope to see y’all there!
URL:https://logoncafe.net/event/the-knott-brothers-2-2-2-2-2/
LOCATION:The Logon Cafe & Pub\, 3805 Calder Avenue\, Beaumont\, TX\, 77706\, United States
ATTACH;FMTTYPE=image/jpeg:https://logoncafe.net/wp-content/uploads/2019/01/43281618_1919558418349477_5017452804608884736_n-e1548197614140.jpg
END:VEVENT
BEGIN:VEVENT
DTSTART;TZID=America/Chicago:20210623T200000
DTEND;TZID=America/Chicago:20210623T230000
DTSTAMP:20260420T120250
CREATED:20251030T155404Z
LAST-MODIFIED:20251030T155404Z
UID:10004259-1624478400-1624489200@logoncafe.net
SUMMARY:Open Mic Night
DESCRIPTION:Come one and all to transform our stage into your own personal music venue! Even if you just know someone that likes to play and sing\, get them to come out and buy em a beer! \nWe’ve been hosting Open Mic every Wednesday since 1999\, so come in and join in the tradition. \nSign up is at 7:30 | No Cover \n\n 
URL:https://logoncafe.net/event/open-mic-night-51/2021-06-23/
LOCATION:The Logon Cafe & Pub\, 3805 Calder Avenue\, Beaumont\, TX\, 77706\, United States
CATEGORIES:Open Mic Night
ATTACH;FMTTYPE=image/jpeg:https://logoncafe.net/wp-content/uploads/2022/11/313067660_604791594876249_2466134981987312388_n.jpg
END:VEVENT
BEGIN:VEVENT
DTSTART;TZID=America/Chicago:20210623T200000
DTEND;TZID=America/Chicago:20210623T230000
DTSTAMP:20260420T120250
CREATED:20250303T233810Z
LAST-MODIFIED:20250303T233810Z
UID:10008044-1624478400-1624489200@logoncafe.net
SUMMARY:Open Mic Night
DESCRIPTION:Come one and all to transform our stage into your own personal music venue! Even if you just know someone that likes to play and sing\, get them to come out and buy em a beer! \nWe’ve been hosting Open Mic every Wednesday since 1999\, so come in and join in the tradition. \nSign up is at 7:30 | No Cover \n\n 
URL:https://logoncafe.net/event/open-mic-night-28/2021-06-23/
LOCATION:The Logon Cafe & Pub\, 3805 Calder Avenue\, Beaumont\, TX\, 77706\, United States
CATEGORIES:Open Mic Night
ATTACH;FMTTYPE=image/jpeg:https://logoncafe.net/wp-content/uploads/2022/11/313067660_604791594876249_2466134981987312388_n.jpg
END:VEVENT
BEGIN:VEVENT
DTSTART;TZID=America/Chicago:20210622T200000
DTEND;TZID=America/Chicago:20210622T230000
DTSTAMP:20260420T120250
CREATED:20250407T004038Z
LAST-MODIFIED:20250407T004038Z
UID:10009283-1624392000-1624402800@logoncafe.net
SUMMARY:Taco Tuesday Karaoke!
DESCRIPTION:What goes better together than tacos and booze?!! Specials start at 6. Karaoke starts at 8!$2 Street Tacos$2 Ritas$2 Well Vodka \nSing your butts off.Watch your friends act like they can sing 😉No cover wooooo.This is an all ages event.
URL:https://logoncafe.net/event/taco-tuesday-karaoke-18/2021-06-22/
LOCATION:The Logon Cafe & Pub\, 3805 Calder Avenue\, Beaumont\, TX\, 77706\, United States
ATTACH;FMTTYPE=image/jpeg:https://logoncafe.net/wp-content/uploads/2018/10/339927740_756585839328526_6857413985854363341_n-e1681230563968.jpg
END:VEVENT
BEGIN:VEVENT
DTSTART;TZID=America/Chicago:20210622T200000
DTEND;TZID=America/Chicago:20210622T230000
DTSTAMP:20260420T120250
CREATED:20240411T141711Z
LAST-MODIFIED:20240411T141712Z
UID:10012614-1624392000-1624402800@logoncafe.net
SUMMARY:Taco Tuesday Karaoke!
DESCRIPTION:What goes better together than tacos and booze?!! Specials start at 6. Karaoke starts at 8!\n$2 Street Tacos\n$2 Ritas\n$2 Well Vodka \nSing your butts off.\nWatch your friends act like they can sing 😉\nNo cover wooooo.\nThis is an all ages event.
URL:https://logoncafe.net/event/taco-tuesday-karaoke-3/2021-06-22/
LOCATION:The Logon Cafe & Pub\, 3805 Calder Avenue\, Beaumont\, TX\, 77706\, United States
ATTACH;FMTTYPE=image/jpeg:https://logoncafe.net/wp-content/uploads/2018/10/339927740_756585839328526_6857413985854363341_n-e1681230563968.jpg
END:VEVENT
BEGIN:VEVENT
DTSTART;TZID=America/Chicago:20210622T200000
DTEND;TZID=America/Chicago:20210622T230000
DTSTAMP:20260420T120250
CREATED:20181030T231335Z
LAST-MODIFIED:20230411T163019Z
UID:10000196-1624392000-1624402800@logoncafe.net
SUMMARY:Taco Tuesday Karaoke!
DESCRIPTION:What goes better together than tacos and booze?!! Specials start at 6. Karaoke starts at 8!\n$2 Street Tacos\n$2 Ritas\n$2 Well Vodka \nSing your butts off.\nWatch your friends act like they can sing 😉\nNo cover wooooo.\nThis is an all ages event.
URL:https://logoncafe.net/event/taco-tuesday-karaoke/2021-06-22/
LOCATION:The Logon Cafe & Pub\, 3805 Calder Avenue\, Beaumont\, TX\, 77706\, United States
ATTACH;FMTTYPE=image/jpeg:https://logoncafe.net/wp-content/uploads/2018/10/339927740_756585839328526_6857413985854363341_n-e1681230563968.jpg
END:VEVENT
BEGIN:VEVENT
DTSTART;TZID=America/Chicago:20210621T193000
DTEND;TZID=America/Chicago:20210621T210000
DTSTAMP:20260420T120250
CREATED:20190912T212544Z
LAST-MODIFIED:20211015T161606Z
UID:10001147-1624303800-1624309200@logoncafe.net
SUMMARY:Brainstormer Trivia Night
DESCRIPTION:Brainstormer Trivia Night is one of the funnest nights around town OK I said it so get out here and jion the fun. \nCome out for Trivia night at the Logoncafe hope you have fun! \nDo you enjoy Trivia?\nAre you competitive?\nHow about Prizes for the nightly Winners?\nHow about $2.00 Wells for 7pm to 10pm \nTrivia Rules:\nNo yelling out answers\, right or wrong. It disrupts the game and can bother other players. Up to 6 players per team are allowed. There is a 5 point penalty for a team of 7\, and a 10 point pentalty for a team of 8. No cell phones\, blackberries or any type of outside sources are allowed. Have fun!
URL:https://logoncafe.net/event/brainstormer-trivia-night-2-2019-11-25-2020-01-06-2-2020-05-25-2/2021-06-21/
LOCATION:The Logon Cafe & Pub\, 3805 Calder Avenue\, Beaumont\, TX\, 77706\, United States
ATTACH;FMTTYPE=image/jpeg:https://logoncafe.net/wp-content/uploads/2019/09/trivianight2-1000x563-e1567536697294.jpg
END:VEVENT
BEGIN:VEVENT
DTSTART;TZID=America/Chicago:20210619T200000
DTEND;TZID=America/Chicago:20210619T235900
DTSTAMP:20260420T120250
CREATED:20210530T163151Z
LAST-MODIFIED:20210530T163151Z
UID:10000324-1624132800-1624147140@logoncafe.net
SUMMARY:Ramblin Boys\, The Lonesome Haunts\, The Very Very Boom
DESCRIPTION:Ramblin Boys\, The Lonesome Haunts\, The Very Very Boom \nThe Ramblin’ Boys\, formerly “of Pleasure\,” have risen from a one time festival gap stop ascending to a well-earned place among the Southeast Texas musical elite. Their diverse sonic profile\, which references American roots and acoustic based folk music melded with punk rock’s vitality and fervor\, has allowed them to share the stage with such varied acts as\, country artist\, Gary Allen\, rockabilly legends\, Reverend Horton Heat\, and\, indie rockers\, Look Mexico\, as well as numerous other local\, regional and national touring acts. 2012 finds The Boys working on their much anticipated debut full length album set to be released\, Winter ’12. The Ramblin’ Boys consists of: Bobby Parrott (vocals) James Faust (guitar) & Patrick Brignac (drums) – with all members contributing backing vocals.  https://theramblinboys.com/ \nThe Lonesome Haunts – A rock and roll band Houston\, Texas  \nThe Very Very Boom \nYancey – Guitar and Vocals\nMeredith – Bass\nMike – Drums
URL:https://logoncafe.net/event/ramblin-boys-the-lonesome-haunts-the-very-very-boom/
LOCATION:The Logon Cafe & Pub\, 3805 Calder Avenue\, Beaumont\, TX\, 77706\, United States
ATTACH;FMTTYPE=image/jpeg:https://logoncafe.net/wp-content/uploads/2021/05/191204219_10159039609883567_3113942683164629447_n-e1622391691208.jpg
END:VEVENT
BEGIN:VEVENT
DTSTART;TZID=America/Chicago:20210618T200000
DTEND;TZID=America/Chicago:20210618T235900
DTSTAMP:20260420T120250
CREATED:20190122T214643Z
LAST-MODIFIED:20210530T165740Z
UID:10001201-1624046400-1624060740@logoncafe.net
SUMMARY:Rainy & The B SIDES
DESCRIPTION:Tonight Live Music with Rainy The B-Sides; The B Sides are a group of friends with an intense love for music. What started as informal get-togethers to play mostly songs from our youth evolved into a band that plays a variety of songs from the 60s and 70s\, but not limited to that era. The band name came from the period of vinyl recordings when a record had an A-side and a B-side. The band members have all played music since high school and collectively have 200+ years of musical experience.
URL:https://logoncafe.net/event/the-b-sides-2-2-2-2-2/
LOCATION:The Logon Cafe & Pub\, 3805 Calder Avenue\, Beaumont\, TX\, 77706\, United States
ATTACH;FMTTYPE=image/jpeg:https://logoncafe.net/wp-content/uploads/2019/01/50330316_10156782538103567_7870359340345982976_n-e1548193314753.jpg
END:VEVENT
BEGIN:VEVENT
DTSTART;TZID=America/Chicago:20210617T190000
DTEND;TZID=America/Chicago:20210617T235900
DTSTAMP:20260420T120250
CREATED:20201102T185531Z
LAST-MODIFIED:20210617T135334Z
UID:10000628-1623956400-1623974340@logoncafe.net
SUMMARY:Jason Knox & Friends
DESCRIPTION:They are gonna be rocking ALL OUT on stage at the LogOn. You are GUARANTEED to get more than you pay for – NO COVER!
URL:https://logoncafe.net/event/jason-knox-friends-friday-the-13th-show-2/
LOCATION:The Logon Cafe & Pub\, 3805 Calder Avenue\, Beaumont\, TX\, 77706\, United States
ATTACH;FMTTYPE=image/jpeg:https://logoncafe.net/wp-content/uploads/2019/04/59806184_10157025784198567_303708085371797504_n.jpg
END:VEVENT
END:VCALENDAR