BEGIN:VCALENDAR
VERSION:2.0
PRODID:-//The Logon Cafe and Pub - ECPv6.15.20//NONSGML v1.0//EN
CALSCALE:GREGORIAN
METHOD:PUBLISH
X-ORIGINAL-URL:https://logoncafe.net
X-WR-CALDESC:Events for The Logon Cafe and Pub
REFRESH-INTERVAL;VALUE=DURATION:PT1H
X-Robots-Tag:noindex
X-PUBLISHED-TTL:PT1H
BEGIN:VTIMEZONE
TZID:America/Chicago
BEGIN:DAYLIGHT
TZOFFSETFROM:-0600
TZOFFSETTO:-0500
TZNAME:CDT
DTSTART:20200308T080000
END:DAYLIGHT
BEGIN:STANDARD
TZOFFSETFROM:-0500
TZOFFSETTO:-0600
TZNAME:CST
DTSTART:20201101T070000
END:STANDARD
BEGIN:DAYLIGHT
TZOFFSETFROM:-0600
TZOFFSETTO:-0500
TZNAME:CDT
DTSTART:20210314T080000
END:DAYLIGHT
BEGIN:STANDARD
TZOFFSETFROM:-0500
TZOFFSETTO:-0600
TZNAME:CST
DTSTART:20211107T070000
END:STANDARD
BEGIN:DAYLIGHT
TZOFFSETFROM:-0600
TZOFFSETTO:-0500
TZNAME:CDT
DTSTART:20220313T080000
END:DAYLIGHT
BEGIN:STANDARD
TZOFFSETFROM:-0500
TZOFFSETTO:-0600
TZNAME:CST
DTSTART:20221106T070000
END:STANDARD
END:VTIMEZONE
BEGIN:VEVENT
DTSTART;TZID=America/Chicago:20210529T200000
DTEND;TZID=America/Chicago:20210529T235900
DTSTAMP:20260420T174352
CREATED:20190913T154717Z
LAST-MODIFIED:20210524T183121Z
UID:10001265-1622318400-1622332740@logoncafe.net
SUMMARY:Jason Knox & Friends
DESCRIPTION:It’s a DAMN good time when Jason Knox and friends hit the stage! We’re going to kick it off at 8pm!\nyou never know who’s going to be sitting in with Jason
URL:https://logoncafe.net/event/jason-knox-friends-2-2-2-2-2/
LOCATION:The Logon Cafe & Pub\, 3805 Calder Avenue\, Beaumont\, TX\, 77706\, United States
ATTACH;FMTTYPE=image/jpeg:https://logoncafe.net/wp-content/uploads/2019/04/59806184_10157025784198567_303708085371797504_n.jpg
END:VEVENT
BEGIN:VEVENT
DTSTART;TZID=America/Chicago:20210528T200000
DTEND;TZID=America/Chicago:20210528T233000
DTSTAMP:20260420T174352
CREATED:20210324T205636Z
LAST-MODIFIED:20210524T182842Z
UID:10001203-1622232000-1622244600@logoncafe.net
SUMMARY:Matt Schuldt
DESCRIPTION:Matt Schuldt
URL:https://logoncafe.net/event/matt-schuldt-3-2-2/
LOCATION:The Logon Cafe & Pub\, 3805 Calder Avenue\, Beaumont\, TX\, 77706\, United States
ATTACH;FMTTYPE=image/jpeg:https://logoncafe.net/wp-content/uploads/2021/02/152965208_10158835060913567_1646180114165249546_o-e1614293765845.jpg
END:VEVENT
BEGIN:VEVENT
DTSTART;TZID=America/Chicago:20210527T200000
DTEND;TZID=America/Chicago:20210527T233000
DTSTAMP:20260420T174352
CREATED:20210322T215451Z
LAST-MODIFIED:20210524T181234Z
UID:10001266-1622145600-1622158200@logoncafe.net
SUMMARY:Daniel Waters Piano Man
DESCRIPTION:The super talented Daniel Waters! Finally – Beaumont get’s an AMAZING piano player!!
URL:https://logoncafe.net/event/daniel-waters-piano-man-2-2-2-2/
LOCATION:The Logon Cafe & Pub\, 3805 Calder Avenue\, Beaumont\, TX\, 77706\, United States
ATTACH;FMTTYPE=image/jpeg:https://logoncafe.net/wp-content/uploads/2021/01/136112782_10158695558563567_1379601443691432188_o-e1610142234736.jpg
END:VEVENT
BEGIN:VEVENT
DTSTART;TZID=America/Chicago:20210526T200000
DTEND;TZID=America/Chicago:20210526T230000
DTSTAMP:20260420T174352
CREATED:20251030T155404Z
LAST-MODIFIED:20251030T155404Z
UID:10004255-1622059200-1622070000@logoncafe.net
SUMMARY:Open Mic Night
DESCRIPTION:Come one and all to transform our stage into your own personal music venue! Even if you just know someone that likes to play and sing\, get them to come out and buy em a beer! \nWe’ve been hosting Open Mic every Wednesday since 1999\, so come in and join in the tradition. \nSign up is at 7:30 | No Cover \n\n 
URL:https://logoncafe.net/event/open-mic-night-51/2021-05-26/
LOCATION:The Logon Cafe & Pub\, 3805 Calder Avenue\, Beaumont\, TX\, 77706\, United States
CATEGORIES:Open Mic Night
ATTACH;FMTTYPE=image/jpeg:https://logoncafe.net/wp-content/uploads/2022/11/313067660_604791594876249_2466134981987312388_n.jpg
END:VEVENT
BEGIN:VEVENT
DTSTART;TZID=America/Chicago:20210526T200000
DTEND;TZID=America/Chicago:20210526T230000
DTSTAMP:20260420T174352
CREATED:20250303T233810Z
LAST-MODIFIED:20250303T233810Z
UID:10008040-1622059200-1622070000@logoncafe.net
SUMMARY:Open Mic Night
DESCRIPTION:Come one and all to transform our stage into your own personal music venue! Even if you just know someone that likes to play and sing\, get them to come out and buy em a beer! \nWe’ve been hosting Open Mic every Wednesday since 1999\, so come in and join in the tradition. \nSign up is at 7:30 | No Cover \n\n 
URL:https://logoncafe.net/event/open-mic-night-28/2021-05-26/
LOCATION:The Logon Cafe & Pub\, 3805 Calder Avenue\, Beaumont\, TX\, 77706\, United States
CATEGORIES:Open Mic Night
ATTACH;FMTTYPE=image/jpeg:https://logoncafe.net/wp-content/uploads/2022/11/313067660_604791594876249_2466134981987312388_n.jpg
END:VEVENT
BEGIN:VEVENT
DTSTART;TZID=America/Chicago:20210525T200000
DTEND;TZID=America/Chicago:20210525T230000
DTSTAMP:20260420T174352
CREATED:20250407T004038Z
LAST-MODIFIED:20250407T004038Z
UID:10009279-1621972800-1621983600@logoncafe.net
SUMMARY:Taco Tuesday Karaoke!
DESCRIPTION:What goes better together than tacos and booze?!! Specials start at 6. Karaoke starts at 8!$2 Street Tacos$2 Ritas$2 Well Vodka \nSing your butts off.Watch your friends act like they can sing 😉No cover wooooo.This is an all ages event.
URL:https://logoncafe.net/event/taco-tuesday-karaoke-18/2021-05-25/
LOCATION:The Logon Cafe & Pub\, 3805 Calder Avenue\, Beaumont\, TX\, 77706\, United States
ATTACH;FMTTYPE=image/jpeg:https://logoncafe.net/wp-content/uploads/2018/10/339927740_756585839328526_6857413985854363341_n-e1681230563968.jpg
END:VEVENT
BEGIN:VEVENT
DTSTART;TZID=America/Chicago:20210525T200000
DTEND;TZID=America/Chicago:20210525T230000
DTSTAMP:20260420T174352
CREATED:20240411T141711Z
LAST-MODIFIED:20240411T141712Z
UID:10012610-1621972800-1621983600@logoncafe.net
SUMMARY:Taco Tuesday Karaoke!
DESCRIPTION:What goes better together than tacos and booze?!! Specials start at 6. Karaoke starts at 8!\n$2 Street Tacos\n$2 Ritas\n$2 Well Vodka \nSing your butts off.\nWatch your friends act like they can sing 😉\nNo cover wooooo.\nThis is an all ages event.
URL:https://logoncafe.net/event/taco-tuesday-karaoke-3/2021-05-25/
LOCATION:The Logon Cafe & Pub\, 3805 Calder Avenue\, Beaumont\, TX\, 77706\, United States
ATTACH;FMTTYPE=image/jpeg:https://logoncafe.net/wp-content/uploads/2018/10/339927740_756585839328526_6857413985854363341_n-e1681230563968.jpg
END:VEVENT
BEGIN:VEVENT
DTSTART;TZID=America/Chicago:20210525T200000
DTEND;TZID=America/Chicago:20210525T230000
DTSTAMP:20260420T174352
CREATED:20181030T231335Z
LAST-MODIFIED:20230411T163019Z
UID:10000192-1621972800-1621983600@logoncafe.net
SUMMARY:Taco Tuesday Karaoke!
DESCRIPTION:What goes better together than tacos and booze?!! Specials start at 6. Karaoke starts at 8!\n$2 Street Tacos\n$2 Ritas\n$2 Well Vodka \nSing your butts off.\nWatch your friends act like they can sing 😉\nNo cover wooooo.\nThis is an all ages event.
URL:https://logoncafe.net/event/taco-tuesday-karaoke/2021-05-25/
LOCATION:The Logon Cafe & Pub\, 3805 Calder Avenue\, Beaumont\, TX\, 77706\, United States
ATTACH;FMTTYPE=image/jpeg:https://logoncafe.net/wp-content/uploads/2018/10/339927740_756585839328526_6857413985854363341_n-e1681230563968.jpg
END:VEVENT
BEGIN:VEVENT
DTSTART;TZID=America/Chicago:20210524T193000
DTEND;TZID=America/Chicago:20210524T210000
DTSTAMP:20260420T174352
CREATED:20190912T212544Z
LAST-MODIFIED:20211015T161606Z
UID:10001143-1621884600-1621890000@logoncafe.net
SUMMARY:Brainstormer Trivia Night
DESCRIPTION:Brainstormer Trivia Night is one of the funnest nights around town OK I said it so get out here and jion the fun. \nCome out for Trivia night at the Logoncafe hope you have fun! \nDo you enjoy Trivia?\nAre you competitive?\nHow about Prizes for the nightly Winners?\nHow about $2.00 Wells for 7pm to 10pm \nTrivia Rules:\nNo yelling out answers\, right or wrong. It disrupts the game and can bother other players. Up to 6 players per team are allowed. There is a 5 point penalty for a team of 7\, and a 10 point pentalty for a team of 8. No cell phones\, blackberries or any type of outside sources are allowed. Have fun!
URL:https://logoncafe.net/event/brainstormer-trivia-night-2-2019-11-25-2020-01-06-2-2020-05-25-2/2021-05-24/
LOCATION:The Logon Cafe & Pub\, 3805 Calder Avenue\, Beaumont\, TX\, 77706\, United States
ATTACH;FMTTYPE=image/jpeg:https://logoncafe.net/wp-content/uploads/2019/09/trivianight2-1000x563-e1567536697294.jpg
END:VEVENT
BEGIN:VEVENT
DTSTART;TZID=America/Chicago:20210523T110000
DTEND;TZID=America/Chicago:20210523T140000
DTSTAMP:20260420T174353
CREATED:20210517T204304Z
LAST-MODIFIED:20210517T204304Z
UID:10000629-1621767600-1621778400@logoncafe.net
SUMMARY:Come out for our Sunday Brunch
DESCRIPTION:Come out for our Sunday Brunch\nThings to due this weekend:\n1. Brunch at the Logoncafe\n2. Mimosas at the Logoncafe\n3. Spicy Bloody Mary’s at the Logoncafe\n4. More Mimosas at the Logoncafe\n5. Smile\, Laugh. tell jokes at the Logoncafe\n6. Have a fantastic Day thinking about that Brunch & Mimosas at the Logoncafe \nCome out and try our Brunch I know you will like it.
URL:https://logoncafe.net/event/come-out-for-our-sunday-brunch/
LOCATION:The Logon Cafe & Pub\, 3805 Calder Avenue\, Beaumont\, TX\, 77706\, United States
ATTACH;FMTTYPE=image/png:https://logoncafe.net/wp-content/uploads/2020/01/brunchs.png
END:VEVENT
BEGIN:VEVENT
DTSTART;TZID=America/Chicago:20210523T080000
DTEND;TZID=America/Chicago:20210523T170000
DTSTAMP:20260420T174353
CREATED:20210501T185422Z
LAST-MODIFIED:20210501T185422Z
UID:10000641-1621756800-1621789200@logoncafe.net
SUMMARY:Remember Trivia every Monday night it comes with drink specials
DESCRIPTION:You’ll have plenty fun and laughs all night \n#Trivia
URL:https://logoncafe.net/event/remember-trivia-every-monday-night-it-comes-with-drink-specials/
LOCATION:The Logon Cafe & Pub\, 3805 Calder Avenue\, Beaumont\, TX\, 77706\, United States
ATTACH;FMTTYPE=image/jpeg:https://logoncafe.net/wp-content/uploads/2021/05/trivia121.jpg
END:VEVENT
BEGIN:VEVENT
DTSTART;TZID=America/Chicago:20210520T200000
DTEND;TZID=America/Chicago:20210520T235900
DTSTAMP:20260420T174353
CREATED:20200101T193050Z
LAST-MODIFIED:20210517T203632Z
UID:10000325-1621540800-1621555140@logoncafe.net
SUMMARY:The Knott Brothers
DESCRIPTION:Mark you calendars now!  The Knott Brothers will be at the Logon Cafe Saturday\, February 8th .  Classic rock\, blues\, beach music\, and maybe an original tune as well.  Drop in and party with these seasoned local musicians\, and enjoy a snack while your there.  Plus always some interesting beer on tap.  Hope to see y’all there!
URL:https://logoncafe.net/event/the-knott-brothers-2-2-2-2/
LOCATION:The Logon Cafe & Pub\, 3805 Calder Avenue\, Beaumont\, TX\, 77706\, United States
ATTACH;FMTTYPE=image/jpeg:https://logoncafe.net/wp-content/uploads/2019/01/43281618_1919558418349477_5017452804608884736_n-e1548197614140.jpg
END:VEVENT
BEGIN:VEVENT
DTSTART;TZID=America/Chicago:20210519T200000
DTEND;TZID=America/Chicago:20210519T230000
DTSTAMP:20260420T174353
CREATED:20251030T155404Z
LAST-MODIFIED:20251030T155404Z
UID:10004254-1621454400-1621465200@logoncafe.net
SUMMARY:Open Mic Night
DESCRIPTION:Come one and all to transform our stage into your own personal music venue! Even if you just know someone that likes to play and sing\, get them to come out and buy em a beer! \nWe’ve been hosting Open Mic every Wednesday since 1999\, so come in and join in the tradition. \nSign up is at 7:30 | No Cover \n\n 
URL:https://logoncafe.net/event/open-mic-night-51/2021-05-19/
LOCATION:The Logon Cafe & Pub\, 3805 Calder Avenue\, Beaumont\, TX\, 77706\, United States
CATEGORIES:Open Mic Night
ATTACH;FMTTYPE=image/jpeg:https://logoncafe.net/wp-content/uploads/2022/11/313067660_604791594876249_2466134981987312388_n.jpg
END:VEVENT
BEGIN:VEVENT
DTSTART;TZID=America/Chicago:20210519T200000
DTEND;TZID=America/Chicago:20210519T230000
DTSTAMP:20260420T174353
CREATED:20250303T233810Z
LAST-MODIFIED:20250303T233810Z
UID:10008039-1621454400-1621465200@logoncafe.net
SUMMARY:Open Mic Night
DESCRIPTION:Come one and all to transform our stage into your own personal music venue! Even if you just know someone that likes to play and sing\, get them to come out and buy em a beer! \nWe’ve been hosting Open Mic every Wednesday since 1999\, so come in and join in the tradition. \nSign up is at 7:30 | No Cover \n\n 
URL:https://logoncafe.net/event/open-mic-night-28/2021-05-19/
LOCATION:The Logon Cafe & Pub\, 3805 Calder Avenue\, Beaumont\, TX\, 77706\, United States
CATEGORIES:Open Mic Night
ATTACH;FMTTYPE=image/jpeg:https://logoncafe.net/wp-content/uploads/2022/11/313067660_604791594876249_2466134981987312388_n.jpg
END:VEVENT
BEGIN:VEVENT
DTSTART;TZID=America/Chicago:20210518T200000
DTEND;TZID=America/Chicago:20210518T230000
DTSTAMP:20260420T174353
CREATED:20250407T004038Z
LAST-MODIFIED:20250407T004038Z
UID:10009278-1621368000-1621378800@logoncafe.net
SUMMARY:Taco Tuesday Karaoke!
DESCRIPTION:What goes better together than tacos and booze?!! Specials start at 6. Karaoke starts at 8!$2 Street Tacos$2 Ritas$2 Well Vodka \nSing your butts off.Watch your friends act like they can sing 😉No cover wooooo.This is an all ages event.
URL:https://logoncafe.net/event/taco-tuesday-karaoke-18/2021-05-18/
LOCATION:The Logon Cafe & Pub\, 3805 Calder Avenue\, Beaumont\, TX\, 77706\, United States
ATTACH;FMTTYPE=image/jpeg:https://logoncafe.net/wp-content/uploads/2018/10/339927740_756585839328526_6857413985854363341_n-e1681230563968.jpg
END:VEVENT
BEGIN:VEVENT
DTSTART;TZID=America/Chicago:20210518T200000
DTEND;TZID=America/Chicago:20210518T230000
DTSTAMP:20260420T174353
CREATED:20240411T141711Z
LAST-MODIFIED:20240411T141712Z
UID:10012609-1621368000-1621378800@logoncafe.net
SUMMARY:Taco Tuesday Karaoke!
DESCRIPTION:What goes better together than tacos and booze?!! Specials start at 6. Karaoke starts at 8!\n$2 Street Tacos\n$2 Ritas\n$2 Well Vodka \nSing your butts off.\nWatch your friends act like they can sing 😉\nNo cover wooooo.\nThis is an all ages event.
URL:https://logoncafe.net/event/taco-tuesday-karaoke-3/2021-05-18/
LOCATION:The Logon Cafe & Pub\, 3805 Calder Avenue\, Beaumont\, TX\, 77706\, United States
ATTACH;FMTTYPE=image/jpeg:https://logoncafe.net/wp-content/uploads/2018/10/339927740_756585839328526_6857413985854363341_n-e1681230563968.jpg
END:VEVENT
BEGIN:VEVENT
DTSTART;TZID=America/Chicago:20210518T200000
DTEND;TZID=America/Chicago:20210518T230000
DTSTAMP:20260420T174353
CREATED:20181030T231335Z
LAST-MODIFIED:20230411T163019Z
UID:10000191-1621368000-1621378800@logoncafe.net
SUMMARY:Taco Tuesday Karaoke!
DESCRIPTION:What goes better together than tacos and booze?!! Specials start at 6. Karaoke starts at 8!\n$2 Street Tacos\n$2 Ritas\n$2 Well Vodka \nSing your butts off.\nWatch your friends act like they can sing 😉\nNo cover wooooo.\nThis is an all ages event.
URL:https://logoncafe.net/event/taco-tuesday-karaoke/2021-05-18/
LOCATION:The Logon Cafe & Pub\, 3805 Calder Avenue\, Beaumont\, TX\, 77706\, United States
ATTACH;FMTTYPE=image/jpeg:https://logoncafe.net/wp-content/uploads/2018/10/339927740_756585839328526_6857413985854363341_n-e1681230563968.jpg
END:VEVENT
BEGIN:VEVENT
DTSTART;TZID=America/Chicago:20210517T193000
DTEND;TZID=America/Chicago:20210517T210000
DTSTAMP:20260420T174353
CREATED:20190912T212544Z
LAST-MODIFIED:20211015T161606Z
UID:10001142-1621279800-1621285200@logoncafe.net
SUMMARY:Brainstormer Trivia Night
DESCRIPTION:Brainstormer Trivia Night is one of the funnest nights around town OK I said it so get out here and jion the fun. \nCome out for Trivia night at the Logoncafe hope you have fun! \nDo you enjoy Trivia?\nAre you competitive?\nHow about Prizes for the nightly Winners?\nHow about $2.00 Wells for 7pm to 10pm \nTrivia Rules:\nNo yelling out answers\, right or wrong. It disrupts the game and can bother other players. Up to 6 players per team are allowed. There is a 5 point penalty for a team of 7\, and a 10 point pentalty for a team of 8. No cell phones\, blackberries or any type of outside sources are allowed. Have fun!
URL:https://logoncafe.net/event/brainstormer-trivia-night-2-2019-11-25-2020-01-06-2-2020-05-25-2/2021-05-17/
LOCATION:The Logon Cafe & Pub\, 3805 Calder Avenue\, Beaumont\, TX\, 77706\, United States
ATTACH;FMTTYPE=image/jpeg:https://logoncafe.net/wp-content/uploads/2019/09/trivianight2-1000x563-e1567536697294.jpg
END:VEVENT
BEGIN:VEVENT
DTSTART;TZID=America/Chicago:20210515T200000
DTEND;TZID=America/Chicago:20210515T233000
DTSTAMP:20260420T174353
CREATED:20210324T204653Z
LAST-MODIFIED:20210324T204653Z
UID:10001256-1621108800-1621121400@logoncafe.net
SUMMARY:The Rick Show
DESCRIPTION:The Rick Show \nRick Busby and Rick Danna are back together again with Stephen Doc Watson\, Kenny Wiebusch\, and Josh Courts!!
URL:https://logoncafe.net/event/the-rick-show/
LOCATION:The Logon Cafe & Pub\, 3805 Calder Avenue\, Beaumont\, TX\, 77706\, United States
ATTACH;FMTTYPE=image/jpeg:https://logoncafe.net/wp-content/uploads/2019/03/53595352_10156872257848567_8494667626054680576_n.jpg
END:VEVENT
BEGIN:VEVENT
DTSTART;TZID=America/Chicago:20210514T200000
DTEND;TZID=America/Chicago:20210514T233000
DTSTAMP:20260420T174353
CREATED:20210422T021811Z
LAST-MODIFIED:20210422T021811Z
UID:10001263-1621022400-1621035000@logoncafe.net
SUMMARY:Rainy Kimbrough
DESCRIPTION:Rainy Kimbrough\n.
URL:https://logoncafe.net/event/rainy-kimbrough/
LOCATION:The Logon Cafe & Pub\, 3805 Calder Avenue\, Beaumont\, TX\, 77706\, United States
END:VEVENT
BEGIN:VEVENT
DTSTART;TZID=America/Chicago:20210513T200000
DTEND;TZID=America/Chicago:20210513T235900
DTSTAMP:20260420T174353
CREATED:20181202T165906Z
LAST-MODIFIED:20210423T180757Z
UID:10001098-1620936000-1620950340@logoncafe.net
SUMMARY:The Celebration of Life and Blues Jam for Bruce Holliman
DESCRIPTION:The Celebration of Life and Blues Jam for Bruce Holliman will be at Logon Cafe Thursday May 13th 2021. We’ll mingle from 6pm to 8pm then the Blues Jam starts at 8 and goes till 12. There’s outdoor tables on the front patio as well as in back for those who may not want to stay inside. Outdoor speakers will allow you to hear what goes on inside. Come celebrate the life of Bruce with your SPHS family.
URL:https://logoncafe.net/event/open-blues-jam-2-2021-05-13/
LOCATION:The Logon Cafe & Pub\, 3805 Calder Avenue\, Beaumont\, TX\, 77706\, United States
ATTACH;FMTTYPE=image/jpeg:https://logoncafe.net/wp-content/uploads/2018/12/176287912_1206410119819509_5331288831478371190_n-e1619199381976.jpg
END:VEVENT
BEGIN:VEVENT
DTSTART;TZID=America/Chicago:20210512T200000
DTEND;TZID=America/Chicago:20210512T230000
DTSTAMP:20260420T174353
CREATED:20251030T155404Z
LAST-MODIFIED:20251030T155404Z
UID:10004253-1620849600-1620860400@logoncafe.net
SUMMARY:Open Mic Night
DESCRIPTION:Come one and all to transform our stage into your own personal music venue! Even if you just know someone that likes to play and sing\, get them to come out and buy em a beer! \nWe’ve been hosting Open Mic every Wednesday since 1999\, so come in and join in the tradition. \nSign up is at 7:30 | No Cover \n\n 
URL:https://logoncafe.net/event/open-mic-night-51/2021-05-12/
LOCATION:The Logon Cafe & Pub\, 3805 Calder Avenue\, Beaumont\, TX\, 77706\, United States
CATEGORIES:Open Mic Night
ATTACH;FMTTYPE=image/jpeg:https://logoncafe.net/wp-content/uploads/2022/11/313067660_604791594876249_2466134981987312388_n.jpg
END:VEVENT
BEGIN:VEVENT
DTSTART;TZID=America/Chicago:20210512T200000
DTEND;TZID=America/Chicago:20210512T230000
DTSTAMP:20260420T174353
CREATED:20250303T233810Z
LAST-MODIFIED:20250303T233810Z
UID:10008038-1620849600-1620860400@logoncafe.net
SUMMARY:Open Mic Night
DESCRIPTION:Come one and all to transform our stage into your own personal music venue! Even if you just know someone that likes to play and sing\, get them to come out and buy em a beer! \nWe’ve been hosting Open Mic every Wednesday since 1999\, so come in and join in the tradition. \nSign up is at 7:30 | No Cover \n\n 
URL:https://logoncafe.net/event/open-mic-night-28/2021-05-12/
LOCATION:The Logon Cafe & Pub\, 3805 Calder Avenue\, Beaumont\, TX\, 77706\, United States
CATEGORIES:Open Mic Night
ATTACH;FMTTYPE=image/jpeg:https://logoncafe.net/wp-content/uploads/2022/11/313067660_604791594876249_2466134981987312388_n.jpg
END:VEVENT
BEGIN:VEVENT
DTSTART;TZID=America/Chicago:20210511T200000
DTEND;TZID=America/Chicago:20210511T230000
DTSTAMP:20260420T174353
CREATED:20250407T004038Z
LAST-MODIFIED:20250407T004038Z
UID:10009277-1620763200-1620774000@logoncafe.net
SUMMARY:Taco Tuesday Karaoke!
DESCRIPTION:What goes better together than tacos and booze?!! Specials start at 6. Karaoke starts at 8!$2 Street Tacos$2 Ritas$2 Well Vodka \nSing your butts off.Watch your friends act like they can sing 😉No cover wooooo.This is an all ages event.
URL:https://logoncafe.net/event/taco-tuesday-karaoke-18/2021-05-11/
LOCATION:The Logon Cafe & Pub\, 3805 Calder Avenue\, Beaumont\, TX\, 77706\, United States
ATTACH;FMTTYPE=image/jpeg:https://logoncafe.net/wp-content/uploads/2018/10/339927740_756585839328526_6857413985854363341_n-e1681230563968.jpg
END:VEVENT
BEGIN:VEVENT
DTSTART;TZID=America/Chicago:20210511T200000
DTEND;TZID=America/Chicago:20210511T230000
DTSTAMP:20260420T174353
CREATED:20240411T141711Z
LAST-MODIFIED:20240411T141712Z
UID:10012608-1620763200-1620774000@logoncafe.net
SUMMARY:Taco Tuesday Karaoke!
DESCRIPTION:What goes better together than tacos and booze?!! Specials start at 6. Karaoke starts at 8!\n$2 Street Tacos\n$2 Ritas\n$2 Well Vodka \nSing your butts off.\nWatch your friends act like they can sing 😉\nNo cover wooooo.\nThis is an all ages event.
URL:https://logoncafe.net/event/taco-tuesday-karaoke-3/2021-05-11/
LOCATION:The Logon Cafe & Pub\, 3805 Calder Avenue\, Beaumont\, TX\, 77706\, United States
ATTACH;FMTTYPE=image/jpeg:https://logoncafe.net/wp-content/uploads/2018/10/339927740_756585839328526_6857413985854363341_n-e1681230563968.jpg
END:VEVENT
BEGIN:VEVENT
DTSTART;TZID=America/Chicago:20210511T200000
DTEND;TZID=America/Chicago:20210511T230000
DTSTAMP:20260420T174353
CREATED:20181030T231335Z
LAST-MODIFIED:20230411T163019Z
UID:10000190-1620763200-1620774000@logoncafe.net
SUMMARY:Taco Tuesday Karaoke!
DESCRIPTION:What goes better together than tacos and booze?!! Specials start at 6. Karaoke starts at 8!\n$2 Street Tacos\n$2 Ritas\n$2 Well Vodka \nSing your butts off.\nWatch your friends act like they can sing 😉\nNo cover wooooo.\nThis is an all ages event.
URL:https://logoncafe.net/event/taco-tuesday-karaoke/2021-05-11/
LOCATION:The Logon Cafe & Pub\, 3805 Calder Avenue\, Beaumont\, TX\, 77706\, United States
ATTACH;FMTTYPE=image/jpeg:https://logoncafe.net/wp-content/uploads/2018/10/339927740_756585839328526_6857413985854363341_n-e1681230563968.jpg
END:VEVENT
BEGIN:VEVENT
DTSTART;TZID=America/Chicago:20210510T193000
DTEND;TZID=America/Chicago:20210510T210000
DTSTAMP:20260420T174353
CREATED:20190912T212544Z
LAST-MODIFIED:20211015T161606Z
UID:10001141-1620675000-1620680400@logoncafe.net
SUMMARY:Brainstormer Trivia Night
DESCRIPTION:Brainstormer Trivia Night is one of the funnest nights around town OK I said it so get out here and jion the fun. \nCome out for Trivia night at the Logoncafe hope you have fun! \nDo you enjoy Trivia?\nAre you competitive?\nHow about Prizes for the nightly Winners?\nHow about $2.00 Wells for 7pm to 10pm \nTrivia Rules:\nNo yelling out answers\, right or wrong. It disrupts the game and can bother other players. Up to 6 players per team are allowed. There is a 5 point penalty for a team of 7\, and a 10 point pentalty for a team of 8. No cell phones\, blackberries or any type of outside sources are allowed. Have fun!
URL:https://logoncafe.net/event/brainstormer-trivia-night-2-2019-11-25-2020-01-06-2-2020-05-25-2/2021-05-10/
LOCATION:The Logon Cafe & Pub\, 3805 Calder Avenue\, Beaumont\, TX\, 77706\, United States
ATTACH;FMTTYPE=image/jpeg:https://logoncafe.net/wp-content/uploads/2019/09/trivianight2-1000x563-e1567536697294.jpg
END:VEVENT
BEGIN:VEVENT
DTSTART;TZID=America/Chicago:20210509T080000
DTEND;TZID=America/Chicago:20210509T170000
DTSTAMP:20260420T174353
CREATED:20210501T183252Z
LAST-MODIFIED:20210501T183252Z
UID:10001200-1620547200-1620579600@logoncafe.net
SUMMARY:When was the last time you had a Chicago Dog at the Logoncafe?
DESCRIPTION:When was the last time you had a Chicago Dog at the Logoncafe?\n#ChicagoDog #logoncafe
URL:https://logoncafe.net/event/when-was-the-last-time-you-had-a-chicago-dog-at-the-logoncafe/
LOCATION:The Logon Cafe & Pub\, 3805 Calder Avenue\, Beaumont\, TX\, 77706\, United States
ATTACH;FMTTYPE=image/jpeg:https://logoncafe.net/wp-content/uploads/2021/05/safe_image.php_.jpg
END:VEVENT
BEGIN:VEVENT
DTSTART;TZID=America/Chicago:20210508T200000
DTEND;TZID=America/Chicago:20210508T233000
DTSTAMP:20260420T174353
CREATED:20210324T205636Z
LAST-MODIFIED:20210504T201432Z
UID:10000051-1620504000-1620516600@logoncafe.net
SUMMARY:Matt Schuldt
DESCRIPTION:Matt Schuldt
URL:https://logoncafe.net/event/matt-schuldt-3-2/
LOCATION:The Logon Cafe & Pub\, 3805 Calder Avenue\, Beaumont\, TX\, 77706\, United States
ATTACH;FMTTYPE=image/jpeg:https://logoncafe.net/wp-content/uploads/2021/02/152965208_10158835060913567_1646180114165249546_o-e1614293765845.jpg
END:VEVENT
BEGIN:VEVENT
DTSTART;TZID=America/Chicago:20210508T180000
DTEND;TZID=America/Chicago:20210508T235900
DTSTAMP:20260420T174353
CREATED:20210504T202345Z
LAST-MODIFIED:20210504T202345Z
UID:10000054-1620496800-1620518340@logoncafe.net
SUMMARY:Crawfish Boil @thelogoncafe
DESCRIPTION:It’s The Logoncafe Crawfish Boil!\nWe are getting ready for a big day of crawfish and live music! Crawfish. Crayfish. Mudbugs. Whatever you call them there is nothing like a crawfish boil!\nCRAWFISH ARE $4.99 LB – 6PM TILL WE SELL OUT 🙂\n3 lb/$14.99\n5lb/$24.99\nHappy Hour Miller Lt all night\n$2 Wells all night\nMatt Schuldt will be providing the tunes! \n#crawfish
URL:https://logoncafe.net/event/crawfish-boil-thelogoncafe/
LOCATION:The Logon Cafe & Pub\, 3805 Calder Avenue\, Beaumont\, TX\, 77706\, United States
ATTACH;FMTTYPE=image/jpeg:https://logoncafe.net/wp-content/uploads/2020/02/83532236_10157704087903567_9116140198260899840_n-e1581118511808.jpg
END:VEVENT
END:VCALENDAR