BEGIN:VCALENDAR
VERSION:2.0
PRODID:-//The Logon Cafe and Pub - ECPv6.15.20//NONSGML v1.0//EN
CALSCALE:GREGORIAN
METHOD:PUBLISH
X-WR-CALNAME:The Logon Cafe and Pub
X-ORIGINAL-URL:https://logoncafe.net
X-WR-CALDESC:Events for The Logon Cafe and Pub
REFRESH-INTERVAL;VALUE=DURATION:PT1H
X-Robots-Tag:noindex
X-PUBLISHED-TTL:PT1H
BEGIN:VTIMEZONE
TZID:America/Chicago
BEGIN:DAYLIGHT
TZOFFSETFROM:-0600
TZOFFSETTO:-0500
TZNAME:CDT
DTSTART:20200308T080000
END:DAYLIGHT
BEGIN:STANDARD
TZOFFSETFROM:-0500
TZOFFSETTO:-0600
TZNAME:CST
DTSTART:20201101T070000
END:STANDARD
BEGIN:DAYLIGHT
TZOFFSETFROM:-0600
TZOFFSETTO:-0500
TZNAME:CDT
DTSTART:20210314T080000
END:DAYLIGHT
BEGIN:STANDARD
TZOFFSETFROM:-0500
TZOFFSETTO:-0600
TZNAME:CST
DTSTART:20211107T070000
END:STANDARD
BEGIN:DAYLIGHT
TZOFFSETFROM:-0600
TZOFFSETTO:-0500
TZNAME:CDT
DTSTART:20220313T080000
END:DAYLIGHT
BEGIN:STANDARD
TZOFFSETFROM:-0500
TZOFFSETTO:-0600
TZNAME:CST
DTSTART:20221106T070000
END:STANDARD
END:VTIMEZONE
BEGIN:VEVENT
DTSTART;TZID=America/Chicago:20211207T200000
DTEND;TZID=America/Chicago:20211207T230000
DTSTAMP:20260420T234828
CREATED:20181030T231335Z
LAST-MODIFIED:20230411T163019Z
UID:10000220-1638907200-1638918000@logoncafe.net
SUMMARY:Taco Tuesday Karaoke!
DESCRIPTION:What goes better together than tacos and booze?!! Specials start at 6. Karaoke starts at 8!\n$2 Street Tacos\n$2 Ritas\n$2 Well Vodka \nSing your butts off.\nWatch your friends act like they can sing 😉\nNo cover wooooo.\nThis is an all ages event.
URL:https://logoncafe.net/event/taco-tuesday-karaoke/2021-12-07/
LOCATION:The Logon Cafe & Pub\, 3805 Calder Avenue\, Beaumont\, TX\, 77706\, United States
ATTACH;FMTTYPE=image/jpeg:https://logoncafe.net/wp-content/uploads/2018/10/339927740_756585839328526_6857413985854363341_n-e1681230563968.jpg
END:VEVENT
BEGIN:VEVENT
DTSTART;TZID=America/Chicago:20211206T193000
DTEND;TZID=America/Chicago:20211206T213000
DTSTAMP:20260420T234828
CREATED:20200620T010314Z
LAST-MODIFIED:20211206T183249Z
UID:10001303-1638819000-1638826200@logoncafe.net
SUMMARY:Brainstormer Trivia Mondays!
DESCRIPTION:Brainstormer Trivia Mondays! \nCome out for Trivia night at the Logoncafe hope you have fun! \nDo you enjoy Trivia?\nAre you competitive?\nHow about Prizes for the nightly Winners?\nHow about $2.00 Wells for 7pm to 10pm \nTrivia Rules:\nNo yelling out answers\, right or wrong. It disrupts the game and can bother other players. Up to 6 players per team are allowed. There is a 5 point penalty for a team of 7\, and a 10 point pentalty for a team of 8. No cell phones\, blackberries or any type of outside sources are allowed. Have fun!
URL:https://logoncafe.net/event/brainstormer-trivia-mondays-2/
LOCATION:The Logon Cafe & Pub\, 3805 Calder Avenue\, Beaumont\, TX\, 77706\, United States
ATTACH;FMTTYPE=image/jpeg:https://logoncafe.net/wp-content/uploads/2019/10/trivianight3-1000x563-e1570640148493.jpg
END:VEVENT
BEGIN:VEVENT
DTSTART;TZID=America/Chicago:20211204T200000
DTEND;TZID=America/Chicago:20211204T235900
DTSTAMP:20260420T234828
CREATED:20211116T202919Z
LAST-MODIFIED:20211116T202919Z
UID:10000003-1638648000-1638662340@logoncafe.net
SUMMARY:The Mud Flats
DESCRIPTION:The Mud Flats\nMudd Flats is an Americana band in the southeast Texas arena. We play a mix of music that we call Gu\nhttps://www.facebook.com/100057169131517/videos/1990744041177369
URL:https://logoncafe.net/event/the-mud-flats/
LOCATION:The Logon Cafe & Pub\, 3805 Calder Avenue\, Beaumont\, TX\, 77706\, United States
ATTACH;FMTTYPE=image/jpeg:https://logoncafe.net/wp-content/uploads/2021/11/162043817_216641860251450_2981629016861356339_n-e1637094424971.jpg
END:VEVENT
BEGIN:VEVENT
DTSTART;TZID=America/Chicago:20211203T200000
DTEND;TZID=America/Chicago:20211203T235900
DTSTAMP:20260420T234828
CREATED:20210322T215451Z
LAST-MODIFIED:20211130T160226Z
UID:10000001-1638561600-1638575940@logoncafe.net
SUMMARY:Daniel Waters Piano Man
DESCRIPTION:The super talented Daniel Waters! Finally – Beaumont gets an AMAZING piano player!!\nhttps://www.facebook.com/john.fears.927/videos/912523286335362
URL:https://logoncafe.net/event/daniel-waters-piano-man-2-2-2-2-2-2-2-2/
LOCATION:The Logon Cafe & Pub\, 3805 Calder Avenue\, Beaumont\, TX\, 77706\, United States
ATTACH;FMTTYPE=image/jpeg:https://logoncafe.net/wp-content/uploads/2021/03/dan-waters.jpg
END:VEVENT
BEGIN:VEVENT
DTSTART;TZID=America/Chicago:20211202T200000
DTEND;TZID=America/Chicago:20211202T233000
DTSTAMP:20260420T234828
CREATED:20210324T205636Z
LAST-MODIFIED:20211130T160100Z
UID:10000064-1638475200-1638487800@logoncafe.net
SUMMARY:Matt Schuldt Live at the Logon
DESCRIPTION:Matt Schuldt\nLive music and drinks. His Billy Joel covers are our favorite! Music starts at 8. No Cover.
URL:https://logoncafe.net/event/matt-schuldt-3-2-2-2-2-2-2-2-2-2/
LOCATION:The Logon Cafe & Pub\, 3805 Calder Avenue\, Beaumont\, TX\, 77706\, United States
ATTACH;FMTTYPE=image/jpeg:https://logoncafe.net/wp-content/uploads/2021/03/245500433_10159292690173567_474208960730765432_n-e1634083675743.jpg
END:VEVENT
BEGIN:VEVENT
DTSTART;TZID=America/Chicago:20211201T200000
DTEND;TZID=America/Chicago:20211201T230000
DTSTAMP:20260420T234828
CREATED:20251030T155404Z
LAST-MODIFIED:20251030T155404Z
UID:10004282-1638388800-1638399600@logoncafe.net
SUMMARY:Open Mic Night
DESCRIPTION:Come one and all to transform our stage into your own personal music venue! Even if you just know someone that likes to play and sing\, get them to come out and buy em a beer! \nWe’ve been hosting Open Mic every Wednesday since 1999\, so come in and join in the tradition. \nSign up is at 7:30 | No Cover \n\n 
URL:https://logoncafe.net/event/open-mic-night-51/2021-12-01/
LOCATION:The Logon Cafe & Pub\, 3805 Calder Avenue\, Beaumont\, TX\, 77706\, United States
CATEGORIES:Open Mic Night
ATTACH;FMTTYPE=image/jpeg:https://logoncafe.net/wp-content/uploads/2022/11/313067660_604791594876249_2466134981987312388_n.jpg
END:VEVENT
BEGIN:VEVENT
DTSTART;TZID=America/Chicago:20211201T200000
DTEND;TZID=America/Chicago:20211201T230000
DTSTAMP:20260420T234828
CREATED:20250303T233810Z
LAST-MODIFIED:20250303T233810Z
UID:10008067-1638388800-1638399600@logoncafe.net
SUMMARY:Open Mic Night
DESCRIPTION:Come one and all to transform our stage into your own personal music venue! Even if you just know someone that likes to play and sing\, get them to come out and buy em a beer! \nWe’ve been hosting Open Mic every Wednesday since 1999\, so come in and join in the tradition. \nSign up is at 7:30 | No Cover \n\n 
URL:https://logoncafe.net/event/open-mic-night-28/2021-12-01/
LOCATION:The Logon Cafe & Pub\, 3805 Calder Avenue\, Beaumont\, TX\, 77706\, United States
CATEGORIES:Open Mic Night
ATTACH;FMTTYPE=image/jpeg:https://logoncafe.net/wp-content/uploads/2022/11/313067660_604791594876249_2466134981987312388_n.jpg
END:VEVENT
BEGIN:VEVENT
DTSTART;TZID=America/Chicago:20211130T200000
DTEND;TZID=America/Chicago:20211130T230000
DTSTAMP:20260420T234828
CREATED:20250407T004038Z
LAST-MODIFIED:20250407T004038Z
UID:10009306-1638302400-1638313200@logoncafe.net
SUMMARY:Taco Tuesday Karaoke!
DESCRIPTION:What goes better together than tacos and booze?!! Specials start at 6. Karaoke starts at 8!$2 Street Tacos$2 Ritas$2 Well Vodka \nSing your butts off.Watch your friends act like they can sing 😉No cover wooooo.This is an all ages event.
URL:https://logoncafe.net/event/taco-tuesday-karaoke-18/2021-11-30/
LOCATION:The Logon Cafe & Pub\, 3805 Calder Avenue\, Beaumont\, TX\, 77706\, United States
ATTACH;FMTTYPE=image/jpeg:https://logoncafe.net/wp-content/uploads/2018/10/339927740_756585839328526_6857413985854363341_n-e1681230563968.jpg
END:VEVENT
BEGIN:VEVENT
DTSTART;TZID=America/Chicago:20211130T200000
DTEND;TZID=America/Chicago:20211130T230000
DTSTAMP:20260420T234828
CREATED:20240411T141711Z
LAST-MODIFIED:20240411T141712Z
UID:10012636-1638302400-1638313200@logoncafe.net
SUMMARY:Taco Tuesday Karaoke!
DESCRIPTION:What goes better together than tacos and booze?!! Specials start at 6. Karaoke starts at 8!\n$2 Street Tacos\n$2 Ritas\n$2 Well Vodka \nSing your butts off.\nWatch your friends act like they can sing 😉\nNo cover wooooo.\nThis is an all ages event.
URL:https://logoncafe.net/event/taco-tuesday-karaoke-3/2021-11-30/
LOCATION:The Logon Cafe & Pub\, 3805 Calder Avenue\, Beaumont\, TX\, 77706\, United States
ATTACH;FMTTYPE=image/jpeg:https://logoncafe.net/wp-content/uploads/2018/10/339927740_756585839328526_6857413985854363341_n-e1681230563968.jpg
END:VEVENT
BEGIN:VEVENT
DTSTART;TZID=America/Chicago:20211130T200000
DTEND;TZID=America/Chicago:20211130T230000
DTSTAMP:20260420T234828
CREATED:20181030T231335Z
LAST-MODIFIED:20230411T163019Z
UID:10000219-1638302400-1638313200@logoncafe.net
SUMMARY:Taco Tuesday Karaoke!
DESCRIPTION:What goes better together than tacos and booze?!! Specials start at 6. Karaoke starts at 8!\n$2 Street Tacos\n$2 Ritas\n$2 Well Vodka \nSing your butts off.\nWatch your friends act like they can sing 😉\nNo cover wooooo.\nThis is an all ages event.
URL:https://logoncafe.net/event/taco-tuesday-karaoke/2021-11-30/
LOCATION:The Logon Cafe & Pub\, 3805 Calder Avenue\, Beaumont\, TX\, 77706\, United States
ATTACH;FMTTYPE=image/jpeg:https://logoncafe.net/wp-content/uploads/2018/10/339927740_756585839328526_6857413985854363341_n-e1681230563968.jpg
END:VEVENT
BEGIN:VEVENT
DTSTART;TZID=America/Chicago:20211129T193000
DTEND;TZID=America/Chicago:20211129T210000
DTSTAMP:20260420T234828
CREATED:20190912T212544Z
LAST-MODIFIED:20211015T161606Z
UID:10001170-1638214200-1638219600@logoncafe.net
SUMMARY:Brainstormer Trivia Night
DESCRIPTION:Brainstormer Trivia Night is one of the funnest nights around town OK I said it so get out here and jion the fun. \nCome out for Trivia night at the Logoncafe hope you have fun! \nDo you enjoy Trivia?\nAre you competitive?\nHow about Prizes for the nightly Winners?\nHow about $2.00 Wells for 7pm to 10pm \nTrivia Rules:\nNo yelling out answers\, right or wrong. It disrupts the game and can bother other players. Up to 6 players per team are allowed. There is a 5 point penalty for a team of 7\, and a 10 point pentalty for a team of 8. No cell phones\, blackberries or any type of outside sources are allowed. Have fun!
URL:https://logoncafe.net/event/brainstormer-trivia-night-2-2019-11-25-2020-01-06-2-2020-05-25-2/2021-11-29/
LOCATION:The Logon Cafe & Pub\, 3805 Calder Avenue\, Beaumont\, TX\, 77706\, United States
ATTACH;FMTTYPE=image/jpeg:https://logoncafe.net/wp-content/uploads/2019/09/trivianight2-1000x563-e1567536697294.jpg
END:VEVENT
BEGIN:VEVENT
DTSTART;TZID=America/Chicago:20211126T190000
DTEND;TZID=America/Chicago:20211126T220000
DTSTAMP:20260420T234828
CREATED:20200213T183815Z
LAST-MODIFIED:20211019T162502Z
UID:10001292-1637953200-1637964000@logoncafe.net
SUMMARY:Danny O'Flaherty live at the Logon
DESCRIPTION:Danny’s back! Join us for a week night performance at the Logon Cafe in Beaumont\, Texas. What a great way to relax after work. Come in and enjoy some of the great food and drink that the Logon Cafe serves up and enjoy some folk music too! Tickets are $10 and available at the door \nDanny O’Flaherty is a native Irish speaker from the Gaeltacht (Gail-tuck) region of Connemara on the West Coast of Ireland. Much of his time growing up was spent around the turf fire listening to songs and stories of his elders\, and this instilled in him the desire to pass the music on! He is a singer\, songwriter and performer of Folk and Celtic music and is dedicated to preserving the heritage of his ancestors.\nTickets are $20 at the door. Children under 12 get in free.
URL:https://logoncafe.net/event/danny-oflahertys-texas-st-patricks-day-tour-2/
LOCATION:The Logon Cafe & Pub\, 3805 Calder Avenue\, Beaumont\, TX\, 77706\, United States
ATTACH;FMTTYPE=image/jpeg:https://logoncafe.net/wp-content/uploads/2020/02/84472903_10157784128658567_832769694560681984_n.jpg
END:VEVENT
BEGIN:VEVENT
DTSTART;TZID=America/Chicago:20211125T110000
DTEND;TZID=America/Chicago:20211125T233000
DTSTAMP:20260420T234828
CREATED:20191118T222311Z
LAST-MODIFIED:20211115T005821Z
UID:10000053-1637838000-1637883000@logoncafe.net
SUMMARY:Happy Thanksgiving Day
DESCRIPTION:Happy Thanksgiving Day from all of us at the Logoncafe & pub
URL:https://logoncafe.net/event/happy-thanksgiving-day-2/
LOCATION:The Logon Cafe & Pub\, 3805 Calder Avenue\, Beaumont\, TX\, 77706\, United States
ATTACH;FMTTYPE=image/jpeg:https://logoncafe.net/wp-content/uploads/2019/11/ththth.jpg
END:VEVENT
BEGIN:VEVENT
DTSTART;TZID=America/Chicago:20211124T200000
DTEND;TZID=America/Chicago:20211124T230000
DTSTAMP:20260420T234828
CREATED:20251030T155404Z
LAST-MODIFIED:20251030T155404Z
UID:10004281-1637784000-1637794800@logoncafe.net
SUMMARY:Open Mic Night
DESCRIPTION:Come one and all to transform our stage into your own personal music venue! Even if you just know someone that likes to play and sing\, get them to come out and buy em a beer! \nWe’ve been hosting Open Mic every Wednesday since 1999\, so come in and join in the tradition. \nSign up is at 7:30 | No Cover \n\n 
URL:https://logoncafe.net/event/open-mic-night-51/2021-11-24/
LOCATION:The Logon Cafe & Pub\, 3805 Calder Avenue\, Beaumont\, TX\, 77706\, United States
CATEGORIES:Open Mic Night
ATTACH;FMTTYPE=image/jpeg:https://logoncafe.net/wp-content/uploads/2022/11/313067660_604791594876249_2466134981987312388_n.jpg
END:VEVENT
BEGIN:VEVENT
DTSTART;TZID=America/Chicago:20211124T200000
DTEND;TZID=America/Chicago:20211124T230000
DTSTAMP:20260420T234828
CREATED:20250303T233810Z
LAST-MODIFIED:20250303T233810Z
UID:10008066-1637784000-1637794800@logoncafe.net
SUMMARY:Open Mic Night
DESCRIPTION:Come one and all to transform our stage into your own personal music venue! Even if you just know someone that likes to play and sing\, get them to come out and buy em a beer! \nWe’ve been hosting Open Mic every Wednesday since 1999\, so come in and join in the tradition. \nSign up is at 7:30 | No Cover \n\n 
URL:https://logoncafe.net/event/open-mic-night-28/2021-11-24/
LOCATION:The Logon Cafe & Pub\, 3805 Calder Avenue\, Beaumont\, TX\, 77706\, United States
CATEGORIES:Open Mic Night
ATTACH;FMTTYPE=image/jpeg:https://logoncafe.net/wp-content/uploads/2022/11/313067660_604791594876249_2466134981987312388_n.jpg
END:VEVENT
BEGIN:VEVENT
DTSTART;TZID=America/Chicago:20211123T200000
DTEND;TZID=America/Chicago:20211123T230000
DTSTAMP:20260420T234828
CREATED:20250407T004038Z
LAST-MODIFIED:20250407T004038Z
UID:10009305-1637697600-1637708400@logoncafe.net
SUMMARY:Taco Tuesday Karaoke!
DESCRIPTION:What goes better together than tacos and booze?!! Specials start at 6. Karaoke starts at 8!$2 Street Tacos$2 Ritas$2 Well Vodka \nSing your butts off.Watch your friends act like they can sing 😉No cover wooooo.This is an all ages event.
URL:https://logoncafe.net/event/taco-tuesday-karaoke-18/2021-11-23/
LOCATION:The Logon Cafe & Pub\, 3805 Calder Avenue\, Beaumont\, TX\, 77706\, United States
ATTACH;FMTTYPE=image/jpeg:https://logoncafe.net/wp-content/uploads/2018/10/339927740_756585839328526_6857413985854363341_n-e1681230563968.jpg
END:VEVENT
BEGIN:VEVENT
DTSTART;TZID=America/Chicago:20211123T200000
DTEND;TZID=America/Chicago:20211123T230000
DTSTAMP:20260420T234829
CREATED:20240411T141711Z
LAST-MODIFIED:20240411T141712Z
UID:10012635-1637697600-1637708400@logoncafe.net
SUMMARY:Taco Tuesday Karaoke!
DESCRIPTION:What goes better together than tacos and booze?!! Specials start at 6. Karaoke starts at 8!\n$2 Street Tacos\n$2 Ritas\n$2 Well Vodka \nSing your butts off.\nWatch your friends act like they can sing 😉\nNo cover wooooo.\nThis is an all ages event.
URL:https://logoncafe.net/event/taco-tuesday-karaoke-3/2021-11-23/
LOCATION:The Logon Cafe & Pub\, 3805 Calder Avenue\, Beaumont\, TX\, 77706\, United States
ATTACH;FMTTYPE=image/jpeg:https://logoncafe.net/wp-content/uploads/2018/10/339927740_756585839328526_6857413985854363341_n-e1681230563968.jpg
END:VEVENT
BEGIN:VEVENT
DTSTART;TZID=America/Chicago:20211123T200000
DTEND;TZID=America/Chicago:20211123T230000
DTSTAMP:20260420T234829
CREATED:20181030T231335Z
LAST-MODIFIED:20230411T163019Z
UID:10000218-1637697600-1637708400@logoncafe.net
SUMMARY:Taco Tuesday Karaoke!
DESCRIPTION:What goes better together than tacos and booze?!! Specials start at 6. Karaoke starts at 8!\n$2 Street Tacos\n$2 Ritas\n$2 Well Vodka \nSing your butts off.\nWatch your friends act like they can sing 😉\nNo cover wooooo.\nThis is an all ages event.
URL:https://logoncafe.net/event/taco-tuesday-karaoke/2021-11-23/
LOCATION:The Logon Cafe & Pub\, 3805 Calder Avenue\, Beaumont\, TX\, 77706\, United States
ATTACH;FMTTYPE=image/jpeg:https://logoncafe.net/wp-content/uploads/2018/10/339927740_756585839328526_6857413985854363341_n-e1681230563968.jpg
END:VEVENT
BEGIN:VEVENT
DTSTART;TZID=America/Chicago:20211122T193000
DTEND;TZID=America/Chicago:20211122T210000
DTSTAMP:20260420T234829
CREATED:20190912T212544Z
LAST-MODIFIED:20211015T161606Z
UID:10001169-1637609400-1637614800@logoncafe.net
SUMMARY:Brainstormer Trivia Night
DESCRIPTION:Brainstormer Trivia Night is one of the funnest nights around town OK I said it so get out here and jion the fun. \nCome out for Trivia night at the Logoncafe hope you have fun! \nDo you enjoy Trivia?\nAre you competitive?\nHow about Prizes for the nightly Winners?\nHow about $2.00 Wells for 7pm to 10pm \nTrivia Rules:\nNo yelling out answers\, right or wrong. It disrupts the game and can bother other players. Up to 6 players per team are allowed. There is a 5 point penalty for a team of 7\, and a 10 point pentalty for a team of 8. No cell phones\, blackberries or any type of outside sources are allowed. Have fun!
URL:https://logoncafe.net/event/brainstormer-trivia-night-2-2019-11-25-2020-01-06-2-2020-05-25-2/2021-11-22/
LOCATION:The Logon Cafe & Pub\, 3805 Calder Avenue\, Beaumont\, TX\, 77706\, United States
ATTACH;FMTTYPE=image/jpeg:https://logoncafe.net/wp-content/uploads/2019/09/trivianight2-1000x563-e1567536697294.jpg
END:VEVENT
BEGIN:VEVENT
DTSTART;TZID=America/Chicago:20211120T200000
DTEND;TZID=America/Chicago:20211120T235900
DTSTAMP:20260420T234829
CREATED:20210530T165317Z
LAST-MODIFIED:20211112T170232Z
UID:10001228-1637438400-1637452740@logoncafe.net
SUMMARY:Saturday Karaoke PARTY @thelogon
DESCRIPTION:Awww yeah…. KARAOKE ON A SATURDAY!!!!!\nGet here.\nSing your butts off.\nWatch your friends act like they can sing 😉\nNo cover wooooo.
URL:https://logoncafe.net/event/saturday-karaoke-party-thelogon-2-3-2-2/
LOCATION:The Logon Cafe & Pub\, 3805 Calder Avenue\, Beaumont\, TX\, 77706\, United States
ATTACH;FMTTYPE=image/jpeg:https://logoncafe.net/wp-content/uploads/2021/05/180478552_10158974899358567_2371589748890907789_n.jpg
END:VEVENT
BEGIN:VEVENT
DTSTART;TZID=America/Chicago:20211119T200000
DTEND;TZID=America/Chicago:20211119T235900
DTSTAMP:20260420T234829
CREATED:20210322T215451Z
LAST-MODIFIED:20211117T194900Z
UID:10001302-1637352000-1637366340@logoncafe.net
SUMMARY:Daniel Waters Piano Man
DESCRIPTION:The super talented Daniel Waters! Finally – Beaumont gets an AMAZING piano player!!\nhttps://www.facebook.com/john.fears.927/videos/912523286335362
URL:https://logoncafe.net/event/daniel-waters-piano-man-2-2-2-2-2-2-2/
LOCATION:The Logon Cafe & Pub\, 3805 Calder Avenue\, Beaumont\, TX\, 77706\, United States
ATTACH;FMTTYPE=image/jpeg:https://logoncafe.net/wp-content/uploads/2021/03/dan-waters.jpg
END:VEVENT
BEGIN:VEVENT
DTSTART;TZID=America/Chicago:20211118T200000
DTEND;TZID=America/Chicago:20211118T233000
DTSTAMP:20260420T234829
CREATED:20211110T224804Z
LAST-MODIFIED:20211110T224805Z
UID:10001301-1637265600-1637278200@logoncafe.net
SUMMARY:Blaggards
DESCRIPTION:Blaggards \nHome \n\nBlaggards (no “the”\, pronounced BLA’ GUARDS or BLA’ GHERDS\, depending on where you’re from) formed July 2004 in Houston\, Texas. \nWe play what we call Stout Irish Rock\, traditional Irish music mixed with rock n’ roll\, informed by everything from Johnny Cash and Elvis Presley to Thin Lizzy and Black Sabbath. We are most frequently compared to bands like Flogging Molly\, Dropkick Murphys\, and the Pogues. \nBlaggards are guitarist/vocalist Patrick Devlin\, bassist/vocalist Chad Smalley\, and drummer Eric C. Hughes. \nFront man Patrick Devlin grew up in Dublin\, Ireland\, and moved to Houston in his early 20′s. After working in the local club scene for several years\, Patrick saw a demand for Irish rock music that nobody was taking advantage of. In 1996\, to this end he formed a band called On The Dole. Although the band did well\, opening for legendary Irish touring acts like the Wolfe Tones and the Saw Doctors\, eventually Patrick decided it was time to clear the decks and start again. \nIn 2003\, while hosting a weekly open mic at an Irish pub\, Patrick met bassist and singer Chad Smalley\, a veteran of the Houston music scene who had recently returned from New York and was looking for a new project. The two of them soon began singing and performing together every week\, developing a tight vocal harmony style. A year later\, Blaggards was born. \nDrummer Eric C. Hughes sat in with Blaggards several times before officially joining the band in January 2020. Eric has been a drummer since he was 10\, and has made his life about music and performing. His resume reads like a “who’s who” of the Texas music scene: Allen Hill\, David Beebe\, The Derailers\, Jesse Dayton\, Mike Stinson\, Archie Bell\, members of Fastball\, et al. Eric is also the Drum Set Committee Chairman for the Percussive Arts Society.  \nBlaggards maintain a rigorous schedule\, playing constantly throughout Texas and touring nationally several times a year. We’ve also toured Ireland every year since 2010. \nOur music has appeared in movies and TV. An original instrumental entitled “Kerfuffleful” appears in the New Line Cinema motion picture How to Be Single\, released February 2016.
URL:https://logoncafe.net/event/blaggards/
LOCATION:The Logon Cafe & Pub\, 3805 Calder Avenue\, Beaumont\, TX\, 77706\, United States
ATTACH;FMTTYPE=image/jpeg:https://logoncafe.net/wp-content/uploads/2021/11/218990277_10158099793682409_5667691670200140582_n-e1636584377176.jpg
END:VEVENT
BEGIN:VEVENT
DTSTART;TZID=America/Chicago:20211117T200000
DTEND;TZID=America/Chicago:20211117T230000
DTSTAMP:20260420T234829
CREATED:20251030T155404Z
LAST-MODIFIED:20251030T155404Z
UID:10004280-1637179200-1637190000@logoncafe.net
SUMMARY:Open Mic Night
DESCRIPTION:Come one and all to transform our stage into your own personal music venue! Even if you just know someone that likes to play and sing\, get them to come out and buy em a beer! \nWe’ve been hosting Open Mic every Wednesday since 1999\, so come in and join in the tradition. \nSign up is at 7:30 | No Cover \n\n 
URL:https://logoncafe.net/event/open-mic-night-51/2021-11-17/
LOCATION:The Logon Cafe & Pub\, 3805 Calder Avenue\, Beaumont\, TX\, 77706\, United States
CATEGORIES:Open Mic Night
ATTACH;FMTTYPE=image/jpeg:https://logoncafe.net/wp-content/uploads/2022/11/313067660_604791594876249_2466134981987312388_n.jpg
END:VEVENT
BEGIN:VEVENT
DTSTART;TZID=America/Chicago:20211117T200000
DTEND;TZID=America/Chicago:20211117T230000
DTSTAMP:20260420T234829
CREATED:20250303T233810Z
LAST-MODIFIED:20250303T233810Z
UID:10008065-1637179200-1637190000@logoncafe.net
SUMMARY:Open Mic Night
DESCRIPTION:Come one and all to transform our stage into your own personal music venue! Even if you just know someone that likes to play and sing\, get them to come out and buy em a beer! \nWe’ve been hosting Open Mic every Wednesday since 1999\, so come in and join in the tradition. \nSign up is at 7:30 | No Cover \n\n 
URL:https://logoncafe.net/event/open-mic-night-28/2021-11-17/
LOCATION:The Logon Cafe & Pub\, 3805 Calder Avenue\, Beaumont\, TX\, 77706\, United States
CATEGORIES:Open Mic Night
ATTACH;FMTTYPE=image/jpeg:https://logoncafe.net/wp-content/uploads/2022/11/313067660_604791594876249_2466134981987312388_n.jpg
END:VEVENT
BEGIN:VEVENT
DTSTART;TZID=America/Chicago:20211116T200000
DTEND;TZID=America/Chicago:20211116T230000
DTSTAMP:20260420T234829
CREATED:20250407T004038Z
LAST-MODIFIED:20250407T004038Z
UID:10009304-1637092800-1637103600@logoncafe.net
SUMMARY:Taco Tuesday Karaoke!
DESCRIPTION:What goes better together than tacos and booze?!! Specials start at 6. Karaoke starts at 8!$2 Street Tacos$2 Ritas$2 Well Vodka \nSing your butts off.Watch your friends act like they can sing 😉No cover wooooo.This is an all ages event.
URL:https://logoncafe.net/event/taco-tuesday-karaoke-18/2021-11-16/
LOCATION:The Logon Cafe & Pub\, 3805 Calder Avenue\, Beaumont\, TX\, 77706\, United States
ATTACH;FMTTYPE=image/jpeg:https://logoncafe.net/wp-content/uploads/2018/10/339927740_756585839328526_6857413985854363341_n-e1681230563968.jpg
END:VEVENT
BEGIN:VEVENT
DTSTART;TZID=America/Chicago:20211116T200000
DTEND;TZID=America/Chicago:20211116T230000
DTSTAMP:20260420T234829
CREATED:20240411T141711Z
LAST-MODIFIED:20240411T141712Z
UID:10012634-1637092800-1637103600@logoncafe.net
SUMMARY:Taco Tuesday Karaoke!
DESCRIPTION:What goes better together than tacos and booze?!! Specials start at 6. Karaoke starts at 8!\n$2 Street Tacos\n$2 Ritas\n$2 Well Vodka \nSing your butts off.\nWatch your friends act like they can sing 😉\nNo cover wooooo.\nThis is an all ages event.
URL:https://logoncafe.net/event/taco-tuesday-karaoke-3/2021-11-16/
LOCATION:The Logon Cafe & Pub\, 3805 Calder Avenue\, Beaumont\, TX\, 77706\, United States
ATTACH;FMTTYPE=image/jpeg:https://logoncafe.net/wp-content/uploads/2018/10/339927740_756585839328526_6857413985854363341_n-e1681230563968.jpg
END:VEVENT
BEGIN:VEVENT
DTSTART;TZID=America/Chicago:20211116T200000
DTEND;TZID=America/Chicago:20211116T230000
DTSTAMP:20260420T234829
CREATED:20181030T231335Z
LAST-MODIFIED:20230411T163019Z
UID:10000217-1637092800-1637103600@logoncafe.net
SUMMARY:Taco Tuesday Karaoke!
DESCRIPTION:What goes better together than tacos and booze?!! Specials start at 6. Karaoke starts at 8!\n$2 Street Tacos\n$2 Ritas\n$2 Well Vodka \nSing your butts off.\nWatch your friends act like they can sing 😉\nNo cover wooooo.\nThis is an all ages event.
URL:https://logoncafe.net/event/taco-tuesday-karaoke/2021-11-16/
LOCATION:The Logon Cafe & Pub\, 3805 Calder Avenue\, Beaumont\, TX\, 77706\, United States
ATTACH;FMTTYPE=image/jpeg:https://logoncafe.net/wp-content/uploads/2018/10/339927740_756585839328526_6857413985854363341_n-e1681230563968.jpg
END:VEVENT
BEGIN:VEVENT
DTSTART;TZID=America/Chicago:20211115T193000
DTEND;TZID=America/Chicago:20211115T210000
DTSTAMP:20260420T234829
CREATED:20190912T212544Z
LAST-MODIFIED:20211015T161606Z
UID:10001168-1637004600-1637010000@logoncafe.net
SUMMARY:Brainstormer Trivia Night
DESCRIPTION:Brainstormer Trivia Night is one of the funnest nights around town OK I said it so get out here and jion the fun. \nCome out for Trivia night at the Logoncafe hope you have fun! \nDo you enjoy Trivia?\nAre you competitive?\nHow about Prizes for the nightly Winners?\nHow about $2.00 Wells for 7pm to 10pm \nTrivia Rules:\nNo yelling out answers\, right or wrong. It disrupts the game and can bother other players. Up to 6 players per team are allowed. There is a 5 point penalty for a team of 7\, and a 10 point pentalty for a team of 8. No cell phones\, blackberries or any type of outside sources are allowed. Have fun!
URL:https://logoncafe.net/event/brainstormer-trivia-night-2-2019-11-25-2020-01-06-2-2020-05-25-2/2021-11-15/
LOCATION:The Logon Cafe & Pub\, 3805 Calder Avenue\, Beaumont\, TX\, 77706\, United States
ATTACH;FMTTYPE=image/jpeg:https://logoncafe.net/wp-content/uploads/2019/09/trivianight2-1000x563-e1567536697294.jpg
END:VEVENT
BEGIN:VEVENT
DTSTART;TZID=America/Chicago:20211113T200000
DTEND;TZID=America/Chicago:20211113T233000
DTSTAMP:20260420T234829
CREATED:20210324T205636Z
LAST-MODIFIED:20211110T223941Z
UID:10001300-1636833600-1636846200@logoncafe.net
SUMMARY:Matt Schuldt Live at the Logon
DESCRIPTION:Matt Schuldt\nLive music and drinks. His Billy Joel covers are our favorite! Music starts at 8. No Cover.
URL:https://logoncafe.net/event/matt-schuldt-3-2-2-2-2-2-2-2-2/
LOCATION:The Logon Cafe & Pub\, 3805 Calder Avenue\, Beaumont\, TX\, 77706\, United States
ATTACH;FMTTYPE=image/jpeg:https://logoncafe.net/wp-content/uploads/2021/03/245500433_10159292690173567_474208960730765432_n-e1634083675743.jpg
END:VEVENT
BEGIN:VEVENT
DTSTART;TZID=America/Chicago:20211112T200000
DTEND;TZID=America/Chicago:20211112T235900
DTSTAMP:20260420T234829
CREATED:20190122T214643Z
LAST-MODIFIED:20211015T160935Z
UID:10001293-1636747200-1636761540@logoncafe.net
SUMMARY:Rainy & The B SIDES
DESCRIPTION:Tonight Live Music with Rainy The B-Sides; The B Sides are a group of friends with an intense love for music. What started as informal get-togethers to play mostly songs from our youth evolved into a band that plays a variety of songs from the 60s and 70s\, but not limited to that era. The band name came from the period of vinyl recordings when a record had an A-side and a B-side. The band members have all played music since high school and collectively have 200+ years of musical experience.
URL:https://logoncafe.net/event/the-b-sides-2-2-2-2-2-2/
LOCATION:The Logon Cafe & Pub\, 3805 Calder Avenue\, Beaumont\, TX\, 77706\, United States
ATTACH;FMTTYPE=image/jpeg:https://logoncafe.net/wp-content/uploads/2019/01/50330316_10156782538103567_7870359340345982976_n-e1548193314753.jpg
END:VEVENT
END:VCALENDAR