BEGIN:VCALENDAR
VERSION:2.0
PRODID:-//The Logon Cafe and Pub - ECPv6.15.20//NONSGML v1.0//EN
CALSCALE:GREGORIAN
METHOD:PUBLISH
X-WR-CALNAME:The Logon Cafe and Pub
X-ORIGINAL-URL:https://logoncafe.net
X-WR-CALDESC:Events for The Logon Cafe and Pub
REFRESH-INTERVAL;VALUE=DURATION:PT1H
X-Robots-Tag:noindex
X-PUBLISHED-TTL:PT1H
BEGIN:VTIMEZONE
TZID:America/Chicago
BEGIN:DAYLIGHT
TZOFFSETFROM:-0600
TZOFFSETTO:-0500
TZNAME:CDT
DTSTART:20230312T080000
END:DAYLIGHT
BEGIN:STANDARD
TZOFFSETFROM:-0500
TZOFFSETTO:-0600
TZNAME:CST
DTSTART:20231105T070000
END:STANDARD
BEGIN:DAYLIGHT
TZOFFSETFROM:-0600
TZOFFSETTO:-0500
TZNAME:CDT
DTSTART:20240310T080000
END:DAYLIGHT
BEGIN:STANDARD
TZOFFSETFROM:-0500
TZOFFSETTO:-0600
TZNAME:CST
DTSTART:20241103T070000
END:STANDARD
BEGIN:DAYLIGHT
TZOFFSETFROM:-0600
TZOFFSETTO:-0500
TZNAME:CDT
DTSTART:20250309T080000
END:DAYLIGHT
BEGIN:STANDARD
TZOFFSETFROM:-0500
TZOFFSETTO:-0600
TZNAME:CST
DTSTART:20251102T070000
END:STANDARD
END:VTIMEZONE
BEGIN:VEVENT
DTSTART;TZID=America/Chicago:20240919T193000
DTEND;TZID=America/Chicago:20240919T233000
DTSTAMP:20260420T040949
CREATED:20240904T233655Z
LAST-MODIFIED:20240904T233655Z
UID:10006948-1726774200-1726788600@logoncafe.net
SUMMARY:Better Days
DESCRIPTION:Better Days \nJoin the lovely and talented Rainy Kimbrough and our favorite lefty Erik Ellington this Thursday at The Logon Cafe for a little acoustical musical mischief.  \n 
URL:https://logoncafe.net/event/better-days-27/
LOCATION:The Logon Cafe & Pub\, 3805 Calder Avenue\, Beaumont\, TX\, 77706\, United States
ATTACH;FMTTYPE=image/jpeg:https://logoncafe.net/wp-content/uploads/2024/08/454901951_1080202447335159_1420014487723676415_n.jpg
END:VEVENT
BEGIN:VEVENT
DTSTART;TZID=America/Chicago:20240920T200000
DTEND;TZID=America/Chicago:20240920T235900
DTSTAMP:20260420T040949
CREATED:20240904T233048Z
LAST-MODIFIED:20240904T233257Z
UID:10006946-1726862400-1726876740@logoncafe.net
SUMMARY:Greg Jr\, Jody Reho & Stepford Rising
DESCRIPTION:Greg Jr\, Jody Reho & Stepford Rising \nSinger Sonwriter event @thelogon. Music starts at 8pm.
URL:https://logoncafe.net/event/greg-jr-jody-reho-stepford-rising/
LOCATION:The Logon Cafe & Pub\, 3805 Calder Avenue\, Beaumont\, TX\, 77706\, United States
ATTACH;FMTTYPE=image/jpeg:https://logoncafe.net/wp-content/uploads/2024/09/458302876_1097863848902352_1959032863234340980_n-e1725492427224.jpg
END:VEVENT
BEGIN:VEVENT
DTSTART;TZID=America/Chicago:20240927T200000
DTEND;TZID=America/Chicago:20240927T235900
DTSTAMP:20260420T040949
CREATED:20240831T173532Z
LAST-MODIFIED:20240831T174139Z
UID:10006935-1727467200-1727481540@logoncafe.net
SUMMARY:Stephen Perricone\, Ethan Osborne & Ryan Gist
DESCRIPTION:Stephen Perricone\, Ethan Osborne & Ryan Gist \nStephen Perricone\, Ryan Gist & Ethan Osborne together onstage! We love these guys! Music starts at 8.  \n \n  \n \n  \n \n 
URL:https://logoncafe.net/event/stephen-perricone-ethan-osborne-ryan-gist/
LOCATION:The Logon Cafe & Pub\, 3805 Calder Avenue\, Beaumont\, TX\, 77706\, United States
ATTACH;FMTTYPE=image/jpeg:https://logoncafe.net/wp-content/uploads/2024/08/455693897_1083831913638879_8694631739837598613_n.jpg
END:VEVENT
BEGIN:VEVENT
DTSTART;TZID=America/Chicago:20240928T200000
DTEND;TZID=America/Chicago:20240928T235900
DTSTAMP:20260420T040949
CREATED:20240913T212044Z
LAST-MODIFIED:20240913T212044Z
UID:10006953-1727553600-1727567940@logoncafe.net
SUMMARY:Fresh Grind & The Red Velvet
DESCRIPTION:Fresh Grind & The Red Velvet \nFresh Grind   – Influences include- Led Zeppelin\, Fleetwood Mac\, Clutch\, Black Sabbath\, Prince\, Garbage\, The Black Crowes\, Coheed & Cambria and Deep Purple. \nLindsey Jackson-VoXKieth Hunter-Guitar Rob Copeland-Guitar Curtis Adams-Drums Jimmy Womack-Bass \nThe Red Velvet  Alternative band from Southeast Texas\n \nhttps://www.facebook.com/61551480625821/videos/758054859007528 \n  \n 
URL:https://logoncafe.net/event/fresh-grind-the-red-velvet/
LOCATION:The Logon Cafe & Pub\, 3805 Calder Avenue\, Beaumont\, TX\, 77706\, United States
ATTACH;FMTTYPE=image/jpeg:https://logoncafe.net/wp-content/uploads/2024/09/459503029_1103813378307399_1229033203507867161_n.jpg
END:VEVENT
END:VCALENDAR