BEGIN:VCALENDAR
VERSION:2.0
PRODID:-//The Logon Cafe and Pub - ECPv6.15.20//NONSGML v1.0//EN
CALSCALE:GREGORIAN
METHOD:PUBLISH
X-ORIGINAL-URL:https://logoncafe.net
X-WR-CALDESC:Events for The Logon Cafe and Pub
REFRESH-INTERVAL;VALUE=DURATION:PT1H
X-Robots-Tag:noindex
X-PUBLISHED-TTL:PT1H
BEGIN:VTIMEZONE
TZID:America/Chicago
BEGIN:DAYLIGHT
TZOFFSETFROM:-0600
TZOFFSETTO:-0500
TZNAME:CDT
DTSTART:20200308T080000
END:DAYLIGHT
BEGIN:STANDARD
TZOFFSETFROM:-0500
TZOFFSETTO:-0600
TZNAME:CST
DTSTART:20201101T070000
END:STANDARD
BEGIN:DAYLIGHT
TZOFFSETFROM:-0600
TZOFFSETTO:-0500
TZNAME:CDT
DTSTART:20210314T080000
END:DAYLIGHT
BEGIN:STANDARD
TZOFFSETFROM:-0500
TZOFFSETTO:-0600
TZNAME:CST
DTSTART:20211107T070000
END:STANDARD
BEGIN:DAYLIGHT
TZOFFSETFROM:-0600
TZOFFSETTO:-0500
TZNAME:CDT
DTSTART:20220313T080000
END:DAYLIGHT
BEGIN:STANDARD
TZOFFSETFROM:-0500
TZOFFSETTO:-0600
TZNAME:CST
DTSTART:20221106T070000
END:STANDARD
END:VTIMEZONE
BEGIN:VEVENT
DTSTART;TZID=America/Chicago:20210614T193000
DTEND;TZID=America/Chicago:20210614T210000
DTSTAMP:20260420T220016
CREATED:20190912T212544Z
LAST-MODIFIED:20211015T161606Z
UID:10001146-1623699000-1623704400@logoncafe.net
SUMMARY:Brainstormer Trivia Night
DESCRIPTION:Brainstormer Trivia Night is one of the funnest nights around town OK I said it so get out here and jion the fun. \nCome out for Trivia night at the Logoncafe hope you have fun! \nDo you enjoy Trivia?\nAre you competitive?\nHow about Prizes for the nightly Winners?\nHow about $2.00 Wells for 7pm to 10pm \nTrivia Rules:\nNo yelling out answers\, right or wrong. It disrupts the game and can bother other players. Up to 6 players per team are allowed. There is a 5 point penalty for a team of 7\, and a 10 point pentalty for a team of 8. No cell phones\, blackberries or any type of outside sources are allowed. Have fun!
URL:https://logoncafe.net/event/brainstormer-trivia-night-2-2019-11-25-2020-01-06-2-2020-05-25-2/2021-06-14/
LOCATION:The Logon Cafe & Pub\, 3805 Calder Avenue\, Beaumont\, TX\, 77706\, United States
ATTACH;FMTTYPE=image/jpeg:https://logoncafe.net/wp-content/uploads/2019/09/trivianight2-1000x563-e1567536697294.jpg
END:VEVENT
BEGIN:VEVENT
DTSTART;TZID=America/Chicago:20210615T200000
DTEND;TZID=America/Chicago:20210615T230000
DTSTAMP:20260420T220016
CREATED:20181030T231335Z
LAST-MODIFIED:20230411T163019Z
UID:10000195-1623787200-1623798000@logoncafe.net
SUMMARY:Taco Tuesday Karaoke!
DESCRIPTION:What goes better together than tacos and booze?!! Specials start at 6. Karaoke starts at 8!\n$2 Street Tacos\n$2 Ritas\n$2 Well Vodka \nSing your butts off.\nWatch your friends act like they can sing 😉\nNo cover wooooo.\nThis is an all ages event.
URL:https://logoncafe.net/event/taco-tuesday-karaoke/2021-06-15/
LOCATION:The Logon Cafe & Pub\, 3805 Calder Avenue\, Beaumont\, TX\, 77706\, United States
ATTACH;FMTTYPE=image/jpeg:https://logoncafe.net/wp-content/uploads/2018/10/339927740_756585839328526_6857413985854363341_n-e1681230563968.jpg
END:VEVENT
BEGIN:VEVENT
DTSTART;TZID=America/Chicago:20210615T200000
DTEND;TZID=America/Chicago:20210615T230000
DTSTAMP:20260420T220016
CREATED:20240411T141711Z
LAST-MODIFIED:20240411T141712Z
UID:10012613-1623787200-1623798000@logoncafe.net
SUMMARY:Taco Tuesday Karaoke!
DESCRIPTION:What goes better together than tacos and booze?!! Specials start at 6. Karaoke starts at 8!\n$2 Street Tacos\n$2 Ritas\n$2 Well Vodka \nSing your butts off.\nWatch your friends act like they can sing 😉\nNo cover wooooo.\nThis is an all ages event.
URL:https://logoncafe.net/event/taco-tuesday-karaoke-3/2021-06-15/
LOCATION:The Logon Cafe & Pub\, 3805 Calder Avenue\, Beaumont\, TX\, 77706\, United States
ATTACH;FMTTYPE=image/jpeg:https://logoncafe.net/wp-content/uploads/2018/10/339927740_756585839328526_6857413985854363341_n-e1681230563968.jpg
END:VEVENT
BEGIN:VEVENT
DTSTART;TZID=America/Chicago:20210615T200000
DTEND;TZID=America/Chicago:20210615T230000
DTSTAMP:20260420T220016
CREATED:20250407T004038Z
LAST-MODIFIED:20250407T004038Z
UID:10009282-1623787200-1623798000@logoncafe.net
SUMMARY:Taco Tuesday Karaoke!
DESCRIPTION:What goes better together than tacos and booze?!! Specials start at 6. Karaoke starts at 8!$2 Street Tacos$2 Ritas$2 Well Vodka \nSing your butts off.Watch your friends act like they can sing 😉No cover wooooo.This is an all ages event.
URL:https://logoncafe.net/event/taco-tuesday-karaoke-18/2021-06-15/
LOCATION:The Logon Cafe & Pub\, 3805 Calder Avenue\, Beaumont\, TX\, 77706\, United States
ATTACH;FMTTYPE=image/jpeg:https://logoncafe.net/wp-content/uploads/2018/10/339927740_756585839328526_6857413985854363341_n-e1681230563968.jpg
END:VEVENT
BEGIN:VEVENT
DTSTART;TZID=America/Chicago:20210616T200000
DTEND;TZID=America/Chicago:20210616T230000
DTSTAMP:20260420T220016
CREATED:20250303T233810Z
LAST-MODIFIED:20250303T233810Z
UID:10008043-1623873600-1623884400@logoncafe.net
SUMMARY:Open Mic Night
DESCRIPTION:Come one and all to transform our stage into your own personal music venue! Even if you just know someone that likes to play and sing\, get them to come out and buy em a beer! \nWe’ve been hosting Open Mic every Wednesday since 1999\, so come in and join in the tradition. \nSign up is at 7:30 | No Cover \n\n 
URL:https://logoncafe.net/event/open-mic-night-28/2021-06-16/
LOCATION:The Logon Cafe & Pub\, 3805 Calder Avenue\, Beaumont\, TX\, 77706\, United States
CATEGORIES:Open Mic Night
ATTACH;FMTTYPE=image/jpeg:https://logoncafe.net/wp-content/uploads/2022/11/313067660_604791594876249_2466134981987312388_n.jpg
END:VEVENT
BEGIN:VEVENT
DTSTART;TZID=America/Chicago:20210616T200000
DTEND;TZID=America/Chicago:20210616T230000
DTSTAMP:20260420T220016
CREATED:20251030T155404Z
LAST-MODIFIED:20251030T155404Z
UID:10004258-1623873600-1623884400@logoncafe.net
SUMMARY:Open Mic Night
DESCRIPTION:Come one and all to transform our stage into your own personal music venue! Even if you just know someone that likes to play and sing\, get them to come out and buy em a beer! \nWe’ve been hosting Open Mic every Wednesday since 1999\, so come in and join in the tradition. \nSign up is at 7:30 | No Cover \n\n 
URL:https://logoncafe.net/event/open-mic-night-51/2021-06-16/
LOCATION:The Logon Cafe & Pub\, 3805 Calder Avenue\, Beaumont\, TX\, 77706\, United States
CATEGORIES:Open Mic Night
ATTACH;FMTTYPE=image/jpeg:https://logoncafe.net/wp-content/uploads/2022/11/313067660_604791594876249_2466134981987312388_n.jpg
END:VEVENT
BEGIN:VEVENT
DTSTART;TZID=America/Chicago:20210617T190000
DTEND;TZID=America/Chicago:20210617T235900
DTSTAMP:20260420T220016
CREATED:20201102T185531Z
LAST-MODIFIED:20210617T135334Z
UID:10000628-1623956400-1623974340@logoncafe.net
SUMMARY:Jason Knox & Friends
DESCRIPTION:They are gonna be rocking ALL OUT on stage at the LogOn. You are GUARANTEED to get more than you pay for – NO COVER!
URL:https://logoncafe.net/event/jason-knox-friends-friday-the-13th-show-2/
LOCATION:The Logon Cafe & Pub\, 3805 Calder Avenue\, Beaumont\, TX\, 77706\, United States
ATTACH;FMTTYPE=image/jpeg:https://logoncafe.net/wp-content/uploads/2019/04/59806184_10157025784198567_303708085371797504_n.jpg
END:VEVENT
BEGIN:VEVENT
DTSTART;TZID=America/Chicago:20210618T200000
DTEND;TZID=America/Chicago:20210618T235900
DTSTAMP:20260420T220016
CREATED:20190122T214643Z
LAST-MODIFIED:20210530T165740Z
UID:10001201-1624046400-1624060740@logoncafe.net
SUMMARY:Rainy & The B SIDES
DESCRIPTION:Tonight Live Music with Rainy The B-Sides; The B Sides are a group of friends with an intense love for music. What started as informal get-togethers to play mostly songs from our youth evolved into a band that plays a variety of songs from the 60s and 70s\, but not limited to that era. The band name came from the period of vinyl recordings when a record had an A-side and a B-side. The band members have all played music since high school and collectively have 200+ years of musical experience.
URL:https://logoncafe.net/event/the-b-sides-2-2-2-2-2/
LOCATION:The Logon Cafe & Pub\, 3805 Calder Avenue\, Beaumont\, TX\, 77706\, United States
ATTACH;FMTTYPE=image/jpeg:https://logoncafe.net/wp-content/uploads/2019/01/50330316_10156782538103567_7870359340345982976_n-e1548193314753.jpg
END:VEVENT
BEGIN:VEVENT
DTSTART;TZID=America/Chicago:20210619T200000
DTEND;TZID=America/Chicago:20210619T235900
DTSTAMP:20260420T220016
CREATED:20210530T163151Z
LAST-MODIFIED:20210530T163151Z
UID:10000324-1624132800-1624147140@logoncafe.net
SUMMARY:Ramblin Boys\, The Lonesome Haunts\, The Very Very Boom
DESCRIPTION:Ramblin Boys\, The Lonesome Haunts\, The Very Very Boom \nThe Ramblin’ Boys\, formerly “of Pleasure\,” have risen from a one time festival gap stop ascending to a well-earned place among the Southeast Texas musical elite. Their diverse sonic profile\, which references American roots and acoustic based folk music melded with punk rock’s vitality and fervor\, has allowed them to share the stage with such varied acts as\, country artist\, Gary Allen\, rockabilly legends\, Reverend Horton Heat\, and\, indie rockers\, Look Mexico\, as well as numerous other local\, regional and national touring acts. 2012 finds The Boys working on their much anticipated debut full length album set to be released\, Winter ’12. The Ramblin’ Boys consists of: Bobby Parrott (vocals) James Faust (guitar) & Patrick Brignac (drums) – with all members contributing backing vocals.  https://theramblinboys.com/ \nThe Lonesome Haunts – A rock and roll band Houston\, Texas  \nThe Very Very Boom \nYancey – Guitar and Vocals\nMeredith – Bass\nMike – Drums
URL:https://logoncafe.net/event/ramblin-boys-the-lonesome-haunts-the-very-very-boom/
LOCATION:The Logon Cafe & Pub\, 3805 Calder Avenue\, Beaumont\, TX\, 77706\, United States
ATTACH;FMTTYPE=image/jpeg:https://logoncafe.net/wp-content/uploads/2021/05/191204219_10159039609883567_3113942683164629447_n-e1622391691208.jpg
END:VEVENT
END:VCALENDAR