BEGIN:VCALENDAR
VERSION:2.0
PRODID:-//The Logon Cafe and Pub - ECPv6.15.20//NONSGML v1.0//EN
CALSCALE:GREGORIAN
METHOD:PUBLISH
X-ORIGINAL-URL:https://logoncafe.net
X-WR-CALDESC:Events for The Logon Cafe and Pub
REFRESH-INTERVAL;VALUE=DURATION:PT1H
X-Robots-Tag:noindex
X-PUBLISHED-TTL:PT1H
BEGIN:VTIMEZONE
TZID:America/Chicago
BEGIN:DAYLIGHT
TZOFFSETFROM:-0600
TZOFFSETTO:-0500
TZNAME:CDT
DTSTART:20200308T080000
END:DAYLIGHT
BEGIN:STANDARD
TZOFFSETFROM:-0500
TZOFFSETTO:-0600
TZNAME:CST
DTSTART:20201101T070000
END:STANDARD
BEGIN:DAYLIGHT
TZOFFSETFROM:-0600
TZOFFSETTO:-0500
TZNAME:CDT
DTSTART:20210314T080000
END:DAYLIGHT
BEGIN:STANDARD
TZOFFSETFROM:-0500
TZOFFSETTO:-0600
TZNAME:CST
DTSTART:20211107T070000
END:STANDARD
BEGIN:DAYLIGHT
TZOFFSETFROM:-0600
TZOFFSETTO:-0500
TZNAME:CDT
DTSTART:20220313T080000
END:DAYLIGHT
BEGIN:STANDARD
TZOFFSETFROM:-0500
TZOFFSETTO:-0600
TZNAME:CST
DTSTART:20221106T070000
END:STANDARD
END:VTIMEZONE
BEGIN:VEVENT
DTSTART;TZID=America/Chicago:20210726T193000
DTEND;TZID=America/Chicago:20210726T210000
DTSTAMP:20260420T150503
CREATED:20190912T212544Z
LAST-MODIFIED:20211015T161606Z
UID:10001152-1627327800-1627333200@logoncafe.net
SUMMARY:Brainstormer Trivia Night
DESCRIPTION:Brainstormer Trivia Night is one of the funnest nights around town OK I said it so get out here and jion the fun. \nCome out for Trivia night at the Logoncafe hope you have fun! \nDo you enjoy Trivia?\nAre you competitive?\nHow about Prizes for the nightly Winners?\nHow about $2.00 Wells for 7pm to 10pm \nTrivia Rules:\nNo yelling out answers\, right or wrong. It disrupts the game and can bother other players. Up to 6 players per team are allowed. There is a 5 point penalty for a team of 7\, and a 10 point pentalty for a team of 8. No cell phones\, blackberries or any type of outside sources are allowed. Have fun!
URL:https://logoncafe.net/event/brainstormer-trivia-night-2-2019-11-25-2020-01-06-2-2020-05-25-2/2021-07-26/
LOCATION:The Logon Cafe & Pub\, 3805 Calder Avenue\, Beaumont\, TX\, 77706\, United States
ATTACH;FMTTYPE=image/jpeg:https://logoncafe.net/wp-content/uploads/2019/09/trivianight2-1000x563-e1567536697294.jpg
END:VEVENT
BEGIN:VEVENT
DTSTART;TZID=America/Chicago:20210726T200000
DTEND;TZID=America/Chicago:20210726T233000
DTSTAMP:20260420T150503
CREATED:20210714T233420Z
LAST-MODIFIED:20210714T233420Z
UID:10000050-1627329600-1627342200@logoncafe.net
SUMMARY:Movie Night
DESCRIPTION:Jeremy Hawa’s Movie Night\nBeastMaster
URL:https://logoncafe.net/event/movie-night/
LOCATION:The Logon Cafe & Pub\, 3805 Calder Avenue\, Beaumont\, TX\, 77706\, United States
END:VEVENT
BEGIN:VEVENT
DTSTART;TZID=America/Chicago:20210727T200000
DTEND;TZID=America/Chicago:20210727T230000
DTSTAMP:20260420T150503
CREATED:20181030T231335Z
LAST-MODIFIED:20230411T163019Z
UID:10000201-1627416000-1627426800@logoncafe.net
SUMMARY:Taco Tuesday Karaoke!
DESCRIPTION:What goes better together than tacos and booze?!! Specials start at 6. Karaoke starts at 8!\n$2 Street Tacos\n$2 Ritas\n$2 Well Vodka \nSing your butts off.\nWatch your friends act like they can sing 😉\nNo cover wooooo.\nThis is an all ages event.
URL:https://logoncafe.net/event/taco-tuesday-karaoke/2021-07-27/
LOCATION:The Logon Cafe & Pub\, 3805 Calder Avenue\, Beaumont\, TX\, 77706\, United States
ATTACH;FMTTYPE=image/jpeg:https://logoncafe.net/wp-content/uploads/2018/10/339927740_756585839328526_6857413985854363341_n-e1681230563968.jpg
END:VEVENT
BEGIN:VEVENT
DTSTART;TZID=America/Chicago:20210727T200000
DTEND;TZID=America/Chicago:20210727T230000
DTSTAMP:20260420T150503
CREATED:20240411T141711Z
LAST-MODIFIED:20240411T141712Z
UID:10012619-1627416000-1627426800@logoncafe.net
SUMMARY:Taco Tuesday Karaoke!
DESCRIPTION:What goes better together than tacos and booze?!! Specials start at 6. Karaoke starts at 8!\n$2 Street Tacos\n$2 Ritas\n$2 Well Vodka \nSing your butts off.\nWatch your friends act like they can sing 😉\nNo cover wooooo.\nThis is an all ages event.
URL:https://logoncafe.net/event/taco-tuesday-karaoke-3/2021-07-27/
LOCATION:The Logon Cafe & Pub\, 3805 Calder Avenue\, Beaumont\, TX\, 77706\, United States
ATTACH;FMTTYPE=image/jpeg:https://logoncafe.net/wp-content/uploads/2018/10/339927740_756585839328526_6857413985854363341_n-e1681230563968.jpg
END:VEVENT
BEGIN:VEVENT
DTSTART;TZID=America/Chicago:20210727T200000
DTEND;TZID=America/Chicago:20210727T230000
DTSTAMP:20260420T150503
CREATED:20250407T004038Z
LAST-MODIFIED:20250407T004038Z
UID:10009288-1627416000-1627426800@logoncafe.net
SUMMARY:Taco Tuesday Karaoke!
DESCRIPTION:What goes better together than tacos and booze?!! Specials start at 6. Karaoke starts at 8!$2 Street Tacos$2 Ritas$2 Well Vodka \nSing your butts off.Watch your friends act like they can sing 😉No cover wooooo.This is an all ages event.
URL:https://logoncafe.net/event/taco-tuesday-karaoke-18/2021-07-27/
LOCATION:The Logon Cafe & Pub\, 3805 Calder Avenue\, Beaumont\, TX\, 77706\, United States
ATTACH;FMTTYPE=image/jpeg:https://logoncafe.net/wp-content/uploads/2018/10/339927740_756585839328526_6857413985854363341_n-e1681230563968.jpg
END:VEVENT
BEGIN:VEVENT
DTSTART;TZID=America/Chicago:20210728T200000
DTEND;TZID=America/Chicago:20210728T230000
DTSTAMP:20260420T150503
CREATED:20250303T233810Z
LAST-MODIFIED:20250303T233810Z
UID:10008049-1627502400-1627513200@logoncafe.net
SUMMARY:Open Mic Night
DESCRIPTION:Come one and all to transform our stage into your own personal music venue! Even if you just know someone that likes to play and sing\, get them to come out and buy em a beer! \nWe’ve been hosting Open Mic every Wednesday since 1999\, so come in and join in the tradition. \nSign up is at 7:30 | No Cover \n\n 
URL:https://logoncafe.net/event/open-mic-night-28/2021-07-28/
LOCATION:The Logon Cafe & Pub\, 3805 Calder Avenue\, Beaumont\, TX\, 77706\, United States
CATEGORIES:Open Mic Night
ATTACH;FMTTYPE=image/jpeg:https://logoncafe.net/wp-content/uploads/2022/11/313067660_604791594876249_2466134981987312388_n.jpg
END:VEVENT
BEGIN:VEVENT
DTSTART;TZID=America/Chicago:20210728T200000
DTEND;TZID=America/Chicago:20210728T230000
DTSTAMP:20260420T150503
CREATED:20251030T155404Z
LAST-MODIFIED:20251030T155404Z
UID:10004264-1627502400-1627513200@logoncafe.net
SUMMARY:Open Mic Night
DESCRIPTION:Come one and all to transform our stage into your own personal music venue! Even if you just know someone that likes to play and sing\, get them to come out and buy em a beer! \nWe’ve been hosting Open Mic every Wednesday since 1999\, so come in and join in the tradition. \nSign up is at 7:30 | No Cover \n\n 
URL:https://logoncafe.net/event/open-mic-night-51/2021-07-28/
LOCATION:The Logon Cafe & Pub\, 3805 Calder Avenue\, Beaumont\, TX\, 77706\, United States
CATEGORIES:Open Mic Night
ATTACH;FMTTYPE=image/jpeg:https://logoncafe.net/wp-content/uploads/2022/11/313067660_604791594876249_2466134981987312388_n.jpg
END:VEVENT
BEGIN:VEVENT
DTSTART;TZID=America/Chicago:20210729T200000
DTEND;TZID=America/Chicago:20210729T233000
DTSTAMP:20260420T150503
CREATED:20210324T205636Z
LAST-MODIFIED:20210728T204546Z
UID:10000625-1627588800-1627601400@logoncafe.net
SUMMARY:Matt Schuldt
DESCRIPTION:Matt Schuldt\nLive music and drinks. His Billy Joel covers are our favorite! Music starts at 8. No Cover.
URL:https://logoncafe.net/event/matt-schuldt-3-2-2-2-2/
LOCATION:The Logon Cafe & Pub\, 3805 Calder Avenue\, Beaumont\, TX\, 77706\, United States
ATTACH;FMTTYPE=image/jpeg:https://logoncafe.net/wp-content/uploads/2021/02/152965208_10158835060913567_1646180114165249546_o-e1614293765845.jpg
END:VEVENT
BEGIN:VEVENT
DTSTART;TZID=America/Chicago:20210730T190000
DTEND;TZID=America/Chicago:20210730T235900
DTSTAMP:20260420T150503
CREATED:20201102T185531Z
LAST-MODIFIED:20210728T204928Z
UID:10001283-1627671600-1627689540@logoncafe.net
SUMMARY:Jason Knox & Friends
DESCRIPTION:They are gonna be rocking ALL OUT on stage at the Logon. You are GUARANTEED to get more than you pay for – NO COVER!\nWe’re going to kick it off at 8pm!
URL:https://logoncafe.net/event/jason-knox-friends-friday-the-13th-show-2-2/
LOCATION:The Logon Cafe & Pub\, 3805 Calder Avenue\, Beaumont\, TX\, 77706\, United States
ATTACH;FMTTYPE=image/jpeg:https://logoncafe.net/wp-content/uploads/2019/04/59806184_10157025784198567_303708085371797504_n.jpg
END:VEVENT
BEGIN:VEVENT
DTSTART;TZID=America/Chicago:20210731T200000
DTEND;TZID=America/Chicago:20210731T235900
DTSTAMP:20260420T150503
CREATED:20200107T211317Z
LAST-MODIFIED:20210630T173826Z
UID:10000317-1627761600-1627775940@logoncafe.net
SUMMARY:3CG Live at the Logoncafe
DESCRIPTION:3CG (Three Car Garage) is back after a long summer break\, and we’re ready to rock. We’ll be at the Logon Cafe Saturday\, July 31th. Drop in for some music\, dancing\, food\, coffee\, and adult beverages (they have a good selection of beer on tap). We’re looking forward to having a great time. \n3CG (from Three Car Garage) is a local band playing a mix of classic rock\, blues\, pop\, and even a little country. The core musicians in the group are Bob Kramer (guitars)\, Kevin Dean (drums)\, Mickey Rouse (bass)\, Michael Smith (guitars)\, Robyn Whitney (vocals)\, and Debbie Pallone (vocals). We occasionally are joined by other musicians including Katie Celli (vocals) and Erwin Lo (keyboards). We play clubs\, private events\, festivals\, corporate events\, and events for various charitable organizations. We take pride in providing excellent entertainment with a professional attitude. Contact us to make your next party or event a memorable one.\n\nhttps://www.facebook.com/3CG.tx/videos/481225429331253/\n\nGenre   Blues\, Classic Rock\, Rhythm & Blues\, Pop\, Country\nBand Members\nKevin Dean (drums)\nBob Kramer (guitar\, vocals)\nDebbie Pallone (vocals)\nJohn Remirez (bass)\nMichael Smith (guitar\, vocals)\nRobyn Whitney (vocals)\nand sometimes…\nKaty Celli (vocals)\nErwin Lo (keyboards)\nCarter Bidwell (keyboards)\nTom Janise (guitar\,vocals) \nHometown Beaumont\, TX
URL:https://logoncafe.net/event/3cg-live-at-the-logoncafe-2/
LOCATION:The Logon Cafe & Pub\, 3805 Calder Avenue\, Beaumont\, TX\, 77706\, United States
ATTACH;FMTTYPE=image/jpeg:https://logoncafe.net/wp-content/uploads/2019/06/62225551_10157109514828567_1118021923209478144_n.jpg
END:VEVENT
END:VCALENDAR