BEGIN:VCALENDAR
VERSION:2.0
PRODID:-//The Logon Cafe and Pub - ECPv6.15.20//NONSGML v1.0//EN
CALSCALE:GREGORIAN
METHOD:PUBLISH
X-WR-CALNAME:The Logon Cafe and Pub
X-ORIGINAL-URL:https://logoncafe.net
X-WR-CALDESC:Events for The Logon Cafe and Pub
REFRESH-INTERVAL;VALUE=DURATION:PT1H
X-Robots-Tag:noindex
X-PUBLISHED-TTL:PT1H
BEGIN:VTIMEZONE
TZID:America/Chicago
BEGIN:DAYLIGHT
TZOFFSETFROM:-0600
TZOFFSETTO:-0500
TZNAME:CDT
DTSTART:20200308T080000
END:DAYLIGHT
BEGIN:STANDARD
TZOFFSETFROM:-0500
TZOFFSETTO:-0600
TZNAME:CST
DTSTART:20201101T070000
END:STANDARD
BEGIN:DAYLIGHT
TZOFFSETFROM:-0600
TZOFFSETTO:-0500
TZNAME:CDT
DTSTART:20210314T080000
END:DAYLIGHT
BEGIN:STANDARD
TZOFFSETFROM:-0500
TZOFFSETTO:-0600
TZNAME:CST
DTSTART:20211107T070000
END:STANDARD
BEGIN:DAYLIGHT
TZOFFSETFROM:-0600
TZOFFSETTO:-0500
TZNAME:CDT
DTSTART:20220313T080000
END:DAYLIGHT
BEGIN:STANDARD
TZOFFSETFROM:-0500
TZOFFSETTO:-0600
TZNAME:CST
DTSTART:20221106T070000
END:STANDARD
END:VTIMEZONE
BEGIN:VEVENT
DTSTART;TZID=America/Chicago:20210809T193000
DTEND;TZID=America/Chicago:20210809T210000
DTSTAMP:20260420T215749
CREATED:20190912T212544Z
LAST-MODIFIED:20211015T161606Z
UID:10001154-1628537400-1628542800@logoncafe.net
SUMMARY:Brainstormer Trivia Night
DESCRIPTION:Brainstormer Trivia Night is one of the funnest nights around town OK I said it so get out here and jion the fun. \nCome out for Trivia night at the Logoncafe hope you have fun! \nDo you enjoy Trivia?\nAre you competitive?\nHow about Prizes for the nightly Winners?\nHow about $2.00 Wells for 7pm to 10pm \nTrivia Rules:\nNo yelling out answers\, right or wrong. It disrupts the game and can bother other players. Up to 6 players per team are allowed. There is a 5 point penalty for a team of 7\, and a 10 point pentalty for a team of 8. No cell phones\, blackberries or any type of outside sources are allowed. Have fun!
URL:https://logoncafe.net/event/brainstormer-trivia-night-2-2019-11-25-2020-01-06-2-2020-05-25-2/2021-08-09/
LOCATION:The Logon Cafe & Pub\, 3805 Calder Avenue\, Beaumont\, TX\, 77706\, United States
ATTACH;FMTTYPE=image/jpeg:https://logoncafe.net/wp-content/uploads/2019/09/trivianight2-1000x563-e1567536697294.jpg
END:VEVENT
BEGIN:VEVENT
DTSTART;TZID=America/Chicago:20210809T193000
DTEND;TZID=America/Chicago:20210809T210000
DTSTAMP:20260420T215749
CREATED:20190912T212544Z
LAST-MODIFIED:20210714T234324Z
UID:10001271-1628537400-1628542800@logoncafe.net
SUMMARY:Night & Day Orchestra
DESCRIPTION:Have you ever been to Orchestra Night at The LogOn Cafe with The Night & Day Orchestra? We fit a 21-piece big band with horns\, drum and swanky singers. There’s NOTHING in Beaumont like it. This is something you must experience at least once. Tickets are $10 at the door or free with your Lamar ID.
URL:https://logoncafe.net/event/brainstormer-trivia-night-2-2019-11-25-2020-01-06-2-2020-05-25-2-2021-08-09/
LOCATION:The Logon Cafe & Pub\, 3805 Calder Avenue\, Beaumont\, TX\, 77706\, United States
ATTACH;FMTTYPE=image/jpeg:https://logoncafe.net/wp-content/uploads/2019/04/monday-band-n-e1555343721292.jpg
END:VEVENT
BEGIN:VEVENT
DTSTART;TZID=America/Chicago:20210810T200000
DTEND;TZID=America/Chicago:20210810T230000
DTSTAMP:20260420T215749
CREATED:20181030T231335Z
LAST-MODIFIED:20230411T163019Z
UID:10000203-1628625600-1628636400@logoncafe.net
SUMMARY:Taco Tuesday Karaoke!
DESCRIPTION:What goes better together than tacos and booze?!! Specials start at 6. Karaoke starts at 8!\n$2 Street Tacos\n$2 Ritas\n$2 Well Vodka \nSing your butts off.\nWatch your friends act like they can sing 😉\nNo cover wooooo.\nThis is an all ages event.
URL:https://logoncafe.net/event/taco-tuesday-karaoke/2021-08-10/
LOCATION:The Logon Cafe & Pub\, 3805 Calder Avenue\, Beaumont\, TX\, 77706\, United States
ATTACH;FMTTYPE=image/jpeg:https://logoncafe.net/wp-content/uploads/2018/10/339927740_756585839328526_6857413985854363341_n-e1681230563968.jpg
END:VEVENT
BEGIN:VEVENT
DTSTART;TZID=America/Chicago:20210810T200000
DTEND;TZID=America/Chicago:20210810T230000
DTSTAMP:20260420T215749
CREATED:20240411T141711Z
LAST-MODIFIED:20240411T141712Z
UID:10012621-1628625600-1628636400@logoncafe.net
SUMMARY:Taco Tuesday Karaoke!
DESCRIPTION:What goes better together than tacos and booze?!! Specials start at 6. Karaoke starts at 8!\n$2 Street Tacos\n$2 Ritas\n$2 Well Vodka \nSing your butts off.\nWatch your friends act like they can sing 😉\nNo cover wooooo.\nThis is an all ages event.
URL:https://logoncafe.net/event/taco-tuesday-karaoke-3/2021-08-10/
LOCATION:The Logon Cafe & Pub\, 3805 Calder Avenue\, Beaumont\, TX\, 77706\, United States
ATTACH;FMTTYPE=image/jpeg:https://logoncafe.net/wp-content/uploads/2018/10/339927740_756585839328526_6857413985854363341_n-e1681230563968.jpg
END:VEVENT
BEGIN:VEVENT
DTSTART;TZID=America/Chicago:20210810T200000
DTEND;TZID=America/Chicago:20210810T230000
DTSTAMP:20260420T215749
CREATED:20250407T004038Z
LAST-MODIFIED:20250407T004038Z
UID:10009290-1628625600-1628636400@logoncafe.net
SUMMARY:Taco Tuesday Karaoke!
DESCRIPTION:What goes better together than tacos and booze?!! Specials start at 6. Karaoke starts at 8!$2 Street Tacos$2 Ritas$2 Well Vodka \nSing your butts off.Watch your friends act like they can sing 😉No cover wooooo.This is an all ages event.
URL:https://logoncafe.net/event/taco-tuesday-karaoke-18/2021-08-10/
LOCATION:The Logon Cafe & Pub\, 3805 Calder Avenue\, Beaumont\, TX\, 77706\, United States
ATTACH;FMTTYPE=image/jpeg:https://logoncafe.net/wp-content/uploads/2018/10/339927740_756585839328526_6857413985854363341_n-e1681230563968.jpg
END:VEVENT
BEGIN:VEVENT
DTSTART;TZID=America/Chicago:20210811T200000
DTEND;TZID=America/Chicago:20210811T230000
DTSTAMP:20260420T215749
CREATED:20250303T233810Z
LAST-MODIFIED:20250303T233810Z
UID:10008051-1628712000-1628722800@logoncafe.net
SUMMARY:Open Mic Night
DESCRIPTION:Come one and all to transform our stage into your own personal music venue! Even if you just know someone that likes to play and sing\, get them to come out and buy em a beer! \nWe’ve been hosting Open Mic every Wednesday since 1999\, so come in and join in the tradition. \nSign up is at 7:30 | No Cover \n\n 
URL:https://logoncafe.net/event/open-mic-night-28/2021-08-11/
LOCATION:The Logon Cafe & Pub\, 3805 Calder Avenue\, Beaumont\, TX\, 77706\, United States
CATEGORIES:Open Mic Night
ATTACH;FMTTYPE=image/jpeg:https://logoncafe.net/wp-content/uploads/2022/11/313067660_604791594876249_2466134981987312388_n.jpg
END:VEVENT
BEGIN:VEVENT
DTSTART;TZID=America/Chicago:20210811T200000
DTEND;TZID=America/Chicago:20210811T230000
DTSTAMP:20260420T215749
CREATED:20251030T155404Z
LAST-MODIFIED:20251030T155404Z
UID:10004266-1628712000-1628722800@logoncafe.net
SUMMARY:Open Mic Night
DESCRIPTION:Come one and all to transform our stage into your own personal music venue! Even if you just know someone that likes to play and sing\, get them to come out and buy em a beer! \nWe’ve been hosting Open Mic every Wednesday since 1999\, so come in and join in the tradition. \nSign up is at 7:30 | No Cover \n\n 
URL:https://logoncafe.net/event/open-mic-night-51/2021-08-11/
LOCATION:The Logon Cafe & Pub\, 3805 Calder Avenue\, Beaumont\, TX\, 77706\, United States
CATEGORIES:Open Mic Night
ATTACH;FMTTYPE=image/jpeg:https://logoncafe.net/wp-content/uploads/2022/11/313067660_604791594876249_2466134981987312388_n.jpg
END:VEVENT
BEGIN:VEVENT
DTSTART;TZID=America/Chicago:20210812T180000
DTEND;TZID=America/Chicago:20210812T193000
DTSTAMP:20260420T215749
CREATED:20210714T233533Z
LAST-MODIFIED:20210714T233936Z
UID:10001281-1628791200-1628796600@logoncafe.net
SUMMARY:The Bands of Tonalta
DESCRIPTION:Tonalta School of Music are bringing their bands to The LogOn!
URL:https://logoncafe.net/event/the-bands-of-tonalta/
LOCATION:The Logon Cafe & Pub\, 3805 Calder Avenue\, Beaumont\, TX\, 77706\, United States
ATTACH;FMTTYPE=image/jpeg:https://logoncafe.net/wp-content/uploads/2021/07/171802160_10159136459763567_1482737628524186450_n-e1626305890474.jpg
END:VEVENT
BEGIN:VEVENT
DTSTART;TZID=America/Chicago:20210813T203000
DTEND;TZID=America/Chicago:20210813T233000
DTSTAMP:20260420T215749
CREATED:20210203T013913Z
LAST-MODIFIED:20210802T002418Z
UID:10000624-1628886600-1628897400@logoncafe.net
SUMMARY:Long Sunday Drive Live @ the Logon
DESCRIPTION:Long Sunday Drive & Pug\nLong Sunday Drive is\nCourtney Mock\nSouthPaw Smitty\nPug Johnson\nDavid Pool\nWe LOVE these guys! And gal! 😉
URL:https://logoncafe.net/event/pug-the-hounds-with-long-sunday-drive-2-2-2/
LOCATION:The Logon Cafe & Pub\, 3805 Calder Avenue\, Beaumont\, TX\, 77706\, United States
ATTACH;FMTTYPE=image/jpeg:https://logoncafe.net/wp-content/uploads/2021/02/141668101_10158761653523567_2583514414849193325_n-e1612316340842.jpg
END:VEVENT
END:VCALENDAR