BEGIN:VCALENDAR
VERSION:2.0
PRODID:-//The Logon Cafe and Pub - ECPv6.15.20//NONSGML v1.0//EN
CALSCALE:GREGORIAN
METHOD:PUBLISH
X-WR-CALNAME:The Logon Cafe and Pub
X-ORIGINAL-URL:https://logoncafe.net
X-WR-CALDESC:Events for The Logon Cafe and Pub
REFRESH-INTERVAL;VALUE=DURATION:PT1H
X-Robots-Tag:noindex
X-PUBLISHED-TTL:PT1H
BEGIN:VTIMEZONE
TZID:America/Chicago
BEGIN:DAYLIGHT
TZOFFSETFROM:-0600
TZOFFSETTO:-0500
TZNAME:CDT
DTSTART:20200308T080000
END:DAYLIGHT
BEGIN:STANDARD
TZOFFSETFROM:-0500
TZOFFSETTO:-0600
TZNAME:CST
DTSTART:20201101T070000
END:STANDARD
BEGIN:DAYLIGHT
TZOFFSETFROM:-0600
TZOFFSETTO:-0500
TZNAME:CDT
DTSTART:20210314T080000
END:DAYLIGHT
BEGIN:STANDARD
TZOFFSETFROM:-0500
TZOFFSETTO:-0600
TZNAME:CST
DTSTART:20211107T070000
END:STANDARD
BEGIN:DAYLIGHT
TZOFFSETFROM:-0600
TZOFFSETTO:-0500
TZNAME:CDT
DTSTART:20220313T080000
END:DAYLIGHT
BEGIN:STANDARD
TZOFFSETFROM:-0500
TZOFFSETTO:-0600
TZNAME:CST
DTSTART:20221106T070000
END:STANDARD
END:VTIMEZONE
BEGIN:VEVENT
DTSTART;TZID=America/Chicago:20210816T193000
DTEND;TZID=America/Chicago:20210816T210000
DTSTAMP:20260420T220430
CREATED:20190912T212544Z
LAST-MODIFIED:20211015T161606Z
UID:10001155-1629142200-1629147600@logoncafe.net
SUMMARY:Brainstormer Trivia Night
DESCRIPTION:Brainstormer Trivia Night is one of the funnest nights around town OK I said it so get out here and jion the fun. \nCome out for Trivia night at the Logoncafe hope you have fun! \nDo you enjoy Trivia?\nAre you competitive?\nHow about Prizes for the nightly Winners?\nHow about $2.00 Wells for 7pm to 10pm \nTrivia Rules:\nNo yelling out answers\, right or wrong. It disrupts the game and can bother other players. Up to 6 players per team are allowed. There is a 5 point penalty for a team of 7\, and a 10 point pentalty for a team of 8. No cell phones\, blackberries or any type of outside sources are allowed. Have fun!
URL:https://logoncafe.net/event/brainstormer-trivia-night-2-2019-11-25-2020-01-06-2-2020-05-25-2/2021-08-16/
LOCATION:The Logon Cafe & Pub\, 3805 Calder Avenue\, Beaumont\, TX\, 77706\, United States
ATTACH;FMTTYPE=image/jpeg:https://logoncafe.net/wp-content/uploads/2019/09/trivianight2-1000x563-e1567536697294.jpg
END:VEVENT
BEGIN:VEVENT
DTSTART;TZID=America/Chicago:20210817T200000
DTEND;TZID=America/Chicago:20210817T230000
DTSTAMP:20260420T220430
CREATED:20181030T231335Z
LAST-MODIFIED:20230411T163019Z
UID:10000204-1629230400-1629241200@logoncafe.net
SUMMARY:Taco Tuesday Karaoke!
DESCRIPTION:What goes better together than tacos and booze?!! Specials start at 6. Karaoke starts at 8!\n$2 Street Tacos\n$2 Ritas\n$2 Well Vodka \nSing your butts off.\nWatch your friends act like they can sing 😉\nNo cover wooooo.\nThis is an all ages event.
URL:https://logoncafe.net/event/taco-tuesday-karaoke/2021-08-17/
LOCATION:The Logon Cafe & Pub\, 3805 Calder Avenue\, Beaumont\, TX\, 77706\, United States
ATTACH;FMTTYPE=image/jpeg:https://logoncafe.net/wp-content/uploads/2018/10/339927740_756585839328526_6857413985854363341_n-e1681230563968.jpg
END:VEVENT
BEGIN:VEVENT
DTSTART;TZID=America/Chicago:20210817T200000
DTEND;TZID=America/Chicago:20210817T230000
DTSTAMP:20260420T220430
CREATED:20240411T141711Z
LAST-MODIFIED:20240411T141712Z
UID:10012622-1629230400-1629241200@logoncafe.net
SUMMARY:Taco Tuesday Karaoke!
DESCRIPTION:What goes better together than tacos and booze?!! Specials start at 6. Karaoke starts at 8!\n$2 Street Tacos\n$2 Ritas\n$2 Well Vodka \nSing your butts off.\nWatch your friends act like they can sing 😉\nNo cover wooooo.\nThis is an all ages event.
URL:https://logoncafe.net/event/taco-tuesday-karaoke-3/2021-08-17/
LOCATION:The Logon Cafe & Pub\, 3805 Calder Avenue\, Beaumont\, TX\, 77706\, United States
ATTACH;FMTTYPE=image/jpeg:https://logoncafe.net/wp-content/uploads/2018/10/339927740_756585839328526_6857413985854363341_n-e1681230563968.jpg
END:VEVENT
BEGIN:VEVENT
DTSTART;TZID=America/Chicago:20210817T200000
DTEND;TZID=America/Chicago:20210817T230000
DTSTAMP:20260420T220430
CREATED:20250407T004038Z
LAST-MODIFIED:20250407T004038Z
UID:10009291-1629230400-1629241200@logoncafe.net
SUMMARY:Taco Tuesday Karaoke!
DESCRIPTION:What goes better together than tacos and booze?!! Specials start at 6. Karaoke starts at 8!$2 Street Tacos$2 Ritas$2 Well Vodka \nSing your butts off.Watch your friends act like they can sing 😉No cover wooooo.This is an all ages event.
URL:https://logoncafe.net/event/taco-tuesday-karaoke-18/2021-08-17/
LOCATION:The Logon Cafe & Pub\, 3805 Calder Avenue\, Beaumont\, TX\, 77706\, United States
ATTACH;FMTTYPE=image/jpeg:https://logoncafe.net/wp-content/uploads/2018/10/339927740_756585839328526_6857413985854363341_n-e1681230563968.jpg
END:VEVENT
BEGIN:VEVENT
DTSTART;TZID=America/Chicago:20210818T200000
DTEND;TZID=America/Chicago:20210818T230000
DTSTAMP:20260420T220430
CREATED:20250303T233810Z
LAST-MODIFIED:20250303T233810Z
UID:10008052-1629316800-1629327600@logoncafe.net
SUMMARY:Open Mic Night
DESCRIPTION:Come one and all to transform our stage into your own personal music venue! Even if you just know someone that likes to play and sing\, get them to come out and buy em a beer! \nWe’ve been hosting Open Mic every Wednesday since 1999\, so come in and join in the tradition. \nSign up is at 7:30 | No Cover \n\n 
URL:https://logoncafe.net/event/open-mic-night-28/2021-08-18/
LOCATION:The Logon Cafe & Pub\, 3805 Calder Avenue\, Beaumont\, TX\, 77706\, United States
CATEGORIES:Open Mic Night
ATTACH;FMTTYPE=image/jpeg:https://logoncafe.net/wp-content/uploads/2022/11/313067660_604791594876249_2466134981987312388_n.jpg
END:VEVENT
BEGIN:VEVENT
DTSTART;TZID=America/Chicago:20210818T200000
DTEND;TZID=America/Chicago:20210818T230000
DTSTAMP:20260420T220430
CREATED:20251030T155404Z
LAST-MODIFIED:20251030T155404Z
UID:10004267-1629316800-1629327600@logoncafe.net
SUMMARY:Open Mic Night
DESCRIPTION:Come one and all to transform our stage into your own personal music venue! Even if you just know someone that likes to play and sing\, get them to come out and buy em a beer! \nWe’ve been hosting Open Mic every Wednesday since 1999\, so come in and join in the tradition. \nSign up is at 7:30 | No Cover \n\n 
URL:https://logoncafe.net/event/open-mic-night-51/2021-08-18/
LOCATION:The Logon Cafe & Pub\, 3805 Calder Avenue\, Beaumont\, TX\, 77706\, United States
CATEGORIES:Open Mic Night
ATTACH;FMTTYPE=image/jpeg:https://logoncafe.net/wp-content/uploads/2022/11/313067660_604791594876249_2466134981987312388_n.jpg
END:VEVENT
BEGIN:VEVENT
DTSTART;TZID=America/Chicago:20210819T200000
DTEND;TZID=America/Chicago:20210819T235900
DTSTAMP:20260420T220430
CREATED:20210708T001845Z
LAST-MODIFIED:20210819T205828Z
UID:10001286-1629403200-1629417540@logoncafe.net
SUMMARY:Daniel Waters w/ Britt Simoneaux
DESCRIPTION:Daniel Waters w/ Britt Simoneaux\nThe super talented Daniel Waters! Finally – Beaumont gets an AMAZING piano player!!\nWith Britt Simoneaux on drums – We love this combo!
URL:https://logoncafe.net/event/daniel-waters-w-britt-simoneaux-2-2/
LOCATION:The Logon Cafe & Pub\, 3805 Calder Avenue\, Beaumont\, TX\, 77706\, United States
ATTACH;FMTTYPE=image/jpeg:https://logoncafe.net/wp-content/uploads/2021/01/136112782_10158695558563567_1379601443691432188_o-e1610142234736.jpg
END:VEVENT
BEGIN:VEVENT
DTSTART;TZID=America/Chicago:20210820T200000
DTEND;TZID=America/Chicago:20210820T233000
DTSTAMP:20260420T220430
CREATED:20210324T210656Z
LAST-MODIFIED:20210708T011031Z
UID:10001280-1629489600-1629502200@logoncafe.net
SUMMARY:Pug Johnson & the Hounds
DESCRIPTION:Who We Are\nIf you couldn’t tell by the big ass banner at the top of the page\, we’re Pug Johnson and The Hounds. We hail from Southeast Texas\, and the blend of music that we play reflects that. I write songs and tell stories about my misadventures in hopes of contributing to the lineage of American music. Many of the images on this site are taken from the home I share with my wife\, Mindy and our two spoiled pups: Riley and Dixie. Come in\, kick your shoes off\, and stay awhile. We thank you for being here.\n\nhttps://youtu.be/gFhXMjtQ1-w
URL:https://logoncafe.net/event/pug-johnson-the-hounds-2-2/
LOCATION:The Logon Cafe & Pub\, 3805 Calder Avenue\, Beaumont\, TX\, 77706\, United States
ATTACH;FMTTYPE=image/jpeg:https://logoncafe.net/wp-content/uploads/2021/03/163922319_10158892192813567_740503331769552988_n-e1616620001185.jpg
END:VEVENT
BEGIN:VEVENT
DTSTART;TZID=America/Chicago:20210821T200000
DTEND;TZID=America/Chicago:20210821T233000
DTSTAMP:20260420T220430
CREATED:20210324T204653Z
LAST-MODIFIED:20210701T162106Z
UID:10000648-1629576000-1629588600@logoncafe.net
SUMMARY:The Rick Show
DESCRIPTION:The Rick Show \nRick Busby and Rick Danna are back together again with Stephen Doc Watson\, Kenny Wiebusch\, and Josh Courts!!
URL:https://logoncafe.net/event/the-rick-show-2/
LOCATION:The Logon Cafe & Pub\, 3805 Calder Avenue\, Beaumont\, TX\, 77706\, United States
ATTACH;FMTTYPE=image/jpeg:https://logoncafe.net/wp-content/uploads/2019/03/53595352_10156872257848567_8494667626054680576_n.jpg
END:VEVENT
END:VCALENDAR