BEGIN:VCALENDAR
VERSION:2.0
PRODID:-//The Logon Cafe and Pub - ECPv6.15.20//NONSGML v1.0//EN
CALSCALE:GREGORIAN
METHOD:PUBLISH
X-ORIGINAL-URL:https://logoncafe.net
X-WR-CALDESC:Events for The Logon Cafe and Pub
REFRESH-INTERVAL;VALUE=DURATION:PT1H
X-Robots-Tag:noindex
X-PUBLISHED-TTL:PT1H
BEGIN:VTIMEZONE
TZID:America/Chicago
BEGIN:DAYLIGHT
TZOFFSETFROM:-0600
TZOFFSETTO:-0500
TZNAME:CDT
DTSTART:20210314T080000
END:DAYLIGHT
BEGIN:STANDARD
TZOFFSETFROM:-0500
TZOFFSETTO:-0600
TZNAME:CST
DTSTART:20211107T070000
END:STANDARD
BEGIN:DAYLIGHT
TZOFFSETFROM:-0600
TZOFFSETTO:-0500
TZNAME:CDT
DTSTART:20220313T080000
END:DAYLIGHT
BEGIN:STANDARD
TZOFFSETFROM:-0500
TZOFFSETTO:-0600
TZNAME:CST
DTSTART:20221106T070000
END:STANDARD
BEGIN:DAYLIGHT
TZOFFSETFROM:-0600
TZOFFSETTO:-0500
TZNAME:CDT
DTSTART:20230312T080000
END:DAYLIGHT
BEGIN:STANDARD
TZOFFSETFROM:-0500
TZOFFSETTO:-0600
TZNAME:CST
DTSTART:20231105T070000
END:STANDARD
END:VTIMEZONE
BEGIN:VEVENT
DTSTART;TZID=America/Chicago:20221128T193000
DTEND;TZID=America/Chicago:20221128T213000
DTSTAMP:20260425T092616
CREATED:20221116T154217Z
LAST-MODIFIED:20221118T012520Z
UID:10001494-1669663800-1669671000@logoncafe.net
SUMMARY:Donny's Let's Get Quizzacle Trivia Night
DESCRIPTION:Donny’s Let’s Get Quizzacle Trivia Night \nJoin us Mondays from 7:30 – 9:30pm forFun and challenging trivia with prizes for the first place quiz geniuses! \nHow would you describe trivia night?\nTrivia nights are gatherings where friends\, family\, or coworkers form into teams and compete to answer questions and win points. These nights often have themes and prizes\, and food and drinks are also common features. \n>>>>>>>> $3 Wells all night! <<<<<<<<
URL:https://logoncafe.net/event/donnys-lets-get-quizzacle-trivia-night-5/
LOCATION:The Logon Cafe & Pub\, 3805 Calder Avenue\, Beaumont\, TX\, 77706\, United States
ATTACH;FMTTYPE=image/jpeg:https://logoncafe.net/wp-content/uploads/2022/05/283167884_10159672932363567_4598713266140957763_n-e1653352236772.jpg
END:VEVENT
BEGIN:VEVENT
DTSTART;TZID=America/Chicago:20221129T200000
DTEND;TZID=America/Chicago:20221129T230000
DTSTAMP:20260425T092616
CREATED:20181030T231335Z
LAST-MODIFIED:20230411T163019Z
UID:10000271-1669752000-1669762800@logoncafe.net
SUMMARY:Taco Tuesday Karaoke!
DESCRIPTION:What goes better together than tacos and booze?!! Specials start at 6. Karaoke starts at 8!\n$2 Street Tacos\n$2 Ritas\n$2 Well Vodka \nSing your butts off.\nWatch your friends act like they can sing 😉\nNo cover wooooo.\nThis is an all ages event.
URL:https://logoncafe.net/event/taco-tuesday-karaoke/2022-11-29/
LOCATION:The Logon Cafe & Pub\, 3805 Calder Avenue\, Beaumont\, TX\, 77706\, United States
ATTACH;FMTTYPE=image/jpeg:https://logoncafe.net/wp-content/uploads/2018/10/339927740_756585839328526_6857413985854363341_n-e1681230563968.jpg
END:VEVENT
BEGIN:VEVENT
DTSTART;TZID=America/Chicago:20221129T200000
DTEND;TZID=America/Chicago:20221129T230000
DTSTAMP:20260425T092616
CREATED:20240411T141711Z
LAST-MODIFIED:20240411T141712Z
UID:10002997-1669752000-1669762800@logoncafe.net
SUMMARY:Taco Tuesday Karaoke!
DESCRIPTION:What goes better together than tacos and booze?!! Specials start at 6. Karaoke starts at 8!\n$2 Street Tacos\n$2 Ritas\n$2 Well Vodka \nSing your butts off.\nWatch your friends act like they can sing 😉\nNo cover wooooo.\nThis is an all ages event.
URL:https://logoncafe.net/event/taco-tuesday-karaoke-3/2022-11-29/
LOCATION:The Logon Cafe & Pub\, 3805 Calder Avenue\, Beaumont\, TX\, 77706\, United States
ATTACH;FMTTYPE=image/jpeg:https://logoncafe.net/wp-content/uploads/2018/10/339927740_756585839328526_6857413985854363341_n-e1681230563968.jpg
END:VEVENT
BEGIN:VEVENT
DTSTART;TZID=America/Chicago:20221129T200000
DTEND;TZID=America/Chicago:20221129T230000
DTSTAMP:20260425T092616
CREATED:20250407T004038Z
LAST-MODIFIED:20250407T004038Z
UID:10009358-1669752000-1669762800@logoncafe.net
SUMMARY:Taco Tuesday Karaoke!
DESCRIPTION:What goes better together than tacos and booze?!! Specials start at 6. Karaoke starts at 8!$2 Street Tacos$2 Ritas$2 Well Vodka \nSing your butts off.Watch your friends act like they can sing 😉No cover wooooo.This is an all ages event.
URL:https://logoncafe.net/event/taco-tuesday-karaoke-18/2022-11-29/
LOCATION:The Logon Cafe & Pub\, 3805 Calder Avenue\, Beaumont\, TX\, 77706\, United States
ATTACH;FMTTYPE=image/jpeg:https://logoncafe.net/wp-content/uploads/2018/10/339927740_756585839328526_6857413985854363341_n-e1681230563968.jpg
END:VEVENT
BEGIN:VEVENT
DTSTART;TZID=America/Chicago:20221130T200000
DTEND;TZID=America/Chicago:20221130T230000
DTSTAMP:20260425T092616
CREATED:20250303T233810Z
LAST-MODIFIED:20250303T233810Z
UID:10008118-1669838400-1669849200@logoncafe.net
SUMMARY:Open Mic Night
DESCRIPTION:Come one and all to transform our stage into your own personal music venue! Even if you just know someone that likes to play and sing\, get them to come out and buy em a beer! \nWe’ve been hosting Open Mic every Wednesday since 1999\, so come in and join in the tradition. \nSign up is at 7:30 | No Cover \n\n 
URL:https://logoncafe.net/event/open-mic-night-28/2022-11-30/
LOCATION:The Logon Cafe & Pub\, 3805 Calder Avenue\, Beaumont\, TX\, 77706\, United States
CATEGORIES:Open Mic Night
ATTACH;FMTTYPE=image/jpeg:https://logoncafe.net/wp-content/uploads/2022/11/313067660_604791594876249_2466134981987312388_n.jpg
END:VEVENT
BEGIN:VEVENT
DTSTART;TZID=America/Chicago:20221130T200000
DTEND;TZID=America/Chicago:20221130T230000
DTSTAMP:20260425T092616
CREATED:20251030T155404Z
LAST-MODIFIED:20251030T155404Z
UID:10004333-1669838400-1669849200@logoncafe.net
SUMMARY:Open Mic Night
DESCRIPTION:Come one and all to transform our stage into your own personal music venue! Even if you just know someone that likes to play and sing\, get them to come out and buy em a beer! \nWe’ve been hosting Open Mic every Wednesday since 1999\, so come in and join in the tradition. \nSign up is at 7:30 | No Cover \n\n 
URL:https://logoncafe.net/event/open-mic-night-51/2022-11-30/
LOCATION:The Logon Cafe & Pub\, 3805 Calder Avenue\, Beaumont\, TX\, 77706\, United States
CATEGORIES:Open Mic Night
ATTACH;FMTTYPE=image/jpeg:https://logoncafe.net/wp-content/uploads/2022/11/313067660_604791594876249_2466134981987312388_n.jpg
END:VEVENT
BEGIN:VEVENT
DTSTART;TZID=America/Chicago:20221202T200000
DTEND;TZID=America/Chicago:20221202T235900
DTSTAMP:20260425T092616
CREATED:20221128T154422Z
LAST-MODIFIED:20221128T154424Z
UID:10001498-1670011200-1670025540@logoncafe.net
SUMMARY:Friday Karaoke Party
DESCRIPTION:YAYYY!!!! Friday karaoke party!! Come sing with us! But be sure to bring your friends\, family and coworkers so you have plenty of witnesses  \nCome out have some fun be a star
URL:https://logoncafe.net/event/friday-karaoke-party-5/
LOCATION:The Logon Cafe & Pub\, 3805 Calder Avenue\, Beaumont\, TX\, 77706\, United States
ATTACH;FMTTYPE=image/jpeg:https://logoncafe.net/wp-content/uploads/2020/01/k-rob-e1579552769317.jpg
END:VEVENT
BEGIN:VEVENT
DTSTART;TZID=America/Chicago:20221203T110000
DTEND;TZID=America/Chicago:20221203T140000
DTSTAMP:20260425T092616
CREATED:20250721T164931Z
LAST-MODIFIED:20250721T164931Z
UID:10001894-1670065200-1670076000@logoncafe.net
SUMMARY:Saturday Brunch
DESCRIPTION:Every Saturday from 11am-2pm Do you want Big Booty Biscuit with sausage gravy\, Eggs Benedict\, French toast stuffed with an egg over easy\, Maybe the Crab Cake Florentine paired with a Mimosa or a Bloody Mary… it starts at 11 a.m. — come hungry!
URL:https://logoncafe.net/event/saturday-brunch-19/2022-12-03/
LOCATION:TX
ATTACH;FMTTYPE=image/jpeg:https://logoncafe.net/wp-content/uploads/2023/07/12o-e1688393443805.jpg
END:VEVENT
BEGIN:VEVENT
DTSTART;TZID=America/Chicago:20221203T200000
DTEND;TZID=America/Chicago:20221203T235900
DTSTAMP:20260425T092616
CREATED:20221012T231657Z
LAST-MODIFIED:20221012T231657Z
UID:10001434-1670097600-1670111940@logoncafe.net
SUMMARY:The Rick Show
DESCRIPTION:The Rick Show \nRick Busby and Rick Danna are back together again with Stephen Doc Watson\, Kenny Wiebusch\, and Josh Courts!!
URL:https://logoncafe.net/event/the-rick-show-3/
LOCATION:The Logon Cafe & Pub\, 3805 Calder Avenue\, Beaumont\, TX\, 77706\, United States
ATTACH;FMTTYPE=image/jpeg:https://logoncafe.net/wp-content/uploads/2019/03/53595352_10156872257848567_8494667626054680576_n.jpg
END:VEVENT
BEGIN:VEVENT
DTSTART;TZID=America/Chicago:20221204T110000
DTEND;TZID=America/Chicago:20221204T140000
DTSTAMP:20260425T092616
CREATED:20221018T012220Z
LAST-MODIFIED:20221018T012220Z
UID:10001479-1670151600-1670162400@logoncafe.net
SUMMARY:Sunday Brunch - Mimosas & Bloody Mary's
DESCRIPTION:Come out for our Sunday Brunch\nThings to due this weekend:\n1. Brunch at the Logoncafe\n2. Mimosas at the Logoncafe\n3. Spicy Bloody Mary’s at the Logoncafe\n4. More Mimosas at the Logoncafe\n5. Smile\, Laugh. tell jokes at the Logoncafe\n6. Have a fantastic Day thinking about that Brunch & Mimosas at the Logoncafe \nCome out and try our Brunch I know you will like it.\n#BloodyMary #Mimosas
URL:https://logoncafe.net/event/sunday-brunch-mimosas-bloody-marys/2022-12-04/
LOCATION:The Logon Cafe & Pub\, 3805 Calder Avenue\, Beaumont\, TX\, 77706\, United States
ATTACH;FMTTYPE=image/png:https://logoncafe.net/wp-content/uploads/2020/01/brunchs.png
END:VEVENT
END:VCALENDAR