BEGIN:VCALENDAR
VERSION:2.0
PRODID:-//The Logon Cafe and Pub - ECPv6.15.20//NONSGML v1.0//EN
CALSCALE:GREGORIAN
METHOD:PUBLISH
X-ORIGINAL-URL:https://logoncafe.net
X-WR-CALDESC:Events for The Logon Cafe and Pub
REFRESH-INTERVAL;VALUE=DURATION:PT1H
X-Robots-Tag:noindex
X-PUBLISHED-TTL:PT1H
BEGIN:VTIMEZONE
TZID:America/Chicago
BEGIN:DAYLIGHT
TZOFFSETFROM:-0600
TZOFFSETTO:-0500
TZNAME:CDT
DTSTART:20210314T080000
END:DAYLIGHT
BEGIN:STANDARD
TZOFFSETFROM:-0500
TZOFFSETTO:-0600
TZNAME:CST
DTSTART:20211107T070000
END:STANDARD
BEGIN:DAYLIGHT
TZOFFSETFROM:-0600
TZOFFSETTO:-0500
TZNAME:CDT
DTSTART:20220313T080000
END:DAYLIGHT
BEGIN:STANDARD
TZOFFSETFROM:-0500
TZOFFSETTO:-0600
TZNAME:CST
DTSTART:20221106T070000
END:STANDARD
BEGIN:DAYLIGHT
TZOFFSETFROM:-0600
TZOFFSETTO:-0500
TZNAME:CDT
DTSTART:20230312T080000
END:DAYLIGHT
BEGIN:STANDARD
TZOFFSETFROM:-0500
TZOFFSETTO:-0600
TZNAME:CST
DTSTART:20231105T070000
END:STANDARD
END:VTIMEZONE
BEGIN:VEVENT
DTSTART;TZID=America/Chicago:20221219T193000
DTEND;TZID=America/Chicago:20221219T213000
DTSTAMP:20260425T123537
CREATED:20221116T162040Z
LAST-MODIFIED:20221118T012720Z
UID:10001496-1671478200-1671485400@logoncafe.net
SUMMARY:Donny's Let's Get Quizzacle Trivia Night
DESCRIPTION:Donny’s Let’s Get Quizzacle Trivia Night \nJoin us Mondays from 7:30 – 9:30pm forFun and challenging trivia with prizes for the first place quiz geniuses! \nHow would you describe trivia night?\nTrivia nights are gatherings where friends\, family\, or coworkers form into teams and compete to answer questions and win points. These nights often have themes and prizes\, and food and drinks are also common features.>>>>>>>> $3 Wells all night! <<<<<<<<
URL:https://logoncafe.net/event/donnys-lets-get-quizzacle-trivia-night-6/
LOCATION:The Logon Cafe & Pub\, 3805 Calder Avenue\, Beaumont\, TX\, 77706\, United States
ATTACH;FMTTYPE=image/jpeg:https://logoncafe.net/wp-content/uploads/2022/05/283167884_10159672932363567_4598713266140957763_n-e1653352236772.jpg
END:VEVENT
BEGIN:VEVENT
DTSTART;TZID=America/Chicago:20221220T200000
DTEND;TZID=America/Chicago:20221220T230000
DTSTAMP:20260425T123537
CREATED:20181030T231335Z
LAST-MODIFIED:20230411T163019Z
UID:10000274-1671566400-1671577200@logoncafe.net
SUMMARY:Taco Tuesday Karaoke!
DESCRIPTION:What goes better together than tacos and booze?!! Specials start at 6. Karaoke starts at 8!\n$2 Street Tacos\n$2 Ritas\n$2 Well Vodka \nSing your butts off.\nWatch your friends act like they can sing 😉\nNo cover wooooo.\nThis is an all ages event.
URL:https://logoncafe.net/event/taco-tuesday-karaoke/2022-12-20/
LOCATION:The Logon Cafe & Pub\, 3805 Calder Avenue\, Beaumont\, TX\, 77706\, United States
ATTACH;FMTTYPE=image/jpeg:https://logoncafe.net/wp-content/uploads/2018/10/339927740_756585839328526_6857413985854363341_n-e1681230563968.jpg
END:VEVENT
BEGIN:VEVENT
DTSTART;TZID=America/Chicago:20221220T200000
DTEND;TZID=America/Chicago:20221220T230000
DTSTAMP:20260425T123537
CREATED:20240411T141711Z
LAST-MODIFIED:20240411T141712Z
UID:10003000-1671566400-1671577200@logoncafe.net
SUMMARY:Taco Tuesday Karaoke!
DESCRIPTION:What goes better together than tacos and booze?!! Specials start at 6. Karaoke starts at 8!\n$2 Street Tacos\n$2 Ritas\n$2 Well Vodka \nSing your butts off.\nWatch your friends act like they can sing 😉\nNo cover wooooo.\nThis is an all ages event.
URL:https://logoncafe.net/event/taco-tuesday-karaoke-3/2022-12-20/
LOCATION:The Logon Cafe & Pub\, 3805 Calder Avenue\, Beaumont\, TX\, 77706\, United States
ATTACH;FMTTYPE=image/jpeg:https://logoncafe.net/wp-content/uploads/2018/10/339927740_756585839328526_6857413985854363341_n-e1681230563968.jpg
END:VEVENT
BEGIN:VEVENT
DTSTART;TZID=America/Chicago:20221220T200000
DTEND;TZID=America/Chicago:20221220T230000
DTSTAMP:20260425T123537
CREATED:20250407T004038Z
LAST-MODIFIED:20250407T004038Z
UID:10009361-1671566400-1671577200@logoncafe.net
SUMMARY:Taco Tuesday Karaoke!
DESCRIPTION:What goes better together than tacos and booze?!! Specials start at 6. Karaoke starts at 8!$2 Street Tacos$2 Ritas$2 Well Vodka \nSing your butts off.Watch your friends act like they can sing 😉No cover wooooo.This is an all ages event.
URL:https://logoncafe.net/event/taco-tuesday-karaoke-18/2022-12-20/
LOCATION:The Logon Cafe & Pub\, 3805 Calder Avenue\, Beaumont\, TX\, 77706\, United States
ATTACH;FMTTYPE=image/jpeg:https://logoncafe.net/wp-content/uploads/2018/10/339927740_756585839328526_6857413985854363341_n-e1681230563968.jpg
END:VEVENT
BEGIN:VEVENT
DTSTART;TZID=America/Chicago:20221221T200000
DTEND;TZID=America/Chicago:20221221T230000
DTSTAMP:20260425T123537
CREATED:20250303T233810Z
LAST-MODIFIED:20250303T233810Z
UID:10008121-1671652800-1671663600@logoncafe.net
SUMMARY:Open Mic Night
DESCRIPTION:Come one and all to transform our stage into your own personal music venue! Even if you just know someone that likes to play and sing\, get them to come out and buy em a beer! \nWe’ve been hosting Open Mic every Wednesday since 1999\, so come in and join in the tradition. \nSign up is at 7:30 | No Cover \n\n 
URL:https://logoncafe.net/event/open-mic-night-28/2022-12-21/
LOCATION:The Logon Cafe & Pub\, 3805 Calder Avenue\, Beaumont\, TX\, 77706\, United States
CATEGORIES:Open Mic Night
ATTACH;FMTTYPE=image/jpeg:https://logoncafe.net/wp-content/uploads/2022/11/313067660_604791594876249_2466134981987312388_n.jpg
END:VEVENT
BEGIN:VEVENT
DTSTART;TZID=America/Chicago:20221221T200000
DTEND;TZID=America/Chicago:20221221T230000
DTSTAMP:20260425T123537
CREATED:20251030T155404Z
LAST-MODIFIED:20251030T155404Z
UID:10004336-1671652800-1671663600@logoncafe.net
SUMMARY:Open Mic Night
DESCRIPTION:Come one and all to transform our stage into your own personal music venue! Even if you just know someone that likes to play and sing\, get them to come out and buy em a beer! \nWe’ve been hosting Open Mic every Wednesday since 1999\, so come in and join in the tradition. \nSign up is at 7:30 | No Cover \n\n 
URL:https://logoncafe.net/event/open-mic-night-51/2022-12-21/
LOCATION:The Logon Cafe & Pub\, 3805 Calder Avenue\, Beaumont\, TX\, 77706\, United States
CATEGORIES:Open Mic Night
ATTACH;FMTTYPE=image/jpeg:https://logoncafe.net/wp-content/uploads/2022/11/313067660_604791594876249_2466134981987312388_n.jpg
END:VEVENT
BEGIN:VEVENT
DTSTART;TZID=America/Chicago:20221222T200000
DTEND;TZID=America/Chicago:20221222T233000
DTSTAMP:20260425T123537
CREATED:20221129T201727Z
LAST-MODIFIED:20221219T015308Z
UID:10001499-1671739200-1671751800@logoncafe.net
SUMMARY:Matt Schuldt Acoustic Guitar & Piano
DESCRIPTION:Matt Schuldt\nLive music and drinks. His Billy Joel covers are our favorite! Music starts at 8. No Cover.
URL:https://logoncafe.net/event/matt-schuldt-live-at-the-logon-2/
LOCATION:The Logon Cafe & Pub\, 3805 Calder Avenue\, Beaumont\, TX\, 77706\, United States
ATTACH;FMTTYPE=image/jpeg:https://logoncafe.net/wp-content/uploads/2021/03/245500433_10159292690173567_474208960730765432_n-e1634083675743.jpg
END:VEVENT
BEGIN:VEVENT
DTSTART;TZID=America/Chicago:20221223T200000
DTEND;TZID=America/Chicago:20221223T230000
DTSTAMP:20260425T123537
CREATED:20221012T232259Z
LAST-MODIFIED:20221012T232259Z
UID:10001438-1671825600-1671836400@logoncafe.net
SUMMARY:Ward\, Bowen & Steinman
DESCRIPTION:Friday night + three great musicians + the intimate venue at The Logon Cafe = a fantastic start to your weekend! Only $5 at the door. Come join us!
URL:https://logoncafe.net/event/ward-bowen-steinman-4/
LOCATION:3805 Calder Avenue\, Beaumont\, TX\, 77706\, United States
ATTACH;FMTTYPE=image/jpeg:https://logoncafe.net/wp-content/uploads/2018/12/Ward-Bowen-and-Steinman.jpg
END:VEVENT
BEGIN:VEVENT
DTSTART;TZID=America/Chicago:20221224T110000
DTEND;TZID=America/Chicago:20221224T140000
DTSTAMP:20260425T123537
CREATED:20221209T010915Z
LAST-MODIFIED:20221209T011209Z
UID:10000771-1671879600-1671890400@logoncafe.net
SUMMARY:Closed For Brunch
DESCRIPTION:Every Saturday from 11am-2pm \nThank you for considering us for Brunch we will be back next weekend  \nWe will be opening at 6pm for Scott McGill’s Christmas Show \nMay You Have a Merry Christmas
URL:https://logoncafe.net/event/saturday-brunch/
LOCATION:3805 Calder Avenue\, Beaumont\, TX\, 77706\, United States
ATTACH;FMTTYPE=image/jpeg:https://logoncafe.net/wp-content/uploads/2018/10/sat_brunch.jpg
END:VEVENT
BEGIN:VEVENT
DTSTART;TZID=America/Chicago:20221224T200000
DTEND;TZID=America/Chicago:20221224T233000
DTSTAMP:20260425T123537
CREATED:20221012T232411Z
LAST-MODIFIED:20221205T013111Z
UID:10001439-1671912000-1671924600@logoncafe.net
SUMMARY:Scott McGill Holiday Show
DESCRIPTION:
URL:https://logoncafe.net/event/scott-mcgill-holiday-show/
LOCATION:The Logon Cafe & Pub\, 3805 Calder Avenue\, Beaumont\, TX\, 77706\, United States
ATTACH;FMTTYPE=image/jpeg:https://logoncafe.net/wp-content/uploads/2022/07/217794_1501156507446_1170202_n.jpg
END:VEVENT
END:VCALENDAR