BEGIN:VCALENDAR
VERSION:2.0
PRODID:-//The Logon Cafe and Pub - ECPv6.15.20//NONSGML v1.0//EN
CALSCALE:GREGORIAN
METHOD:PUBLISH
X-ORIGINAL-URL:https://logoncafe.net
X-WR-CALDESC:Events for The Logon Cafe and Pub
REFRESH-INTERVAL;VALUE=DURATION:PT1H
X-Robots-Tag:noindex
X-PUBLISHED-TTL:PT1H
BEGIN:VTIMEZONE
TZID:America/Chicago
BEGIN:DAYLIGHT
TZOFFSETFROM:-0600
TZOFFSETTO:-0500
TZNAME:CDT
DTSTART:20210314T080000
END:DAYLIGHT
BEGIN:STANDARD
TZOFFSETFROM:-0500
TZOFFSETTO:-0600
TZNAME:CST
DTSTART:20211107T070000
END:STANDARD
BEGIN:DAYLIGHT
TZOFFSETFROM:-0600
TZOFFSETTO:-0500
TZNAME:CDT
DTSTART:20220313T080000
END:DAYLIGHT
BEGIN:STANDARD
TZOFFSETFROM:-0500
TZOFFSETTO:-0600
TZNAME:CST
DTSTART:20221106T070000
END:STANDARD
BEGIN:DAYLIGHT
TZOFFSETFROM:-0600
TZOFFSETTO:-0500
TZNAME:CDT
DTSTART:20230312T080000
END:DAYLIGHT
BEGIN:STANDARD
TZOFFSETFROM:-0500
TZOFFSETTO:-0600
TZNAME:CST
DTSTART:20231105T070000
END:STANDARD
END:VTIMEZONE
BEGIN:VEVENT
DTSTART;TZID=America/Chicago:20221226T193000
DTEND;TZID=America/Chicago:20221226T213000
DTSTAMP:20260425T091807
CREATED:20221116T162121Z
LAST-MODIFIED:20221116T162122Z
UID:10001497-1672083000-1672090200@logoncafe.net
SUMMARY:Donny's Let's Get Quizzacle Trivia Night
DESCRIPTION:Donny’s Let’s Get Quizzacle Trivia Night \nJoin us Mondays from 7:30 – 9:30pm for\nFun and challenging trivia with prizes for the first place quiz geniuses!\n>>>>>>>> $3 Wells all night! <<<<<<<<
URL:https://logoncafe.net/event/donnys-lets-get-quizzacle-trivia-night-7/
LOCATION:The Logon Cafe & Pub\, 3805 Calder Avenue\, Beaumont\, TX\, 77706\, United States
ATTACH;FMTTYPE=image/jpeg:https://logoncafe.net/wp-content/uploads/2022/05/283167884_10159672932363567_4598713266140957763_n-e1653352236772.jpg
END:VEVENT
BEGIN:VEVENT
DTSTART;TZID=America/Chicago:20221227T200000
DTEND;TZID=America/Chicago:20221227T230000
DTSTAMP:20260425T091807
CREATED:20181030T231335Z
LAST-MODIFIED:20230411T163019Z
UID:10000275-1672171200-1672182000@logoncafe.net
SUMMARY:Taco Tuesday Karaoke!
DESCRIPTION:What goes better together than tacos and booze?!! Specials start at 6. Karaoke starts at 8!\n$2 Street Tacos\n$2 Ritas\n$2 Well Vodka \nSing your butts off.\nWatch your friends act like they can sing 😉\nNo cover wooooo.\nThis is an all ages event.
URL:https://logoncafe.net/event/taco-tuesday-karaoke/2022-12-27/
LOCATION:The Logon Cafe & Pub\, 3805 Calder Avenue\, Beaumont\, TX\, 77706\, United States
ATTACH;FMTTYPE=image/jpeg:https://logoncafe.net/wp-content/uploads/2018/10/339927740_756585839328526_6857413985854363341_n-e1681230563968.jpg
END:VEVENT
BEGIN:VEVENT
DTSTART;TZID=America/Chicago:20221227T200000
DTEND;TZID=America/Chicago:20221227T230000
DTSTAMP:20260425T091807
CREATED:20240411T141711Z
LAST-MODIFIED:20240411T141712Z
UID:10003001-1672171200-1672182000@logoncafe.net
SUMMARY:Taco Tuesday Karaoke!
DESCRIPTION:What goes better together than tacos and booze?!! Specials start at 6. Karaoke starts at 8!\n$2 Street Tacos\n$2 Ritas\n$2 Well Vodka \nSing your butts off.\nWatch your friends act like they can sing 😉\nNo cover wooooo.\nThis is an all ages event.
URL:https://logoncafe.net/event/taco-tuesday-karaoke-3/2022-12-27/
LOCATION:The Logon Cafe & Pub\, 3805 Calder Avenue\, Beaumont\, TX\, 77706\, United States
ATTACH;FMTTYPE=image/jpeg:https://logoncafe.net/wp-content/uploads/2018/10/339927740_756585839328526_6857413985854363341_n-e1681230563968.jpg
END:VEVENT
BEGIN:VEVENT
DTSTART;TZID=America/Chicago:20221227T200000
DTEND;TZID=America/Chicago:20221227T230000
DTSTAMP:20260425T091807
CREATED:20250407T004038Z
LAST-MODIFIED:20250407T004038Z
UID:10009362-1672171200-1672182000@logoncafe.net
SUMMARY:Taco Tuesday Karaoke!
DESCRIPTION:What goes better together than tacos and booze?!! Specials start at 6. Karaoke starts at 8!$2 Street Tacos$2 Ritas$2 Well Vodka \nSing your butts off.Watch your friends act like they can sing 😉No cover wooooo.This is an all ages event.
URL:https://logoncafe.net/event/taco-tuesday-karaoke-18/2022-12-27/
LOCATION:The Logon Cafe & Pub\, 3805 Calder Avenue\, Beaumont\, TX\, 77706\, United States
ATTACH;FMTTYPE=image/jpeg:https://logoncafe.net/wp-content/uploads/2018/10/339927740_756585839328526_6857413985854363341_n-e1681230563968.jpg
END:VEVENT
BEGIN:VEVENT
DTSTART;TZID=America/Chicago:20221228T200000
DTEND;TZID=America/Chicago:20221228T230000
DTSTAMP:20260425T091807
CREATED:20250303T233810Z
LAST-MODIFIED:20250303T233810Z
UID:10008122-1672257600-1672268400@logoncafe.net
SUMMARY:Open Mic Night
DESCRIPTION:Come one and all to transform our stage into your own personal music venue! Even if you just know someone that likes to play and sing\, get them to come out and buy em a beer! \nWe’ve been hosting Open Mic every Wednesday since 1999\, so come in and join in the tradition. \nSign up is at 7:30 | No Cover \n\n 
URL:https://logoncafe.net/event/open-mic-night-28/2022-12-28/
LOCATION:The Logon Cafe & Pub\, 3805 Calder Avenue\, Beaumont\, TX\, 77706\, United States
CATEGORIES:Open Mic Night
ATTACH;FMTTYPE=image/jpeg:https://logoncafe.net/wp-content/uploads/2022/11/313067660_604791594876249_2466134981987312388_n.jpg
END:VEVENT
BEGIN:VEVENT
DTSTART;TZID=America/Chicago:20221228T200000
DTEND;TZID=America/Chicago:20221228T230000
DTSTAMP:20260425T091807
CREATED:20251030T155404Z
LAST-MODIFIED:20251030T155404Z
UID:10004337-1672257600-1672268400@logoncafe.net
SUMMARY:Open Mic Night
DESCRIPTION:Come one and all to transform our stage into your own personal music venue! Even if you just know someone that likes to play and sing\, get them to come out and buy em a beer! \nWe’ve been hosting Open Mic every Wednesday since 1999\, so come in and join in the tradition. \nSign up is at 7:30 | No Cover \n\n 
URL:https://logoncafe.net/event/open-mic-night-51/2022-12-28/
LOCATION:The Logon Cafe & Pub\, 3805 Calder Avenue\, Beaumont\, TX\, 77706\, United States
CATEGORIES:Open Mic Night
ATTACH;FMTTYPE=image/jpeg:https://logoncafe.net/wp-content/uploads/2022/11/313067660_604791594876249_2466134981987312388_n.jpg
END:VEVENT
BEGIN:VEVENT
DTSTART;TZID=America/Chicago:20221229T200000
DTEND;TZID=America/Chicago:20221229T233000
DTSTAMP:20260425T091807
CREATED:20221205T015532Z
LAST-MODIFIED:20221205T015534Z
UID:10001502-1672344000-1672356600@logoncafe.net
SUMMARY:Stephen Perricone
DESCRIPTION:Stephen Perricone\nHello my name is Stephen Perricone\, I am a professional musician based out of San Antonio\, TX. I play 60’s-early 2000’s Classic Rock/Pop/Folk covers and original music. \nhttps://www.facebook.com/watch/?ref=search&v=1269206763890773&external_log_id=56cf9457-36db-4671-9543-1c386505c9dc&q=stephen%20perricone%20music
URL:https://logoncafe.net/event/stephen-perricone-2/
LOCATION:The Logon Cafe & Pub\, 3805 Calder Avenue\, Beaumont\, TX\, 77706\, United States
ATTACH;FMTTYPE=image/jpeg:https://logoncafe.net/wp-content/uploads/2022/10/309890467_583879736967435_2881893600955688585_n-e1664924193110.jpg
END:VEVENT
BEGIN:VEVENT
DTSTART;TZID=America/Chicago:20221230T200000
DTEND;TZID=America/Chicago:20221230T233000
DTSTAMP:20260425T091807
CREATED:20220925T214900Z
LAST-MODIFIED:20220925T214900Z
UID:10001021-1672430400-1672443000@logoncafe.net
SUMMARY:Ole Lonesome + Corky Love
DESCRIPTION:Ole Lonesome + Corky Love \n 
URL:https://logoncafe.net/event/ole-lonesome-corky-love/
LOCATION:The Logon Cafe & Pub\, 3805 Calder Avenue\, Beaumont\, TX\, 77706\, United States
ATTACH;FMTTYPE=image/jpeg:https://logoncafe.net/wp-content/uploads/2022/09/307683996_612195177114618_5024516015381925484_n-e1664142452734.jpg
END:VEVENT
BEGIN:VEVENT
DTSTART;TZID=America/Chicago:20221231T110000
DTEND;TZID=America/Chicago:20221231T140000
DTSTAMP:20260425T091807
CREATED:20250721T164931Z
LAST-MODIFIED:20250721T164931Z
UID:10001897-1672484400-1672495200@logoncafe.net
SUMMARY:Saturday Brunch
DESCRIPTION:Every Saturday from 11am-2pm Do you want Big Booty Biscuit with sausage gravy\, Eggs Benedict\, French toast stuffed with an egg over easy\, Maybe the Crab Cake Florentine paired with a Mimosa or a Bloody Mary… it starts at 11 a.m. — come hungry!
URL:https://logoncafe.net/event/saturday-brunch-19/2022-12-31/
LOCATION:TX
ATTACH;FMTTYPE=image/jpeg:https://logoncafe.net/wp-content/uploads/2023/07/12o-e1688393443805.jpg
END:VEVENT
BEGIN:VEVENT
DTSTART;TZID=America/Chicago:20221231T200000
DTEND;TZID=America/Chicago:20221231T233000
DTSTAMP:20260425T091807
CREATED:20221031T165521Z
LAST-MODIFIED:20221031T165522Z
UID:10001491-1672516800-1672529400@logoncafe.net
SUMMARY:Full Coverage New Year Eve Bash
DESCRIPTION:Full Coverage Halloween Bash \nA Full night of kickass rock and awesome Music. It’s time to party Let’s end this year and bring on a new and improved Year 🙂\nFull Coverage is:*Matt Schuldt – lead vocals & guitar*Cam Montgomery – keys and sax*Chase Montgomery – bass & backing vocals*Mason Montgomery – drums
URL:https://logoncafe.net/event/full-coverage-new-year-eve-bash/
LOCATION:The Logon Cafe & Pub\, 3805 Calder Avenue\, Beaumont\, TX\, 77706\, United States
ATTACH;FMTTYPE=image/jpeg:https://logoncafe.net/wp-content/uploads/2022/10/309843183_133209112837106_1577382513206266213_n-e1667235122100.jpg
END:VEVENT
END:VCALENDAR