BEGIN:VCALENDAR
VERSION:2.0
PRODID:-//The Logon Cafe and Pub - ECPv6.15.20//NONSGML v1.0//EN
CALSCALE:GREGORIAN
METHOD:PUBLISH
X-WR-CALNAME:The Logon Cafe and Pub
X-ORIGINAL-URL:https://logoncafe.net
X-WR-CALDESC:Events for The Logon Cafe and Pub
REFRESH-INTERVAL;VALUE=DURATION:PT1H
X-Robots-Tag:noindex
X-PUBLISHED-TTL:PT1H
BEGIN:VTIMEZONE
TZID:America/Chicago
BEGIN:DAYLIGHT
TZOFFSETFROM:-0600
TZOFFSETTO:-0500
TZNAME:CDT
DTSTART:20220313T080000
END:DAYLIGHT
BEGIN:STANDARD
TZOFFSETFROM:-0500
TZOFFSETTO:-0600
TZNAME:CST
DTSTART:20221106T070000
END:STANDARD
BEGIN:DAYLIGHT
TZOFFSETFROM:-0600
TZOFFSETTO:-0500
TZNAME:CDT
DTSTART:20230312T080000
END:DAYLIGHT
BEGIN:STANDARD
TZOFFSETFROM:-0500
TZOFFSETTO:-0600
TZNAME:CST
DTSTART:20231105T070000
END:STANDARD
BEGIN:DAYLIGHT
TZOFFSETFROM:-0600
TZOFFSETTO:-0500
TZNAME:CDT
DTSTART:20240310T080000
END:DAYLIGHT
BEGIN:STANDARD
TZOFFSETFROM:-0500
TZOFFSETTO:-0600
TZNAME:CST
DTSTART:20241103T070000
END:STANDARD
END:VTIMEZONE
BEGIN:VEVENT
DTSTART;TZID=America/Chicago:20230327T193000
DTEND;TZID=America/Chicago:20230327T213000
DTSTAMP:20260425T153712
CREATED:20230322T201954Z
LAST-MODIFIED:20230322T202004Z
UID:10001600-1679945400-1679952600@logoncafe.net
SUMMARY:Donny's Let's Get Quizzacle Trivia Night
DESCRIPTION:Donny’s Let’s Get Quizzacle Trivia Night \nJoin us Mondays from 7:30 – 9:30pm for\nFun and challenging trivia with prizes for the first place quiz geniuses!\n>>>>>>>> $3 Wells all night! <<<<<<<<
URL:https://logoncafe.net/event/donnys-lets-get-quizzacle-trivia-night-13/
LOCATION:The Logon Cafe & Pub\, 3805 Calder Avenue\, Beaumont\, TX\, 77706\, United States
ATTACH;FMTTYPE=image/jpeg:https://logoncafe.net/wp-content/uploads/2018/10/fa90cac7-e8d7-48ba-9b77-3a6d994c5ba9.jpg
END:VEVENT
BEGIN:VEVENT
DTSTART;TZID=America/Chicago:20230328T200000
DTEND;TZID=America/Chicago:20230328T230000
DTSTAMP:20260425T153712
CREATED:20181030T231335Z
LAST-MODIFIED:20230411T163019Z
UID:10000288-1680033600-1680044400@logoncafe.net
SUMMARY:Taco Tuesday Karaoke!
DESCRIPTION:What goes better together than tacos and booze?!! Specials start at 6. Karaoke starts at 8!\n$2 Street Tacos\n$2 Ritas\n$2 Well Vodka \nSing your butts off.\nWatch your friends act like they can sing 😉\nNo cover wooooo.\nThis is an all ages event.
URL:https://logoncafe.net/event/taco-tuesday-karaoke/2023-03-28/
LOCATION:The Logon Cafe & Pub\, 3805 Calder Avenue\, Beaumont\, TX\, 77706\, United States
ATTACH;FMTTYPE=image/jpeg:https://logoncafe.net/wp-content/uploads/2018/10/339927740_756585839328526_6857413985854363341_n-e1681230563968.jpg
END:VEVENT
BEGIN:VEVENT
DTSTART;TZID=America/Chicago:20230328T200000
DTEND;TZID=America/Chicago:20230328T230000
DTSTAMP:20260425T153712
CREATED:20240411T141711Z
LAST-MODIFIED:20240411T141712Z
UID:10003014-1680033600-1680044400@logoncafe.net
SUMMARY:Taco Tuesday Karaoke!
DESCRIPTION:What goes better together than tacos and booze?!! Specials start at 6. Karaoke starts at 8!\n$2 Street Tacos\n$2 Ritas\n$2 Well Vodka \nSing your butts off.\nWatch your friends act like they can sing 😉\nNo cover wooooo.\nThis is an all ages event.
URL:https://logoncafe.net/event/taco-tuesday-karaoke-3/2023-03-28/
LOCATION:The Logon Cafe & Pub\, 3805 Calder Avenue\, Beaumont\, TX\, 77706\, United States
ATTACH;FMTTYPE=image/jpeg:https://logoncafe.net/wp-content/uploads/2018/10/339927740_756585839328526_6857413985854363341_n-e1681230563968.jpg
END:VEVENT
BEGIN:VEVENT
DTSTART;TZID=America/Chicago:20230328T200000
DTEND;TZID=America/Chicago:20230328T230000
DTSTAMP:20260425T153712
CREATED:20250407T004038Z
LAST-MODIFIED:20250407T004038Z
UID:10009375-1680033600-1680044400@logoncafe.net
SUMMARY:Taco Tuesday Karaoke!
DESCRIPTION:What goes better together than tacos and booze?!! Specials start at 6. Karaoke starts at 8!$2 Street Tacos$2 Ritas$2 Well Vodka \nSing your butts off.Watch your friends act like they can sing 😉No cover wooooo.This is an all ages event.
URL:https://logoncafe.net/event/taco-tuesday-karaoke-18/2023-03-28/
LOCATION:The Logon Cafe & Pub\, 3805 Calder Avenue\, Beaumont\, TX\, 77706\, United States
ATTACH;FMTTYPE=image/jpeg:https://logoncafe.net/wp-content/uploads/2018/10/339927740_756585839328526_6857413985854363341_n-e1681230563968.jpg
END:VEVENT
BEGIN:VEVENT
DTSTART;TZID=America/Chicago:20230329T200000
DTEND;TZID=America/Chicago:20230329T230000
DTSTAMP:20260425T153712
CREATED:20250303T233810Z
LAST-MODIFIED:20250303T233810Z
UID:10008135-1680120000-1680130800@logoncafe.net
SUMMARY:Open Mic Night
DESCRIPTION:Come one and all to transform our stage into your own personal music venue! Even if you just know someone that likes to play and sing\, get them to come out and buy em a beer! \nWe’ve been hosting Open Mic every Wednesday since 1999\, so come in and join in the tradition. \nSign up is at 7:30 | No Cover \n\n 
URL:https://logoncafe.net/event/open-mic-night-28/2023-03-29/
LOCATION:The Logon Cafe & Pub\, 3805 Calder Avenue\, Beaumont\, TX\, 77706\, United States
CATEGORIES:Open Mic Night
ATTACH;FMTTYPE=image/jpeg:https://logoncafe.net/wp-content/uploads/2022/11/313067660_604791594876249_2466134981987312388_n.jpg
END:VEVENT
BEGIN:VEVENT
DTSTART;TZID=America/Chicago:20230329T200000
DTEND;TZID=America/Chicago:20230329T230000
DTSTAMP:20260425T153712
CREATED:20251030T155404Z
LAST-MODIFIED:20251030T155404Z
UID:10004350-1680120000-1680130800@logoncafe.net
SUMMARY:Open Mic Night
DESCRIPTION:Come one and all to transform our stage into your own personal music venue! Even if you just know someone that likes to play and sing\, get them to come out and buy em a beer! \nWe’ve been hosting Open Mic every Wednesday since 1999\, so come in and join in the tradition. \nSign up is at 7:30 | No Cover \n\n 
URL:https://logoncafe.net/event/open-mic-night-51/2023-03-29/
LOCATION:The Logon Cafe & Pub\, 3805 Calder Avenue\, Beaumont\, TX\, 77706\, United States
CATEGORIES:Open Mic Night
ATTACH;FMTTYPE=image/jpeg:https://logoncafe.net/wp-content/uploads/2022/11/313067660_604791594876249_2466134981987312388_n.jpg
END:VEVENT
BEGIN:VEVENT
DTSTART;TZID=America/Chicago:20230330T200000
DTEND;TZID=America/Chicago:20230330T233000
DTSTAMP:20260425T153712
CREATED:20230301T000631Z
LAST-MODIFIED:20230323T003353Z
UID:10001591-1680206400-1680219000@logoncafe.net
SUMMARY:Open Jazz Jam w/ The Andre Harness Quartet
DESCRIPTION:Open Jazz Jam\nJoin us the SECOND Thursday of this month for The Open Jazz Jam. Hosted by The Andre Harness Quartet\, the jam is open to the public. Just show up at 7:30 to get on the list with your band or sit in with the house band and play your request. The show ends at 11pm or 12am if the list is full. Looking forward to seeing you out at The Jazz Jam!!!\n \n house band: \n\n\n\n\n\n\nSETX Local Jazz Quartet performing jazz from the 1930s-1970s.\n\n\nCaleb Fontenot – piano\nAdrian Segovia – bass\nBrandon Speight – drums\nAndre Harness – saxophone\n\n\n\n\n\n\n\n\n\n\nThe Southeast Texas music community is rich with jazz musicians and jazz lovers. And jazz music is conversational at its core.\n\n\nThis area is begging to have a public jazz jam session available to bring us all together either as performers or as an audience.
URL:https://logoncafe.net/event/open-jazz-jam-w-the-andre-harness-quartet-3/
LOCATION:The Logon Cafe & Pub\, 3805 Calder Avenue\, Beaumont\, TX\, 77706\, United States
ATTACH;FMTTYPE=image/jpeg:https://logoncafe.net/wp-content/uploads/2022/06/290602814_10159733371218567_4480978155689792127_n-e1656344654499.jpg
END:VEVENT
BEGIN:VEVENT
DTSTART;TZID=America/Chicago:20230331T200000
DTEND;TZID=America/Chicago:20230331T235900
DTSTAMP:20260425T153712
CREATED:20211012T235801Z
LAST-MODIFIED:20230323T003012Z
UID:10001320-1680292800-1680307140@logoncafe.net
SUMMARY:Hot Grits + Physco Jenni
DESCRIPTION:Hot Grits + Physco Jenni \n 
URL:https://logoncafe.net/event/hot-grits/
LOCATION:The Logon Cafe & Pub\, 3805 Calder Avenue\, Beaumont\, TX\, 77706\, United States
ATTACH;FMTTYPE=image/jpeg:https://logoncafe.net/wp-content/uploads/2021/10/335066415_5816303295134425_6175703677785886100_n.jpg
END:VEVENT
BEGIN:VEVENT
DTSTART;TZID=America/Chicago:20230401T110000
DTEND;TZID=America/Chicago:20230401T140000
DTSTAMP:20260425T153712
CREATED:20250721T164931Z
LAST-MODIFIED:20250721T164931Z
UID:10001909-1680346800-1680357600@logoncafe.net
SUMMARY:Saturday Brunch
DESCRIPTION:Every Saturday from 11am-2pm Do you want Big Booty Biscuit with sausage gravy\, Eggs Benedict\, French toast stuffed with an egg over easy\, Maybe the Crab Cake Florentine paired with a Mimosa or a Bloody Mary… it starts at 11 a.m. — come hungry!
URL:https://logoncafe.net/event/saturday-brunch-19/2023-04-01/
LOCATION:TX
ATTACH;FMTTYPE=image/jpeg:https://logoncafe.net/wp-content/uploads/2023/07/12o-e1688393443805.jpg
END:VEVENT
BEGIN:VEVENT
DTSTART;TZID=America/Chicago:20230401T210000
DTEND;TZID=America/Chicago:20230401T235900
DTSTAMP:20260425T153712
CREATED:20230323T002600Z
LAST-MODIFIED:20230323T002607Z
UID:10001601-1680382800-1680393540@logoncafe.net
SUMMARY:Numbers Tribute Dance Party w/ Amber Martin
DESCRIPTION:Numbers Tribute Dance Party w/ Amber Martin\nA HUGE annual party celebrating 80s Club and Industrial music!\nMiss the days of Rhinestones\, Stars Club and dancing\, tripping your face off till 2 in the morning? Amber & Chantell do\, and they’re bringing it back for one night!\nAmby\, who is also a professional NYC DJ will be spinning all the greatest from those 80’s nights with her all original Rhinestones era\, Industrial 80’s Club music collection. Don’t forget your dancing boots!!!\nBring your best 80’s Club look!\nAmby and Chantell promise to bring the rest!
URL:https://logoncafe.net/event/numbers-tribute-dance-party-w-amber-martin-4/
LOCATION:The Logon Cafe & Pub\, 3805 Calder Avenue\, Beaumont\, TX\, 77706\, United States
ATTACH;FMTTYPE=image/jpeg:https://logoncafe.net/wp-content/uploads/2022/12/318203655_1497243897468881_4451081563652913337_n.jpg
END:VEVENT
BEGIN:VEVENT
DTSTART;TZID=America/Chicago:20230402T110000
DTEND;TZID=America/Chicago:20230402T140000
DTSTAMP:20260425T153712
CREATED:20230322T201423Z
LAST-MODIFIED:20230322T201427Z
UID:10001599-1680433200-1680444000@logoncafe.net
SUMMARY:Sunday Brunch - Mimosas & Bloody Mary's
DESCRIPTION:Come out for our Sunday Brunch\nThings to due this weekend:\n1. Brunch at the Logoncafe\n2. Mimosas at the Logoncafe\n3. Spicy Bloody Mary’s at the Logoncafe\n4. More Mimosas at the Logoncafe\n5. Smile\, Laugh. tell jokes at the Logoncafe\n6. Have a fantastic Day thinking about that Brunch & Mimosas at the Logoncafe \nCome out and try our Brunch I know you will like it.\n#BloodyMary #Mimosas
URL:https://logoncafe.net/event/sunday-brunch-mimosas-bloody-marys-6/
LOCATION:The Logon Cafe & Pub\, 3805 Calder Avenue\, Beaumont\, TX\, 77706\, United States
ATTACH;FMTTYPE=image/jpeg:https://logoncafe.net/wp-content/uploads/2022/11/242953258_10226621264101362_9120772948156920477_n.jpg
END:VEVENT
END:VCALENDAR