BEGIN:VCALENDAR
VERSION:2.0
PRODID:-//The Logon Cafe and Pub - ECPv6.15.20//NONSGML v1.0//EN
CALSCALE:GREGORIAN
METHOD:PUBLISH
X-WR-CALNAME:The Logon Cafe and Pub
X-ORIGINAL-URL:https://logoncafe.net
X-WR-CALDESC:Events for The Logon Cafe and Pub
REFRESH-INTERVAL;VALUE=DURATION:PT1H
X-Robots-Tag:noindex
X-PUBLISHED-TTL:PT1H
BEGIN:VTIMEZONE
TZID:America/Chicago
BEGIN:DAYLIGHT
TZOFFSETFROM:-0600
TZOFFSETTO:-0500
TZNAME:CDT
DTSTART:20220313T080000
END:DAYLIGHT
BEGIN:STANDARD
TZOFFSETFROM:-0500
TZOFFSETTO:-0600
TZNAME:CST
DTSTART:20221106T070000
END:STANDARD
BEGIN:DAYLIGHT
TZOFFSETFROM:-0600
TZOFFSETTO:-0500
TZNAME:CDT
DTSTART:20230312T080000
END:DAYLIGHT
BEGIN:STANDARD
TZOFFSETFROM:-0500
TZOFFSETTO:-0600
TZNAME:CST
DTSTART:20231105T070000
END:STANDARD
BEGIN:DAYLIGHT
TZOFFSETFROM:-0600
TZOFFSETTO:-0500
TZNAME:CDT
DTSTART:20240310T080000
END:DAYLIGHT
BEGIN:STANDARD
TZOFFSETFROM:-0500
TZOFFSETTO:-0600
TZNAME:CST
DTSTART:20241103T070000
END:STANDARD
END:VTIMEZONE
BEGIN:VEVENT
DTSTART;TZID=America/Chicago:20230403T180000
DTEND;TZID=America/Chicago:20230403T190000
DTSTAMP:20260425T153711
CREATED:20181202T172057Z
LAST-MODIFIED:20240430T004354Z
UID:10000712-1680544800-1680548400@logoncafe.net
SUMMARY:SETX Local BeeKeepers Meeting
DESCRIPTION:Please join us @ The LogOn Cafe every 1st Monday of the month – we’re having the Setx Local Beekeepers meeting at 6pm. Beekeepers from all over the area gather to discuss everything you need to know about keeping bees. Come catch the buzz! This is a free event ♥
URL:https://logoncafe.net/event/setx-local-beekeepers-meeting/2023-04-03/
LOCATION:The Logon Cafe & Pub\, 3805 Calder Avenue\, Beaumont\, TX\, 77706\, United States
ATTACH;FMTTYPE=image/jpeg:https://logoncafe.net/wp-content/uploads/2018/12/setx-beekeepers-meeting-e1682469430874.jpg
END:VEVENT
BEGIN:VEVENT
DTSTART;TZID=America/Chicago:20230404T200000
DTEND;TZID=America/Chicago:20230404T230000
DTSTAMP:20260425T153711
CREATED:20181030T231335Z
LAST-MODIFIED:20230411T163019Z
UID:10000289-1680638400-1680649200@logoncafe.net
SUMMARY:Taco Tuesday Karaoke!
DESCRIPTION:What goes better together than tacos and booze?!! Specials start at 6. Karaoke starts at 8!\n$2 Street Tacos\n$2 Ritas\n$2 Well Vodka \nSing your butts off.\nWatch your friends act like they can sing 😉\nNo cover wooooo.\nThis is an all ages event.
URL:https://logoncafe.net/event/taco-tuesday-karaoke/2023-04-04/
LOCATION:The Logon Cafe & Pub\, 3805 Calder Avenue\, Beaumont\, TX\, 77706\, United States
ATTACH;FMTTYPE=image/jpeg:https://logoncafe.net/wp-content/uploads/2018/10/339927740_756585839328526_6857413985854363341_n-e1681230563968.jpg
END:VEVENT
BEGIN:VEVENT
DTSTART;TZID=America/Chicago:20230404T200000
DTEND;TZID=America/Chicago:20230404T230000
DTSTAMP:20260425T153711
CREATED:20240411T141711Z
LAST-MODIFIED:20240411T141712Z
UID:10003015-1680638400-1680649200@logoncafe.net
SUMMARY:Taco Tuesday Karaoke!
DESCRIPTION:What goes better together than tacos and booze?!! Specials start at 6. Karaoke starts at 8!\n$2 Street Tacos\n$2 Ritas\n$2 Well Vodka \nSing your butts off.\nWatch your friends act like they can sing 😉\nNo cover wooooo.\nThis is an all ages event.
URL:https://logoncafe.net/event/taco-tuesday-karaoke-3/2023-04-04/
LOCATION:The Logon Cafe & Pub\, 3805 Calder Avenue\, Beaumont\, TX\, 77706\, United States
ATTACH;FMTTYPE=image/jpeg:https://logoncafe.net/wp-content/uploads/2018/10/339927740_756585839328526_6857413985854363341_n-e1681230563968.jpg
END:VEVENT
BEGIN:VEVENT
DTSTART;TZID=America/Chicago:20230404T200000
DTEND;TZID=America/Chicago:20230404T230000
DTSTAMP:20260425T153711
CREATED:20250407T004038Z
LAST-MODIFIED:20250407T004038Z
UID:10009376-1680638400-1680649200@logoncafe.net
SUMMARY:Taco Tuesday Karaoke!
DESCRIPTION:What goes better together than tacos and booze?!! Specials start at 6. Karaoke starts at 8!$2 Street Tacos$2 Ritas$2 Well Vodka \nSing your butts off.Watch your friends act like they can sing 😉No cover wooooo.This is an all ages event.
URL:https://logoncafe.net/event/taco-tuesday-karaoke-18/2023-04-04/
LOCATION:The Logon Cafe & Pub\, 3805 Calder Avenue\, Beaumont\, TX\, 77706\, United States
ATTACH;FMTTYPE=image/jpeg:https://logoncafe.net/wp-content/uploads/2018/10/339927740_756585839328526_6857413985854363341_n-e1681230563968.jpg
END:VEVENT
BEGIN:VEVENT
DTSTART;TZID=America/Chicago:20230405T200000
DTEND;TZID=America/Chicago:20230405T230000
DTSTAMP:20260425T153711
CREATED:20250303T233810Z
LAST-MODIFIED:20250303T233810Z
UID:10008136-1680724800-1680735600@logoncafe.net
SUMMARY:Open Mic Night
DESCRIPTION:Come one and all to transform our stage into your own personal music venue! Even if you just know someone that likes to play and sing\, get them to come out and buy em a beer! \nWe’ve been hosting Open Mic every Wednesday since 1999\, so come in and join in the tradition. \nSign up is at 7:30 | No Cover \n\n 
URL:https://logoncafe.net/event/open-mic-night-28/2023-04-05/
LOCATION:The Logon Cafe & Pub\, 3805 Calder Avenue\, Beaumont\, TX\, 77706\, United States
CATEGORIES:Open Mic Night
ATTACH;FMTTYPE=image/jpeg:https://logoncafe.net/wp-content/uploads/2022/11/313067660_604791594876249_2466134981987312388_n.jpg
END:VEVENT
BEGIN:VEVENT
DTSTART;TZID=America/Chicago:20230405T200000
DTEND;TZID=America/Chicago:20230405T230000
DTSTAMP:20260425T153711
CREATED:20251030T155404Z
LAST-MODIFIED:20251030T155404Z
UID:10004351-1680724800-1680735600@logoncafe.net
SUMMARY:Open Mic Night
DESCRIPTION:Come one and all to transform our stage into your own personal music venue! Even if you just know someone that likes to play and sing\, get them to come out and buy em a beer! \nWe’ve been hosting Open Mic every Wednesday since 1999\, so come in and join in the tradition. \nSign up is at 7:30 | No Cover \n\n 
URL:https://logoncafe.net/event/open-mic-night-51/2023-04-05/
LOCATION:The Logon Cafe & Pub\, 3805 Calder Avenue\, Beaumont\, TX\, 77706\, United States
CATEGORIES:Open Mic Night
ATTACH;FMTTYPE=image/jpeg:https://logoncafe.net/wp-content/uploads/2022/11/313067660_604791594876249_2466134981987312388_n.jpg
END:VEVENT
BEGIN:VEVENT
DTSTART;TZID=America/Chicago:20230406T200000
DTEND;TZID=America/Chicago:20230406T233000
DTSTAMP:20260425T153711
CREATED:20230327T132915Z
LAST-MODIFIED:20230327T132917Z
UID:10001602-1680811200-1680823800@logoncafe.net
SUMMARY:Stephen Perricone
DESCRIPTION:Stephen Perricone\nHello my name is Stephen Perricone\, I am a professional musician based out of San Antonio\, TX. I play 60’s-early 2000’s Classic Rock/Pop/Folk covers and original music. \nhttps://www.facebook.com/watch/?ref=search&v=1269206763890773&external_log_id=56cf9457-36db-4671-9543-1c386505c9dc&q=stephen%20perricone%20music
URL:https://logoncafe.net/event/stephen-perricone-5/
LOCATION:The Logon Cafe & Pub\, 3805 Calder Avenue\, Beaumont\, TX\, 77706\, United States
ATTACH;FMTTYPE=image/jpeg:https://logoncafe.net/wp-content/uploads/2023/03/338039969_1279483502976487_5764900463286877657_n-e1679923670461.jpg
END:VEVENT
BEGIN:VEVENT
DTSTART;TZID=America/Chicago:20230407T200000
DTEND;TZID=America/Chicago:20230407T235900
DTSTAMP:20260425T153711
CREATED:20230327T134753Z
LAST-MODIFIED:20230405T170628Z
UID:10001603-1680897600-1680911940@logoncafe.net
SUMMARY:Friday Karaoke Party
DESCRIPTION:YAYYY!!!! Friday karaoke party!! Come sing with us! But be sure to bring your friends\, family and coworkers so you have plenty of witnesses  \nCome out have some fun be a star
URL:https://logoncafe.net/event/friday-karaoke-party-7/
LOCATION:The Logon Cafe & Pub\, 3805 Calder Avenue\, Beaumont\, TX\, 77706\, United States
ATTACH;FMTTYPE=image/jpeg:https://logoncafe.net/wp-content/uploads/2020/01/k-rob-e1579552769317.jpg
END:VEVENT
BEGIN:VEVENT
DTSTART;TZID=America/Chicago:20230408T110000
DTEND;TZID=America/Chicago:20230408T140000
DTSTAMP:20260425T153711
CREATED:20230405T165950Z
LAST-MODIFIED:20230405T170053Z
UID:10000786-1680951600-1680962400@logoncafe.net
SUMMARY:We Will be Closed this Weekend for Brunch
DESCRIPTION:Every Saturday from 11am-2pm \nDo you want Big Booty Biscuit with sausage gravy\, Eggs Benedict\, French toast stuffed with an egg over easy\, Maybe the Crab Cake Florentine paired with a Mimosa or a Bloody Mary… it starts at 11 a.m. — come hungry!
URL:https://logoncafe.net/event/saturday-brunch-3/
LOCATION:3805 Calder Avenue\, Beaumont\, TX\, 77706\, United States
ATTACH;FMTTYPE=image/jpeg:https://logoncafe.net/wp-content/uploads/2018/10/sat_brunch.jpg
END:VEVENT
BEGIN:VEVENT
DTSTART;TZID=America/Chicago:20230408T200000
DTEND;TZID=America/Chicago:20230408T235900
DTSTAMP:20260425T153711
CREATED:20230327T135526Z
LAST-MODIFIED:20230327T135530Z
UID:10001604-1680984000-1680998340@logoncafe.net
SUMMARY:Ward\, Bowen & Steinman
DESCRIPTION:Max is in from out of town – It’s gonna be a fun night!Weekend + great classic rock + intimate venue = a fantastic weekend!
URL:https://logoncafe.net/event/ward-bowen-steinman-6/
LOCATION:The Logon Cafe & Pub\, 3805 Calder Avenue\, Beaumont\, TX\, 77706\, United States
ATTACH;FMTTYPE=image/jpeg:https://logoncafe.net/wp-content/uploads/2023/02/328259878_460404099500602_1257293982017210397_n.jpg
END:VEVENT
BEGIN:VEVENT
DTSTART;TZID=America/Chicago:20230409T080000
DTEND;TZID=America/Chicago:20230409T170000
DTSTAMP:20260425T153711
CREATED:20230405T170445Z
LAST-MODIFIED:20230405T170447Z
UID:10001615-1681027200-1681059600@logoncafe.net
SUMMARY:We Will be Closed for Brunch this Weekend
DESCRIPTION:
URL:https://logoncafe.net/event/we-will-be-closed-for-brunch-this-weekend/
LOCATION:The Logon Cafe & Pub\, 3805 Calder Avenue\, Beaumont\, TX\, 77706\, United States
ATTACH;FMTTYPE=image/jpeg:https://logoncafe.net/wp-content/uploads/2023/04/Untitled.jpg
END:VEVENT
END:VCALENDAR