BEGIN:VCALENDAR
VERSION:2.0
PRODID:-//The Logon Cafe and Pub - ECPv6.15.20//NONSGML v1.0//EN
CALSCALE:GREGORIAN
METHOD:PUBLISH
X-ORIGINAL-URL:https://logoncafe.net
X-WR-CALDESC:Events for The Logon Cafe and Pub
REFRESH-INTERVAL;VALUE=DURATION:PT1H
X-Robots-Tag:noindex
X-PUBLISHED-TTL:PT1H
BEGIN:VTIMEZONE
TZID:America/Chicago
BEGIN:DAYLIGHT
TZOFFSETFROM:-0600
TZOFFSETTO:-0500
TZNAME:CDT
DTSTART:20230312T080000
END:DAYLIGHT
BEGIN:STANDARD
TZOFFSETFROM:-0500
TZOFFSETTO:-0600
TZNAME:CST
DTSTART:20231105T070000
END:STANDARD
BEGIN:DAYLIGHT
TZOFFSETFROM:-0600
TZOFFSETTO:-0500
TZNAME:CDT
DTSTART:20240310T080000
END:DAYLIGHT
BEGIN:STANDARD
TZOFFSETFROM:-0500
TZOFFSETTO:-0600
TZNAME:CST
DTSTART:20241103T070000
END:STANDARD
BEGIN:DAYLIGHT
TZOFFSETFROM:-0600
TZOFFSETTO:-0500
TZNAME:CDT
DTSTART:20250309T080000
END:DAYLIGHT
BEGIN:STANDARD
TZOFFSETFROM:-0500
TZOFFSETTO:-0600
TZNAME:CST
DTSTART:20251102T070000
END:STANDARD
END:VTIMEZONE
BEGIN:VEVENT
DTSTART;TZID=America/Chicago:20240326T200000
DTEND;TZID=America/Chicago:20240326T230000
DTSTAMP:20260420T153356
CREATED:20181030T231335Z
LAST-MODIFIED:20230411T163019Z
UID:10001649-1711483200-1711494000@logoncafe.net
SUMMARY:Taco Tuesday Karaoke!
DESCRIPTION:What goes better together than tacos and booze?!! Specials start at 6. Karaoke starts at 8!\n$2 Street Tacos\n$2 Ritas\n$2 Well Vodka \nSing your butts off.\nWatch your friends act like they can sing 😉\nNo cover wooooo.\nThis is an all ages event.
URL:https://logoncafe.net/event/taco-tuesday-karaoke/2024-03-26/
LOCATION:The Logon Cafe & Pub\, 3805 Calder Avenue\, Beaumont\, TX\, 77706\, United States
ATTACH;FMTTYPE=image/jpeg:https://logoncafe.net/wp-content/uploads/2018/10/339927740_756585839328526_6857413985854363341_n-e1681230563968.jpg
END:VEVENT
BEGIN:VEVENT
DTSTART;TZID=America/Chicago:20240326T200000
DTEND;TZID=America/Chicago:20240326T230000
DTSTAMP:20260420T153356
CREATED:20240411T141711Z
LAST-MODIFIED:20240411T141712Z
UID:10003066-1711483200-1711494000@logoncafe.net
SUMMARY:Taco Tuesday Karaoke!
DESCRIPTION:What goes better together than tacos and booze?!! Specials start at 6. Karaoke starts at 8!\n$2 Street Tacos\n$2 Ritas\n$2 Well Vodka \nSing your butts off.\nWatch your friends act like they can sing 😉\nNo cover wooooo.\nThis is an all ages event.
URL:https://logoncafe.net/event/taco-tuesday-karaoke-3/2024-03-26/
LOCATION:The Logon Cafe & Pub\, 3805 Calder Avenue\, Beaumont\, TX\, 77706\, United States
ATTACH;FMTTYPE=image/jpeg:https://logoncafe.net/wp-content/uploads/2018/10/339927740_756585839328526_6857413985854363341_n-e1681230563968.jpg
END:VEVENT
BEGIN:VEVENT
DTSTART;TZID=America/Chicago:20240326T200000
DTEND;TZID=America/Chicago:20240326T230000
DTSTAMP:20260420T153356
CREATED:20250407T004038Z
LAST-MODIFIED:20250407T004038Z
UID:10009427-1711483200-1711494000@logoncafe.net
SUMMARY:Taco Tuesday Karaoke!
DESCRIPTION:What goes better together than tacos and booze?!! Specials start at 6. Karaoke starts at 8!$2 Street Tacos$2 Ritas$2 Well Vodka \nSing your butts off.Watch your friends act like they can sing 😉No cover wooooo.This is an all ages event.
URL:https://logoncafe.net/event/taco-tuesday-karaoke-18/2024-03-26/
LOCATION:The Logon Cafe & Pub\, 3805 Calder Avenue\, Beaumont\, TX\, 77706\, United States
ATTACH;FMTTYPE=image/jpeg:https://logoncafe.net/wp-content/uploads/2018/10/339927740_756585839328526_6857413985854363341_n-e1681230563968.jpg
END:VEVENT
BEGIN:VEVENT
DTSTART;TZID=America/Chicago:20240327T200000
DTEND;TZID=America/Chicago:20240327T230000
DTSTAMP:20260420T153356
CREATED:20250303T233810Z
LAST-MODIFIED:20250303T233810Z
UID:10008187-1711569600-1711580400@logoncafe.net
SUMMARY:Open Mic Night
DESCRIPTION:Come one and all to transform our stage into your own personal music venue! Even if you just know someone that likes to play and sing\, get them to come out and buy em a beer! \nWe’ve been hosting Open Mic every Wednesday since 1999\, so come in and join in the tradition. \nSign up is at 7:30 | No Cover \n\n 
URL:https://logoncafe.net/event/open-mic-night-28/2024-03-27/
LOCATION:The Logon Cafe & Pub\, 3805 Calder Avenue\, Beaumont\, TX\, 77706\, United States
CATEGORIES:Open Mic Night
ATTACH;FMTTYPE=image/jpeg:https://logoncafe.net/wp-content/uploads/2022/11/313067660_604791594876249_2466134981987312388_n.jpg
END:VEVENT
BEGIN:VEVENT
DTSTART;TZID=America/Chicago:20240327T200000
DTEND;TZID=America/Chicago:20240327T230000
DTSTAMP:20260420T153356
CREATED:20251030T155404Z
LAST-MODIFIED:20251030T155404Z
UID:10004402-1711569600-1711580400@logoncafe.net
SUMMARY:Open Mic Night
DESCRIPTION:Come one and all to transform our stage into your own personal music venue! Even if you just know someone that likes to play and sing\, get them to come out and buy em a beer! \nWe’ve been hosting Open Mic every Wednesday since 1999\, so come in and join in the tradition. \nSign up is at 7:30 | No Cover \n\n 
URL:https://logoncafe.net/event/open-mic-night-51/2024-03-27/
LOCATION:The Logon Cafe & Pub\, 3805 Calder Avenue\, Beaumont\, TX\, 77706\, United States
CATEGORIES:Open Mic Night
ATTACH;FMTTYPE=image/jpeg:https://logoncafe.net/wp-content/uploads/2022/11/313067660_604791594876249_2466134981987312388_n.jpg
END:VEVENT
BEGIN:VEVENT
DTSTART;TZID=America/Chicago:20240329T210000
DTEND;TZID=America/Chicago:20240329T210000
DTSTAMP:20260420T153356
CREATED:20240305T173158Z
LAST-MODIFIED:20240305T173159Z
UID:10002763-1711746000-1711746000@logoncafe.net
SUMMARY:CHEW + Hot Grits + YONI from the Dodies!
DESCRIPTION:CHEW + Hot Grits + YONI from the Dodies!  \n\n\n\n“It’s over. You’re finished. You can’t possibly endure the power and fury of CHEW. Nope. No way. Riding a fiery wave of salubrious-rage-rock all the way from Atlanta\, GA; these fuzzy-FFFreaks will cook you on a Sunday night and portion you out into tupper-ware for the work week. Like we said\, you’re done.” \n\n\n\n-Kaevan TavakoliniaMünster Moon \n\n\n\nCHEWhttp://3dchew.bandcamp.comhttp://3dchew.com \n\n\n\nYoni Avitan from The Dodies is finally back on our stage! \n\n\n\nHot Grits are bringing your asses to pound town! Everyone in the front row is getting Pregnant!
URL:https://logoncafe.net/event/chew-hot-grits-yoni-from-the-dodies/
LOCATION:TX
ATTACH;FMTTYPE=image/jpeg:https://logoncafe.net/wp-content/uploads/2024/03/427883028_955954969759908_2628202147973554592_n.jpg
END:VEVENT
BEGIN:VEVENT
DTSTART;TZID=America/Chicago:20240330T110000
DTEND;TZID=America/Chicago:20240330T140000
DTSTAMP:20260420T153356
CREATED:20250721T164931Z
LAST-MODIFIED:20250721T164931Z
UID:10001957-1711796400-1711807200@logoncafe.net
SUMMARY:Saturday Brunch
DESCRIPTION:Every Saturday from 11am-2pm Do you want Big Booty Biscuit with sausage gravy\, Eggs Benedict\, French toast stuffed with an egg over easy\, Maybe the Crab Cake Florentine paired with a Mimosa or a Bloody Mary… it starts at 11 a.m. — come hungry!
URL:https://logoncafe.net/event/saturday-brunch-19/2024-03-30/
LOCATION:TX
ATTACH;FMTTYPE=image/jpeg:https://logoncafe.net/wp-content/uploads/2023/07/12o-e1688393443805.jpg
END:VEVENT
BEGIN:VEVENT
DTSTART;TZID=America/Chicago:20240330T200000
DTEND;TZID=America/Chicago:20240330T235900
DTSTAMP:20260420T153356
CREATED:20240330T201326Z
LAST-MODIFIED:20240330T201332Z
UID:10002772-1711828800-1711843140@logoncafe.net
SUMMARY:Saturday Karaoke PARTY @ The Logoncafe & Pub
DESCRIPTION:Awww yeah…. KARAOKE ON A SATURDAY!!!!!\nGet here.\nSing your butts off.\nWatch your friends act like they can sing 😉\nNo cover wooooo.
URL:https://logoncafe.net/event/saturday-karaoke-party-the-logoncafe-pub-7/
LOCATION:The Logon Cafe & Pub\, 3805 Calder Avenue\, Beaumont\, TX\, 77706\, United States
ATTACH;FMTTYPE=image/jpeg:https://logoncafe.net/wp-content/uploads/2021/05/180478552_10158974899358567_2371589748890907789_n.jpg
END:VEVENT
BEGIN:VEVENT
DTSTART;TZID=America/Chicago:20240331T110000
DTEND;TZID=America/Chicago:20240331T140000
DTSTAMP:20260420T153356
CREATED:20240305T173712Z
LAST-MODIFIED:20240305T173714Z
UID:10002768-1711882800-1711893600@logoncafe.net
SUMMARY:Sunday Brunch - Mimosas & Bloody Mary's
DESCRIPTION:Come out for our Sunday Brunch\nThings to due this weekend:\n1. Brunch at the Logoncafe\n2. Mimosas at the Logoncafe\n3. Spicy Bloody Mary’s at the Logoncafe\n4. More Mimosas at the Logoncafe\n5. Smile\, Laugh. tell jokes at the Logoncafe\n6. Have a fantastic Day thinking about that Brunch & Mimosas at the Logoncafe \nCome out and try our Brunch I know you will like it.\n#BloodyMary #Mimosas
URL:https://logoncafe.net/event/sunday-brunch-mimosas-bloody-marys-52/
LOCATION:The Logon Cafe & Pub\, 3805 Calder Avenue\, Beaumont\, TX\, 77706\, United States
ATTACH;FMTTYPE=image/jpeg:https://logoncafe.net/wp-content/uploads/2023/10/336691061_179752494824260_3867152535197360660_n-e1696374537320.jpg
END:VEVENT
END:VCALENDAR