BEGIN:VCALENDAR
VERSION:2.0
PRODID:-//The Logon Cafe and Pub - ECPv6.15.20//NONSGML v1.0//EN
CALSCALE:GREGORIAN
METHOD:PUBLISH
X-WR-CALNAME:The Logon Cafe and Pub
X-ORIGINAL-URL:https://logoncafe.net
X-WR-CALDESC:Events for The Logon Cafe and Pub
REFRESH-INTERVAL;VALUE=DURATION:PT1H
X-Robots-Tag:noindex
X-PUBLISHED-TTL:PT1H
BEGIN:VTIMEZONE
TZID:America/Chicago
BEGIN:DAYLIGHT
TZOFFSETFROM:-0600
TZOFFSETTO:-0500
TZNAME:CDT
DTSTART:20230312T080000
END:DAYLIGHT
BEGIN:STANDARD
TZOFFSETFROM:-0500
TZOFFSETTO:-0600
TZNAME:CST
DTSTART:20231105T070000
END:STANDARD
BEGIN:DAYLIGHT
TZOFFSETFROM:-0600
TZOFFSETTO:-0500
TZNAME:CDT
DTSTART:20240310T080000
END:DAYLIGHT
BEGIN:STANDARD
TZOFFSETFROM:-0500
TZOFFSETTO:-0600
TZNAME:CST
DTSTART:20241103T070000
END:STANDARD
BEGIN:DAYLIGHT
TZOFFSETFROM:-0600
TZOFFSETTO:-0500
TZNAME:CDT
DTSTART:20250309T080000
END:DAYLIGHT
BEGIN:STANDARD
TZOFFSETFROM:-0500
TZOFFSETTO:-0600
TZNAME:CST
DTSTART:20251102T070000
END:STANDARD
END:VTIMEZONE
BEGIN:VEVENT
DTSTART;TZID=America/Chicago:20240610T200000
DTEND;TZID=America/Chicago:20240610T220000
DTSTAMP:20260420T093120
CREATED:20240401T150817Z
LAST-MODIFIED:20240401T150819Z
UID:10002775-1718049600-1718056800@logoncafe.net
SUMMARY:Night & Day Orchestra
DESCRIPTION:Have you ever been to Orchestra Night at The LogOn Cafe with The Night & Day Orchestra? We fit a 21-piece big band with horns\, drum and swanky singers. There’s NOTHING in Beaumont like it. This is something you must experience at least once. Tickets are $10 at the door or free with your Lamar ID.
URL:https://logoncafe.net/event/night-day-orchestra-6/2024-06-10/
LOCATION:3805 Calder Avenue\, Beaumont\, TX\, 77706\, United States
ATTACH;FMTTYPE=image/jpeg:https://logoncafe.net/wp-content/uploads/2018/10/Day-Night-Orchestra.jpg
END:VEVENT
BEGIN:VEVENT
DTSTART;TZID=America/Chicago:20240611T200000
DTEND;TZID=America/Chicago:20240611T230000
DTSTAMP:20260420T093121
CREATED:20240411T141711Z
LAST-MODIFIED:20240411T141712Z
UID:10003077-1718136000-1718146800@logoncafe.net
SUMMARY:Taco Tuesday Karaoke!
DESCRIPTION:What goes better together than tacos and booze?!! Specials start at 6. Karaoke starts at 8!\n$2 Street Tacos\n$2 Ritas\n$2 Well Vodka \nSing your butts off.\nWatch your friends act like they can sing 😉\nNo cover wooooo.\nThis is an all ages event.
URL:https://logoncafe.net/event/taco-tuesday-karaoke-3/2024-06-11/
LOCATION:The Logon Cafe & Pub\, 3805 Calder Avenue\, Beaumont\, TX\, 77706\, United States
ATTACH;FMTTYPE=image/jpeg:https://logoncafe.net/wp-content/uploads/2018/10/339927740_756585839328526_6857413985854363341_n-e1681230563968.jpg
END:VEVENT
BEGIN:VEVENT
DTSTART;TZID=America/Chicago:20240611T200000
DTEND;TZID=America/Chicago:20240611T230000
DTSTAMP:20260420T093121
CREATED:20250407T004038Z
LAST-MODIFIED:20250407T004038Z
UID:10009434-1718136000-1718146800@logoncafe.net
SUMMARY:Taco Tuesday Karaoke!
DESCRIPTION:What goes better together than tacos and booze?!! Specials start at 6. Karaoke starts at 8!$2 Street Tacos$2 Ritas$2 Well Vodka \nSing your butts off.Watch your friends act like they can sing 😉No cover wooooo.This is an all ages event.
URL:https://logoncafe.net/event/taco-tuesday-karaoke-18/2024-06-11/
LOCATION:The Logon Cafe & Pub\, 3805 Calder Avenue\, Beaumont\, TX\, 77706\, United States
ATTACH;FMTTYPE=image/jpeg:https://logoncafe.net/wp-content/uploads/2018/10/339927740_756585839328526_6857413985854363341_n-e1681230563968.jpg
END:VEVENT
BEGIN:VEVENT
DTSTART;TZID=America/Chicago:20240612T200000
DTEND;TZID=America/Chicago:20240612T230000
DTSTAMP:20260420T093121
CREATED:20250303T233810Z
LAST-MODIFIED:20250303T233810Z
UID:10008190-1718222400-1718233200@logoncafe.net
SUMMARY:Open Mic Night
DESCRIPTION:Come one and all to transform our stage into your own personal music venue! Even if you just know someone that likes to play and sing\, get them to come out and buy em a beer! \nWe’ve been hosting Open Mic every Wednesday since 1999\, so come in and join in the tradition. \nSign up is at 7:30 | No Cover \n\n 
URL:https://logoncafe.net/event/open-mic-night-28/2024-06-12/
LOCATION:The Logon Cafe & Pub\, 3805 Calder Avenue\, Beaumont\, TX\, 77706\, United States
CATEGORIES:Open Mic Night
ATTACH;FMTTYPE=image/jpeg:https://logoncafe.net/wp-content/uploads/2022/11/313067660_604791594876249_2466134981987312388_n.jpg
END:VEVENT
BEGIN:VEVENT
DTSTART;TZID=America/Chicago:20240612T200000
DTEND;TZID=America/Chicago:20240612T230000
DTSTAMP:20260420T093121
CREATED:20251030T155404Z
LAST-MODIFIED:20251030T155404Z
UID:10004413-1718222400-1718233200@logoncafe.net
SUMMARY:Open Mic Night
DESCRIPTION:Come one and all to transform our stage into your own personal music venue! Even if you just know someone that likes to play and sing\, get them to come out and buy em a beer! \nWe’ve been hosting Open Mic every Wednesday since 1999\, so come in and join in the tradition. \nSign up is at 7:30 | No Cover \n\n 
URL:https://logoncafe.net/event/open-mic-night-51/2024-06-12/
LOCATION:The Logon Cafe & Pub\, 3805 Calder Avenue\, Beaumont\, TX\, 77706\, United States
CATEGORIES:Open Mic Night
ATTACH;FMTTYPE=image/jpeg:https://logoncafe.net/wp-content/uploads/2022/11/313067660_604791594876249_2466134981987312388_n.jpg
END:VEVENT
BEGIN:VEVENT
DTSTART;TZID=America/Chicago:20240613T200000
DTEND;TZID=America/Chicago:20240613T233000
DTSTAMP:20260420T093121
CREATED:20240612T172654Z
LAST-MODIFIED:20240612T172654Z
UID:10005684-1718308800-1718321400@logoncafe.net
SUMMARY:Daniel Waters Piano Man
DESCRIPTION:Daniel WatersThe super talented Daniel Waters! Finally – Beaumont gets an AMAZING piano player!!
URL:https://logoncafe.net/event/daniel-waters-piano-man-24/
LOCATION:The Logon Cafe & Pub\, 3805 Calder Avenue\, Beaumont\, TX\, 77706\, United States
ATTACH;FMTTYPE=image/jpeg:https://logoncafe.net/wp-content/uploads/2023/11/399985253_886577293364343_3616136923819777789_n.jpg
END:VEVENT
BEGIN:VEVENT
DTSTART;TZID=America/Chicago:20240614T200000
DTEND;TZID=America/Chicago:20240614T235900
DTSTAMP:20260420T093121
CREATED:20240612T172737Z
LAST-MODIFIED:20240612T172737Z
UID:10005685-1718395200-1718409540@logoncafe.net
SUMMARY:Friday Karaoke Party
DESCRIPTION:Friday Karaoke Party
URL:https://logoncafe.net/event/friday-karaoke-party-15/
LOCATION:The Logon Cafe & Pub\, 3805 Calder Avenue\, Beaumont\, TX\, 77706\, United States
ATTACH;FMTTYPE=image/jpeg:https://logoncafe.net/wp-content/uploads/2024/01/Karaoke_636EA469-5056-A36A-0728289F163E6479_63747b36-5056-a36a-07b249284857f862.jpg
END:VEVENT
BEGIN:VEVENT
DTSTART;TZID=America/Chicago:20240615T110000
DTEND;TZID=America/Chicago:20240615T140000
DTSTAMP:20260420T093121
CREATED:20250721T164931Z
LAST-MODIFIED:20250721T164931Z
UID:10001968-1718449200-1718460000@logoncafe.net
SUMMARY:Saturday Brunch
DESCRIPTION:Every Saturday from 11am-2pm Do you want Big Booty Biscuit with sausage gravy\, Eggs Benedict\, French toast stuffed with an egg over easy\, Maybe the Crab Cake Florentine paired with a Mimosa or a Bloody Mary… it starts at 11 a.m. — come hungry!
URL:https://logoncafe.net/event/saturday-brunch-19/2024-06-15/
LOCATION:TX
ATTACH;FMTTYPE=image/jpeg:https://logoncafe.net/wp-content/uploads/2023/07/12o-e1688393443805.jpg
END:VEVENT
BEGIN:VEVENT
DTSTART;TZID=America/Chicago:20240615T200000
DTEND;TZID=America/Chicago:20240615T235900
DTSTAMP:20260420T093121
CREATED:20240529T230851Z
LAST-MODIFIED:20240529T230851Z
UID:10005683-1718481600-1718495940@logoncafe.net
SUMMARY:Ward & Steinman w/ Chuck Pierce
DESCRIPTION:Ward & Steinman\nIt’s gonna be a fun night!Weekend + great classic rock + intimate venue = a fantastic night of music!Only $5 at the door.Come join us!
URL:https://logoncafe.net/event/ward-steinman-w-chuck-pierce-7/
LOCATION:TX
ATTACH;FMTTYPE=image/jpeg:https://logoncafe.net/wp-content/uploads/2018/12/298332218_10159795214158567_966229182406157931_n-e1659989347744.jpg
END:VEVENT
BEGIN:VEVENT
DTSTART;TZID=America/Chicago:20240616T110000
DTEND;TZID=America/Chicago:20240616T140000
DTSTAMP:20260420T093121
CREATED:20240612T173005Z
LAST-MODIFIED:20240612T173005Z
UID:10005688-1718535600-1718546400@logoncafe.net
SUMMARY:Sunday Brunch - Mimosas & Bloody Mary's
DESCRIPTION:Come out for our Sunday BrunchThings to due this weekend:1. Brunch at the Logoncafe2. Mimosas at the Logoncafe3. Spicy Bloody Mary’s at the Logoncafe4. More Mimosas at the Logoncafe5. Smile\, Laugh. tell jokes at the Logoncafe6. Have a fantastic Day thinking about that Brunch & Mimosas at the Logoncafe \nCome out and try our Brunch I know you will like it.#BloodyMary #Mimosas
URL:https://logoncafe.net/event/sunday-brunch-mimosas-bloody-marys-63/
LOCATION:The Logon Cafe & Pub\, 3805 Calder Avenue\, Beaumont\, TX\, 77706\, United States
ATTACH;FMTTYPE=image/jpeg:https://logoncafe.net/wp-content/uploads/2023/11/397073974_880892233932849_7479703528606451324_n.jpg
END:VEVENT
END:VCALENDAR