BEGIN:VCALENDAR
VERSION:2.0
PRODID:-//The Logon Cafe and Pub - ECPv6.15.20//NONSGML v1.0//EN
CALSCALE:GREGORIAN
METHOD:PUBLISH
X-WR-CALNAME:The Logon Cafe and Pub
X-ORIGINAL-URL:https://logoncafe.net
X-WR-CALDESC:Events for The Logon Cafe and Pub
REFRESH-INTERVAL;VALUE=DURATION:PT1H
X-Robots-Tag:noindex
X-PUBLISHED-TTL:PT1H
BEGIN:VTIMEZONE
TZID:America/Chicago
BEGIN:DAYLIGHT
TZOFFSETFROM:-0600
TZOFFSETTO:-0500
TZNAME:CDT
DTSTART:20240310T080000
END:DAYLIGHT
BEGIN:STANDARD
TZOFFSETFROM:-0500
TZOFFSETTO:-0600
TZNAME:CST
DTSTART:20241103T070000
END:STANDARD
BEGIN:DAYLIGHT
TZOFFSETFROM:-0600
TZOFFSETTO:-0500
TZNAME:CDT
DTSTART:20250309T080000
END:DAYLIGHT
BEGIN:STANDARD
TZOFFSETFROM:-0500
TZOFFSETTO:-0600
TZNAME:CST
DTSTART:20251102T070000
END:STANDARD
BEGIN:DAYLIGHT
TZOFFSETFROM:-0600
TZOFFSETTO:-0500
TZNAME:CDT
DTSTART:20260308T080000
END:DAYLIGHT
BEGIN:STANDARD
TZOFFSETFROM:-0500
TZOFFSETTO:-0600
TZNAME:CST
DTSTART:20261101T070000
END:STANDARD
END:VTIMEZONE
BEGIN:VEVENT
DTSTART;TZID=America/Chicago:20250616T170000
DTEND;TZID=America/Chicago:20250616T230000
DTSTAMP:20260420T135817
CREATED:20250630T144721Z
LAST-MODIFIED:20250630T144721Z
UID:10010486-1750093200-1750114800@logoncafe.net
SUMMARY:It's Monday so it's "Free pool Monday"
DESCRIPTION:It’s Monday so it’s “Free pool Monday” at the Logoncafe. Come have a drink or two maybe a bite to eat and the Pool is on me  \n 
URL:https://logoncafe.net/event/its-monday-so-its-free-pool-monday-11/
LOCATION:The Logon Cafe & Pub\, 3805 Calder Avenue\, Beaumont\, TX\, 77706\, United States
ATTACH;FMTTYPE=image/jpeg:https://logoncafe.net/wp-content/uploads/2024/08/456102954_10221197758888543_263943025575877167_n-e1725126631979.jpg
END:VEVENT
BEGIN:VEVENT
DTSTART;TZID=America/Chicago:20250617T200000
DTEND;TZID=America/Chicago:20250617T230000
DTSTAMP:20260420T135817
CREATED:20250407T004038Z
LAST-MODIFIED:20250407T004038Z
UID:10009470-1750190400-1750201200@logoncafe.net
SUMMARY:Taco Tuesday Karaoke!
DESCRIPTION:What goes better together than tacos and booze?!! Specials start at 6. Karaoke starts at 8!$2 Street Tacos$2 Ritas$2 Well Vodka \nSing your butts off.Watch your friends act like they can sing 😉No cover wooooo.This is an all ages event.
URL:https://logoncafe.net/event/taco-tuesday-karaoke-18/2025-06-17/
LOCATION:The Logon Cafe & Pub\, 3805 Calder Avenue\, Beaumont\, TX\, 77706\, United States
ATTACH;FMTTYPE=image/jpeg:https://logoncafe.net/wp-content/uploads/2018/10/339927740_756585839328526_6857413985854363341_n-e1681230563968.jpg
END:VEVENT
BEGIN:VEVENT
DTSTART;TZID=America/Chicago:20250618T200000
DTEND;TZID=America/Chicago:20250618T230000
DTSTAMP:20260420T135817
CREATED:20251030T155404Z
LAST-MODIFIED:20251030T155404Z
UID:10004466-1750276800-1750287600@logoncafe.net
SUMMARY:Open Mic Night
DESCRIPTION:Come one and all to transform our stage into your own personal music venue! Even if you just know someone that likes to play and sing\, get them to come out and buy em a beer! \nWe’ve been hosting Open Mic every Wednesday since 1999\, so come in and join in the tradition. \nSign up is at 7:30 | No Cover \n\n 
URL:https://logoncafe.net/event/open-mic-night-51/2025-06-18/
LOCATION:The Logon Cafe & Pub\, 3805 Calder Avenue\, Beaumont\, TX\, 77706\, United States
CATEGORIES:Open Mic Night
ATTACH;FMTTYPE=image/jpeg:https://logoncafe.net/wp-content/uploads/2022/11/313067660_604791594876249_2466134981987312388_n.jpg
END:VEVENT
BEGIN:VEVENT
DTSTART;TZID=America/Chicago:20250619T193000
DTEND;TZID=America/Chicago:20250619T233000
DTSTAMP:20260420T135817
CREATED:20250525T232136Z
LAST-MODIFIED:20250525T232136Z
UID:10010441-1750361400-1750375800@logoncafe.net
SUMMARY:Better Days
DESCRIPTION:Better Days \nJoin the lovely and talented Rainy Kimbrough and our favorite lefty Erik Ellington this Thursday at The Logon Cafe for a little acoustical musical mischief.  \n 
URL:https://logoncafe.net/event/better-days-38/
LOCATION:The Logon Cafe & Pub\, 3805 Calder Avenue\, Beaumont\, TX\, 77706\, United States
ATTACH;FMTTYPE=image/jpeg:https://logoncafe.net/wp-content/uploads/2024/08/454901951_1080202447335159_1420014487723676415_n.jpg
END:VEVENT
BEGIN:VEVENT
DTSTART;TZID=America/Chicago:20250620T200000
DTEND;TZID=America/Chicago:20250620T235900
DTSTAMP:20260420T135817
CREATED:20250525T231358Z
LAST-MODIFIED:20250525T231620Z
UID:10010439-1750449600-1750463940@logoncafe.net
SUMMARY:The Cover Ups
DESCRIPTION:The Cover Ups \nBeaumont’s newest Party Band!! Make sure you make it out this time! We’re bringing the best mix of dance\, pop\, and rock all night long! Don’t miss the party. \nThe Cover Ups is a Beaumont-based variety band offering live dance and rock music & acoustic dinner music for all events.  \nhttps://www.facebook.com/61575028350993/videos/1033675758689539
URL:https://logoncafe.net/event/the-cover-ups-3/
LOCATION:The Logon Cafe & Pub\, 3805 Calder Avenue\, Beaumont\, TX\, 77706\, United States
ATTACH;FMTTYPE=image/jpeg:https://logoncafe.net/wp-content/uploads/2025/04/488925741_122099488172834278_6945854082712742191_n.jpg
END:VEVENT
BEGIN:VEVENT
DTSTART;TZID=America/Chicago:20250621T110000
DTEND;TZID=America/Chicago:20250621T140000
DTSTAMP:20260420T135817
CREATED:20250721T164931Z
LAST-MODIFIED:20250721T164931Z
UID:10002501-1750503600-1750514400@logoncafe.net
SUMMARY:Saturday Brunch
DESCRIPTION:Every Saturday from 11am-2pm Do you want Big Booty Biscuit with sausage gravy\, Eggs Benedict\, French toast stuffed with an egg over easy\, Maybe the Crab Cake Florentine paired with a Mimosa or a Bloody Mary… it starts at 11 a.m. — come hungry!
URL:https://logoncafe.net/event/saturday-brunch-19/2025-06-21/
LOCATION:TX
ATTACH;FMTTYPE=image/jpeg:https://logoncafe.net/wp-content/uploads/2023/07/12o-e1688393443805.jpg
END:VEVENT
BEGIN:VEVENT
DTSTART;TZID=America/Chicago:20250621T200000
DTEND;TZID=America/Chicago:20250621T235900
DTSTAMP:20260420T135817
CREATED:20250609T175128Z
LAST-MODIFIED:20250609T175128Z
UID:10010451-1750536000-1750550340@logoncafe.net
SUMMARY:Ward & Steinman w/ Chuck Pierce
DESCRIPTION:Ward & Steinman\nIt’s gonna be a fun night! \nOn Saturday\, September 14th\, 8pm-11pm at the LogOn Cafe and Pub in Beaumont.  \nMichael Ward (vocals\, electric guitar\, acoustic guitar\, violin) and Paul Steinman (vocals\, acoustic guitar\, mandolin\, lap steel) with me supporting them on bass. Toto\, Jackson 5\, Allison Krause\, Beatles\, Steve Winwood\, Dave Brubeck\, Tedeschi Trucks Band\, Jeff Beck\, Steely Dan\, Led Zeppelin\, Jackson Browne\, Allman Brothers\, Stevie Wonder and everything in between. Strange guitar tunings. Occasional bass solos. Improvisational Extravaganzas. Interesting and eclectic music. \nWeekend + great classic rock + intimate venue = a fantastic night of music!Only $7 at the door.Come join us!
URL:https://logoncafe.net/event/ward-steinman-w-chuck-pierce-19/
LOCATION:TX
ATTACH;FMTTYPE=image/jpeg:https://logoncafe.net/wp-content/uploads/2018/12/298332218_10159795214158567_966229182406157931_n-e1659989347744.jpg
END:VEVENT
BEGIN:VEVENT
DTSTART;TZID=America/Chicago:20250622T110000
DTEND;TZID=America/Chicago:20250622T140000
DTSTAMP:20260420T135817
CREATED:20250602T190551Z
LAST-MODIFIED:20250602T190551Z
UID:10010450-1750590000-1750600800@logoncafe.net
SUMMARY:Sunday Brunch - Mimosas & Bloody Mary's
DESCRIPTION:Come out for our Sunday BrunchThings to due this weekend:1. Brunch at the Logoncafe2. Mimosas at the Logoncafe3. Spicy Bloody Mary’s at the Logoncafe4. More Mimosas at the Logoncafe5. Smile\, Laugh. tell jokes at the Logoncafe6. Have a fantastic Day thinking about that Brunch & Mimosas at the Logoncafe \nCome out and try our Brunch I know you will like it.#BloodyMary #Mimosas
URL:https://logoncafe.net/event/sunday-brunch-mimosas-bloody-marys-94/
LOCATION:The Logon Cafe & Pub\, 3805 Calder Avenue\, Beaumont\, TX\, 77706\, United States
ATTACH;FMTTYPE=image/jpeg:https://logoncafe.net/wp-content/uploads/2023/11/386725196_10162002585889644_857050443135652747_n.jpg
END:VEVENT
END:VCALENDAR