BEGIN:VCALENDAR
VERSION:2.0
PRODID:-//The Logon Cafe and Pub - ECPv6.15.20//NONSGML v1.0//EN
CALSCALE:GREGORIAN
METHOD:PUBLISH
X-WR-CALNAME:The Logon Cafe and Pub
X-ORIGINAL-URL:https://logoncafe.net
X-WR-CALDESC:Events for The Logon Cafe and Pub
REFRESH-INTERVAL;VALUE=DURATION:PT1H
X-Robots-Tag:noindex
X-PUBLISHED-TTL:PT1H
BEGIN:VTIMEZONE
TZID:America/Chicago
BEGIN:DAYLIGHT
TZOFFSETFROM:-0600
TZOFFSETTO:-0500
TZNAME:CDT
DTSTART:20240310T080000
END:DAYLIGHT
BEGIN:STANDARD
TZOFFSETFROM:-0500
TZOFFSETTO:-0600
TZNAME:CST
DTSTART:20241103T070000
END:STANDARD
BEGIN:DAYLIGHT
TZOFFSETFROM:-0600
TZOFFSETTO:-0500
TZNAME:CDT
DTSTART:20250309T080000
END:DAYLIGHT
BEGIN:STANDARD
TZOFFSETFROM:-0500
TZOFFSETTO:-0600
TZNAME:CST
DTSTART:20251102T070000
END:STANDARD
BEGIN:DAYLIGHT
TZOFFSETFROM:-0600
TZOFFSETTO:-0500
TZNAME:CDT
DTSTART:20260308T080000
END:DAYLIGHT
BEGIN:STANDARD
TZOFFSETFROM:-0500
TZOFFSETTO:-0600
TZNAME:CST
DTSTART:20261101T070000
END:STANDARD
END:VTIMEZONE
BEGIN:VEVENT
DTSTART;TZID=America/Chicago:20250623T180000
DTEND;TZID=America/Chicago:20250623T230000
DTSTAMP:20260420T194445
CREATED:20250630T144806Z
LAST-MODIFIED:20250630T144806Z
UID:10010487-1750701600-1750719600@logoncafe.net
SUMMARY:Monday night fun night
DESCRIPTION:Make Monday night great and meet up with friends at the friendliest place in town…  \nThe Logon Cafe. Chantell and the team will make sure you have a great time.
URL:https://logoncafe.net/event/monday-night-fun-night-17/
LOCATION:The Logon Cafe & Pub\, 3805 Calder Avenue\, Beaumont\, TX\, 77706\, United States
ATTACH;FMTTYPE=image/jpeg:https://logoncafe.net/wp-content/uploads/2024/04/439461404_1001199898568748_5740969875813432166_n.jpg
END:VEVENT
BEGIN:VEVENT
DTSTART;TZID=America/Chicago:20250624T200000
DTEND;TZID=America/Chicago:20250624T230000
DTSTAMP:20260420T194445
CREATED:20240411T141711Z
LAST-MODIFIED:20240411T141712Z
UID:10003131-1750795200-1750806000@logoncafe.net
SUMMARY:Taco Tuesday Karaoke!
DESCRIPTION:What goes better together than tacos and booze?!! Specials start at 6. Karaoke starts at 8!\n$2 Street Tacos\n$2 Ritas\n$2 Well Vodka \nSing your butts off.\nWatch your friends act like they can sing 😉\nNo cover wooooo.\nThis is an all ages event.
URL:https://logoncafe.net/event/taco-tuesday-karaoke-3/2025-06-24/
LOCATION:The Logon Cafe & Pub\, 3805 Calder Avenue\, Beaumont\, TX\, 77706\, United States
ATTACH;FMTTYPE=image/jpeg:https://logoncafe.net/wp-content/uploads/2018/10/339927740_756585839328526_6857413985854363341_n-e1681230563968.jpg
END:VEVENT
BEGIN:VEVENT
DTSTART;TZID=America/Chicago:20250625T200000
DTEND;TZID=America/Chicago:20250625T230000
DTSTAMP:20260420T194445
CREATED:20250303T233810Z
LAST-MODIFIED:20250303T233810Z
UID:10008223-1750881600-1750892400@logoncafe.net
SUMMARY:Open Mic Night
DESCRIPTION:Come one and all to transform our stage into your own personal music venue! Even if you just know someone that likes to play and sing\, get them to come out and buy em a beer! \nWe’ve been hosting Open Mic every Wednesday since 1999\, so come in and join in the tradition. \nSign up is at 7:30 | No Cover \n\n 
URL:https://logoncafe.net/event/open-mic-night-28/2025-06-25/
LOCATION:The Logon Cafe & Pub\, 3805 Calder Avenue\, Beaumont\, TX\, 77706\, United States
CATEGORIES:Open Mic Night
ATTACH;FMTTYPE=image/jpeg:https://logoncafe.net/wp-content/uploads/2022/11/313067660_604791594876249_2466134981987312388_n.jpg
END:VEVENT
BEGIN:VEVENT
DTSTART;TZID=America/Chicago:20250625T200000
DTEND;TZID=America/Chicago:20250625T230000
DTSTAMP:20260420T194445
CREATED:20251030T155404Z
LAST-MODIFIED:20251030T155404Z
UID:10011637-1750881600-1750892400@logoncafe.net
SUMMARY:Open Mic Night
DESCRIPTION:Come one and all to transform our stage into your own personal music venue! Even if you just know someone that likes to play and sing\, get them to come out and buy em a beer! \nWe’ve been hosting Open Mic every Wednesday since 1999\, so come in and join in the tradition. \nSign up is at 7:30 | No Cover \n\n 
URL:https://logoncafe.net/event/open-mic-night-51/2025-06-25/
LOCATION:The Logon Cafe & Pub\, 3805 Calder Avenue\, Beaumont\, TX\, 77706\, United States
CATEGORIES:Open Mic Night
ATTACH;FMTTYPE=image/jpeg:https://logoncafe.net/wp-content/uploads/2022/11/313067660_604791594876249_2466134981987312388_n.jpg
END:VEVENT
BEGIN:VEVENT
DTSTART;TZID=America/Chicago:20250626T200000
DTEND;TZID=America/Chicago:20250626T233000
DTSTAMP:20260420T194445
CREATED:20250602T190221Z
LAST-MODIFIED:20250602T190221Z
UID:10010447-1750968000-1750980600@logoncafe.net
SUMMARY:Daniel Waters Piano Man
DESCRIPTION:Daniel WatersThe super talented Daniel Waters! Finally – Beaumont gets an AMAZING piano player!!\n 
URL:https://logoncafe.net/event/daniel-waters-piano-man-66/
LOCATION:The Logon Cafe & Pub\, 3805 Calder Avenue\, Beaumont\, TX\, 77706\, United States
ATTACH;FMTTYPE=image/jpeg:https://logoncafe.net/wp-content/uploads/2023/11/399985253_886577293364343_3616136923819777789_n.jpg
END:VEVENT
BEGIN:VEVENT
DTSTART;TZID=America/Chicago:20250627T200000
DTEND;TZID=America/Chicago:20250627T235900
DTSTAMP:20260420T194445
CREATED:20250630T144020Z
LAST-MODIFIED:20250630T144020Z
UID:10010483-1751054400-1751068740@logoncafe.net
SUMMARY:Friday Karaoke Party
DESCRIPTION:Friday Karaoke Party
URL:https://logoncafe.net/event/friday-karaoke-party-22/
LOCATION:The Logon Cafe & Pub\, 3805 Calder Avenue\, Beaumont\, TX\, 77706\, United States
ATTACH;FMTTYPE=image/jpeg:https://logoncafe.net/wp-content/uploads/2024/01/Karaoke_636EA469-5056-A36A-0728289F163E6479_63747b36-5056-a36a-07b249284857f862.jpg
END:VEVENT
BEGIN:VEVENT
DTSTART;TZID=America/Chicago:20250628T110000
DTEND;TZID=America/Chicago:20250628T140000
DTSTAMP:20260420T194445
CREATED:20250627T231118Z
LAST-MODIFIED:20250627T231119Z
UID:10002200-1751108400-1751119200@logoncafe.net
SUMMARY:No Saturday Brunch This Weekend
DESCRIPTION:
URL:https://logoncafe.net/event/saturday-brunch-6-7/
LOCATION:TX
END:VEVENT
BEGIN:VEVENT
DTSTART;TZID=America/Chicago:20250628T110000
DTEND;TZID=America/Chicago:20250628T140000
DTSTAMP:20260420T194445
CREATED:20250721T164931Z
LAST-MODIFIED:20250721T164931Z
UID:10002502-1751108400-1751119200@logoncafe.net
SUMMARY:Saturday Brunch
DESCRIPTION:Every Saturday from 11am-2pm Do you want Big Booty Biscuit with sausage gravy\, Eggs Benedict\, French toast stuffed with an egg over easy\, Maybe the Crab Cake Florentine paired with a Mimosa or a Bloody Mary… it starts at 11 a.m. — come hungry!
URL:https://logoncafe.net/event/saturday-brunch-19/2025-06-28/
LOCATION:TX
ATTACH;FMTTYPE=image/jpeg:https://logoncafe.net/wp-content/uploads/2023/07/12o-e1688393443805.jpg
END:VEVENT
BEGIN:VEVENT
DTSTART;TZID=America/Chicago:20250628T200000
DTEND;TZID=America/Chicago:20250628T235900
DTSTAMP:20260420T194445
CREATED:20250525T231132Z
LAST-MODIFIED:20250531T214804Z
UID:10010438-1751140800-1751155140@logoncafe.net
SUMMARY:3CG
DESCRIPTION:3CG (Three Car Garage) is back and we’re ready to rock! We’ll be at the Logon Cafe Saturday\, June 10th. Drop in for some music\, dancing\, food\, coffee\, and a full bar! (they have a good selection of beer on tap). We’re looking forward to having a great time.
URL:https://logoncafe.net/event/3cg-5/
LOCATION:The Logon Cafe & Pub\, 3805 Calder Avenue\, Beaumont\, TX\, 77706\, United States
ATTACH;FMTTYPE=image/jpeg:https://logoncafe.net/wp-content/uploads/2023/05/346658322_925874222025288_7178417910253919926_n.jpg
END:VEVENT
END:VCALENDAR