BEGIN:VCALENDAR
VERSION:2.0
PRODID:-//The Logon Cafe and Pub - ECPv6.15.20//NONSGML v1.0//EN
CALSCALE:GREGORIAN
METHOD:PUBLISH
X-ORIGINAL-URL:https://logoncafe.net
X-WR-CALDESC:Events for The Logon Cafe and Pub
REFRESH-INTERVAL;VALUE=DURATION:PT1H
X-Robots-Tag:noindex
X-PUBLISHED-TTL:PT1H
BEGIN:VTIMEZONE
TZID:America/Chicago
BEGIN:DAYLIGHT
TZOFFSETFROM:-0600
TZOFFSETTO:-0500
TZNAME:CDT
DTSTART:20240310T080000
END:DAYLIGHT
BEGIN:STANDARD
TZOFFSETFROM:-0500
TZOFFSETTO:-0600
TZNAME:CST
DTSTART:20241103T070000
END:STANDARD
BEGIN:DAYLIGHT
TZOFFSETFROM:-0600
TZOFFSETTO:-0500
TZNAME:CDT
DTSTART:20250309T080000
END:DAYLIGHT
BEGIN:STANDARD
TZOFFSETFROM:-0500
TZOFFSETTO:-0600
TZNAME:CST
DTSTART:20251102T070000
END:STANDARD
BEGIN:DAYLIGHT
TZOFFSETFROM:-0600
TZOFFSETTO:-0500
TZNAME:CDT
DTSTART:20260308T080000
END:DAYLIGHT
BEGIN:STANDARD
TZOFFSETFROM:-0500
TZOFFSETTO:-0600
TZNAME:CST
DTSTART:20261101T070000
END:STANDARD
END:VTIMEZONE
BEGIN:VEVENT
DTSTART;TZID=America/Chicago:20250707T180000
DTEND;TZID=America/Chicago:20250707T190000
DTSTAMP:20260420T224526
CREATED:20181202T172057Z
LAST-MODIFIED:20240430T004354Z
UID:10002419-1751911200-1751914800@logoncafe.net
SUMMARY:SETX Local BeeKeepers Meeting
DESCRIPTION:Please join us @ The LogOn Cafe every 1st Monday of the month – we’re having the Setx Local Beekeepers meeting at 6pm. Beekeepers from all over the area gather to discuss everything you need to know about keeping bees. Come catch the buzz! This is a free event ♥
URL:https://logoncafe.net/event/setx-local-beekeepers-meeting/2025-07-07/
LOCATION:The Logon Cafe & Pub\, 3805 Calder Avenue\, Beaumont\, TX\, 77706\, United States
ATTACH;FMTTYPE=image/jpeg:https://logoncafe.net/wp-content/uploads/2018/12/setx-beekeepers-meeting-e1682469430874.jpg
END:VEVENT
BEGIN:VEVENT
DTSTART;TZID=America/Chicago:20250708T200000
DTEND;TZID=America/Chicago:20250708T230000
DTSTAMP:20260420T224526
CREATED:20250407T004038Z
LAST-MODIFIED:20250407T004038Z
UID:10009473-1752004800-1752015600@logoncafe.net
SUMMARY:Taco Tuesday Karaoke!
DESCRIPTION:What goes better together than tacos and booze?!! Specials start at 6. Karaoke starts at 8!$2 Street Tacos$2 Ritas$2 Well Vodka \nSing your butts off.Watch your friends act like they can sing 😉No cover wooooo.This is an all ages event.
URL:https://logoncafe.net/event/taco-tuesday-karaoke-18/2025-07-08/
LOCATION:The Logon Cafe & Pub\, 3805 Calder Avenue\, Beaumont\, TX\, 77706\, United States
ATTACH;FMTTYPE=image/jpeg:https://logoncafe.net/wp-content/uploads/2018/10/339927740_756585839328526_6857413985854363341_n-e1681230563968.jpg
END:VEVENT
BEGIN:VEVENT
DTSTART;TZID=America/Chicago:20250709T200000
DTEND;TZID=America/Chicago:20250709T230000
DTSTAMP:20260420T224526
CREATED:20251030T155404Z
LAST-MODIFIED:20251030T155404Z
UID:10011639-1752091200-1752102000@logoncafe.net
SUMMARY:Open Mic Night
DESCRIPTION:Come one and all to transform our stage into your own personal music venue! Even if you just know someone that likes to play and sing\, get them to come out and buy em a beer! \nWe’ve been hosting Open Mic every Wednesday since 1999\, so come in and join in the tradition. \nSign up is at 7:30 | No Cover \n\n 
URL:https://logoncafe.net/event/open-mic-night-51/2025-07-09/
LOCATION:The Logon Cafe & Pub\, 3805 Calder Avenue\, Beaumont\, TX\, 77706\, United States
CATEGORIES:Open Mic Night
ATTACH;FMTTYPE=image/jpeg:https://logoncafe.net/wp-content/uploads/2022/11/313067660_604791594876249_2466134981987312388_n.jpg
END:VEVENT
BEGIN:VEVENT
DTSTART;TZID=America/Chicago:20250710T200000
DTEND;TZID=America/Chicago:20250710T233000
DTSTAMP:20260420T224526
CREATED:20250630T144157Z
LAST-MODIFIED:20250702T223536Z
UID:10010485-1752177600-1752190200@logoncafe.net
SUMMARY:Stephen Perricone  With Daniel Waters Piano Man
DESCRIPTION:Daniel WatersThe super talented Daniel Waters! Finally – Beaumont gets an AMAZING piano player!! \nStephen Perricone  \nProfessional musician\, independent artist\, guitar teacher\, and producer based in Southeast Texas.
URL:https://logoncafe.net/event/stephen-perricone-with-daniel-waters-piano-man-6/
LOCATION:The Logon Cafe & Pub\, 3805 Calder Avenue\, Beaumont\, TX\, 77706\, United States
ATTACH;FMTTYPE=image/jpeg:https://logoncafe.net/wp-content/uploads/2023/11/399985253_886577293364343_3616136923819777789_n.jpg
END:VEVENT
BEGIN:VEVENT
DTSTART;TZID=America/Chicago:20250711T200000
DTEND;TZID=America/Chicago:20250711T235900
DTSTAMP:20260420T224526
CREATED:20250610T221112Z
LAST-MODIFIED:20250610T221113Z
UID:10010454-1752264000-1752278340@logoncafe.net
SUMMARY:Midnight Papers(HTX)/Rambli'n Boys/Maxifads
DESCRIPTION:Midnight Papers(HTX)/Rambli’n Boys/Maxifads  \nThe Midnight Papershttps://themidnightpapers.bandcamp.com/…\nThe Ramblin’ Boyshttps://www.facebook.com/theramblinboystx\nMaxiFadshttps://www.facebook.com/maxifads
URL:https://logoncafe.net/event/midnight-papershtx-ramblin-boys-maxifads/
LOCATION:The Logon Cafe & Pub\, 3805 Calder Avenue\, Beaumont\, TX\, 77706\, United States
ATTACH;FMTTYPE=image/jpeg:https://logoncafe.net/wp-content/uploads/2025/06/506354400_24189134264013175_6341384481092961659_n.jpg
END:VEVENT
BEGIN:VEVENT
DTSTART;TZID=America/Chicago:20250712T200000
DTEND;TZID=America/Chicago:20250712T235900
DTSTAMP:20260420T224526
CREATED:20250707T163947Z
LAST-MODIFIED:20250707T163947Z
UID:10010500-1752350400-1752364740@logoncafe.net
SUMMARY:Saturday Karaoke PARTY @ The Logoncafe & Pub
DESCRIPTION:Awww yeah…. KARAOKE ON A SATURDAY!!!!!Get here.Sing your butts off.Watch your friends act like they can sing 😉No cover wooooo.
URL:https://logoncafe.net/event/saturday-karaoke-party-the-logoncafe-pub-20/
LOCATION:The Logon Cafe & Pub\, 3805 Calder Avenue\, Beaumont\, TX\, 77706\, United States
ATTACH;FMTTYPE=image/jpeg:https://logoncafe.net/wp-content/uploads/2021/05/180478552_10158974899358567_2371589748890907789_n.jpg
END:VEVENT
BEGIN:VEVENT
DTSTART;TZID=America/Chicago:20250713T110000
DTEND;TZID=America/Chicago:20250713T140000
DTSTAMP:20260420T224526
CREATED:20250702T195802Z
LAST-MODIFIED:20250702T195802Z
UID:10010490-1752404400-1752415200@logoncafe.net
SUMMARY:When was the last time you enjoyed Brunch at the Logon?
DESCRIPTION:
URL:https://logoncafe.net/event/when-was-the-last-time-you-enjoyed-brunch-at-the-logon-5/
LOCATION:The Logon Cafe & Pub\, 3805 Calder Avenue\, Beaumont\, TX\, 77706\, United States
ATTACH;FMTTYPE=image/jpeg:https://logoncafe.net/wp-content/uploads/2025/03/481973051_10235800557417958_5317363677178842375_n.jpg
END:VEVENT
END:VCALENDAR