BEGIN:VCALENDAR
VERSION:2.0
PRODID:-//The Logon Cafe and Pub - ECPv6.15.20//NONSGML v1.0//EN
CALSCALE:GREGORIAN
METHOD:PUBLISH
X-WR-CALNAME:The Logon Cafe and Pub
X-ORIGINAL-URL:https://logoncafe.net
X-WR-CALDESC:Events for The Logon Cafe and Pub
REFRESH-INTERVAL;VALUE=DURATION:PT1H
X-Robots-Tag:noindex
X-PUBLISHED-TTL:PT1H
BEGIN:VTIMEZONE
TZID:America/Chicago
BEGIN:DAYLIGHT
TZOFFSETFROM:-0600
TZOFFSETTO:-0500
TZNAME:CDT
DTSTART:20250309T080000
END:DAYLIGHT
BEGIN:STANDARD
TZOFFSETFROM:-0500
TZOFFSETTO:-0600
TZNAME:CST
DTSTART:20251102T070000
END:STANDARD
BEGIN:DAYLIGHT
TZOFFSETFROM:-0600
TZOFFSETTO:-0500
TZNAME:CDT
DTSTART:20260308T080000
END:DAYLIGHT
BEGIN:STANDARD
TZOFFSETFROM:-0500
TZOFFSETTO:-0600
TZNAME:CST
DTSTART:20261101T070000
END:STANDARD
BEGIN:DAYLIGHT
TZOFFSETFROM:-0600
TZOFFSETTO:-0500
TZNAME:CDT
DTSTART:20270314T080000
END:DAYLIGHT
BEGIN:STANDARD
TZOFFSETFROM:-0500
TZOFFSETTO:-0600
TZNAME:CST
DTSTART:20271107T070000
END:STANDARD
END:VTIMEZONE
BEGIN:VEVENT
DTSTART;TZID=America/Chicago:20260504T180000
DTEND;TZID=America/Chicago:20260504T190000
DTSTAMP:20260422T021710
CREATED:20181202T172057Z
LAST-MODIFIED:20240430T004354Z
UID:10002429-1777917600-1777921200@logoncafe.net
SUMMARY:SETX Local BeeKeepers Meeting
DESCRIPTION:Please join us @ The LogOn Cafe every 1st Monday of the month – we’re having the Setx Local Beekeepers meeting at 6pm. Beekeepers from all over the area gather to discuss everything you need to know about keeping bees. Come catch the buzz! This is a free event ♥
URL:https://logoncafe.net/event/setx-local-beekeepers-meeting/2026-05-04/
LOCATION:The Logon Cafe & Pub\, 3805 Calder Avenue\, Beaumont\, TX\, 77706\, United States
ATTACH;FMTTYPE=image/jpeg:https://logoncafe.net/wp-content/uploads/2018/12/setx-beekeepers-meeting-e1682469430874.jpg
END:VEVENT
BEGIN:VEVENT
DTSTART;TZID=America/Chicago:20260505T200000
DTEND;TZID=America/Chicago:20260505T230000
DTSTAMP:20260422T021710
CREATED:20181030T231335Z
LAST-MODIFIED:20230411T163019Z
UID:10003437-1778011200-1778022000@logoncafe.net
SUMMARY:Taco Tuesday Karaoke!
DESCRIPTION:What goes better together than tacos and booze?!! Specials start at 6. Karaoke starts at 8!\n$2 Street Tacos\n$2 Ritas\n$2 Well Vodka \nSing your butts off.\nWatch your friends act like they can sing 😉\nNo cover wooooo.\nThis is an all ages event.
URL:https://logoncafe.net/event/taco-tuesday-karaoke/2026-05-05/
LOCATION:The Logon Cafe & Pub\, 3805 Calder Avenue\, Beaumont\, TX\, 77706\, United States
ATTACH;FMTTYPE=image/jpeg:https://logoncafe.net/wp-content/uploads/2018/10/339927740_756585839328526_6857413985854363341_n-e1681230563968.jpg
END:VEVENT
BEGIN:VEVENT
DTSTART;TZID=America/Chicago:20260506T200000
DTEND;TZID=America/Chicago:20260506T230000
DTSTAMP:20260422T021710
CREATED:20251030T155404Z
LAST-MODIFIED:20251030T155404Z
UID:10004512-1778097600-1778108400@logoncafe.net
SUMMARY:Open Mic Night
DESCRIPTION:Come one and all to transform our stage into your own personal music venue! Even if you just know someone that likes to play and sing\, get them to come out and buy em a beer! \nWe’ve been hosting Open Mic every Wednesday since 1999\, so come in and join in the tradition. \nSign up is at 7:30 | No Cover \n\n 
URL:https://logoncafe.net/event/open-mic-night-51/2026-05-06/
LOCATION:The Logon Cafe & Pub\, 3805 Calder Avenue\, Beaumont\, TX\, 77706\, United States
CATEGORIES:Open Mic Night
ATTACH;FMTTYPE=image/jpeg:https://logoncafe.net/wp-content/uploads/2022/11/313067660_604791594876249_2466134981987312388_n.jpg
END:VEVENT
BEGIN:VEVENT
DTSTART;TZID=America/Chicago:20260507T200000
DTEND;TZID=America/Chicago:20260507T233000
DTSTAMP:20260422T021710
CREATED:20260421T204648Z
LAST-MODIFIED:20260421T204648Z
UID:10012721-1778184000-1778196600@logoncafe.net
SUMMARY:Daniel Waters Piano Man
DESCRIPTION:Daniel WatersThe super talented Daniel Waters! Finally – Beaumont gets an AMAZING piano player!! \nStephen Perricone  \nProfessional musician\, independent artist\, guitar teacher\, and producer based in Southeast Texas.
URL:https://logoncafe.net/event/daniel-waters-piano-man-97/
LOCATION:The Logon Cafe & Pub\, 3805 Calder Avenue\, Beaumont\, TX\, 77706\, United States
ATTACH;FMTTYPE=image/jpeg:https://logoncafe.net/wp-content/uploads/2023/11/399985253_886577293364343_3616136923819777789_n.jpg
END:VEVENT
BEGIN:VEVENT
DTSTART;TZID=America/Chicago:20260508T200000
DTEND;TZID=America/Chicago:20260508T235900
DTSTAMP:20260422T021710
CREATED:20260420T215749Z
LAST-MODIFIED:20260420T215749Z
UID:10012717-1778270400-1778284740@logoncafe.net
SUMMARY:The B SIDES
DESCRIPTION:The B Sides return to where it all started! Your favorites from the 60s and 70s. Please join us for a night of food\, drinks and music!
URL:https://logoncafe.net/event/the-b-sides-2/
LOCATION:The Logon Cafe & Pub\, 3805 Calder Avenue\, Beaumont\, TX\, 77706\, United States
ATTACH;FMTTYPE=image/jpeg:https://logoncafe.net/wp-content/uploads/2022/03/278128673_10159604463933567_1721796034759284163_n.jpg
END:VEVENT
BEGIN:VEVENT
DTSTART;TZID=America/Chicago:20260510T100000
DTEND;TZID=America/Chicago:20260510T140000
DTSTAMP:20260422T021710
CREATED:20260421T204831Z
LAST-MODIFIED:20260421T204831Z
UID:10012723-1778407200-1778421600@logoncafe.net
SUMMARY:Bacon\, Sausage or Spam and Eggs
DESCRIPTION:
URL:https://logoncafe.net/event/bacon-sausage-or-spam-and-eggs-13/
LOCATION:The Logon Cafe & Pub\, 3805 Calder Avenue\, Beaumont\, TX\, 77706\, United States
ATTACH;FMTTYPE=image/jpeg:https://logoncafe.net/wp-content/uploads/2025/03/20250221_104958-scaled-e1742405051890.jpg
END:VEVENT
END:VCALENDAR