BEGIN:VCALENDAR
VERSION:2.0
PRODID:-//The Logon Cafe and Pub - ECPv6.15.20//NONSGML v1.0//EN
CALSCALE:GREGORIAN
METHOD:PUBLISH
X-ORIGINAL-URL:https://logoncafe.net
X-WR-CALDESC:Events for The Logon Cafe and Pub
REFRESH-INTERVAL;VALUE=DURATION:PT1H
X-Robots-Tag:noindex
X-PUBLISHED-TTL:PT1H
BEGIN:VTIMEZONE
TZID:America/Chicago
BEGIN:DAYLIGHT
TZOFFSETFROM:-0600
TZOFFSETTO:-0500
TZNAME:CDT
DTSTART:20250309T080000
END:DAYLIGHT
BEGIN:STANDARD
TZOFFSETFROM:-0500
TZOFFSETTO:-0600
TZNAME:CST
DTSTART:20251102T070000
END:STANDARD
BEGIN:DAYLIGHT
TZOFFSETFROM:-0600
TZOFFSETTO:-0500
TZNAME:CDT
DTSTART:20260308T080000
END:DAYLIGHT
BEGIN:STANDARD
TZOFFSETFROM:-0500
TZOFFSETTO:-0600
TZNAME:CST
DTSTART:20261101T070000
END:STANDARD
BEGIN:DAYLIGHT
TZOFFSETFROM:-0600
TZOFFSETTO:-0500
TZNAME:CDT
DTSTART:20270314T080000
END:DAYLIGHT
BEGIN:STANDARD
TZOFFSETFROM:-0500
TZOFFSETTO:-0600
TZNAME:CST
DTSTART:20271107T070000
END:STANDARD
END:VTIMEZONE
BEGIN:VEVENT
DTSTART;TZID=America/Chicago:20260511T200000
DTEND;TZID=America/Chicago:20260511T220000
DTSTAMP:20260422T035329
CREATED:20260420T214223Z
LAST-MODIFIED:20260420T214306Z
UID:10012709-1778529600-1778536800@logoncafe.net
SUMMARY:Night & Day Orchestra
DESCRIPTION:Have you ever been to Orchestra Night at The LogOn Cafe with The Night & Day Orchestra? We fit a 21-piece big band with horns\, drum and swanky singers. There’s NOTHING in Beaumont like it. This is something you must experience at least once. Tickets are $10 at the door or free with your Lamar ID.
URL:https://logoncafe.net/event/night-day-orchestra-19/2026-05-11/
LOCATION:TX
ATTACH;FMTTYPE=image/jpeg:https://logoncafe.net/wp-content/uploads/2018/10/Day-Night-Orchestra.jpg
END:VEVENT
BEGIN:VEVENT
DTSTART;TZID=America/Chicago:20260512T200000
DTEND;TZID=America/Chicago:20260512T230000
DTSTAMP:20260422T035329
CREATED:20181030T231335Z
LAST-MODIFIED:20230411T163019Z
UID:10003438-1778616000-1778626800@logoncafe.net
SUMMARY:Taco Tuesday Karaoke!
DESCRIPTION:What goes better together than tacos and booze?!! Specials start at 6. Karaoke starts at 8!\n$2 Street Tacos\n$2 Ritas\n$2 Well Vodka \nSing your butts off.\nWatch your friends act like they can sing 😉\nNo cover wooooo.\nThis is an all ages event.
URL:https://logoncafe.net/event/taco-tuesday-karaoke/2026-05-12/
LOCATION:The Logon Cafe & Pub\, 3805 Calder Avenue\, Beaumont\, TX\, 77706\, United States
ATTACH;FMTTYPE=image/jpeg:https://logoncafe.net/wp-content/uploads/2018/10/339927740_756585839328526_6857413985854363341_n-e1681230563968.jpg
END:VEVENT
BEGIN:VEVENT
DTSTART;TZID=America/Chicago:20260513T200000
DTEND;TZID=America/Chicago:20260513T230000
DTSTAMP:20260422T035329
CREATED:20251030T155404Z
LAST-MODIFIED:20251030T155404Z
UID:10004513-1778702400-1778713200@logoncafe.net
SUMMARY:Open Mic Night
DESCRIPTION:Come one and all to transform our stage into your own personal music venue! Even if you just know someone that likes to play and sing\, get them to come out and buy em a beer! \nWe’ve been hosting Open Mic every Wednesday since 1999\, so come in and join in the tradition. \nSign up is at 7:30 | No Cover \n\n 
URL:https://logoncafe.net/event/open-mic-night-51/2026-05-13/
LOCATION:The Logon Cafe & Pub\, 3805 Calder Avenue\, Beaumont\, TX\, 77706\, United States
CATEGORIES:Open Mic Night
ATTACH;FMTTYPE=image/jpeg:https://logoncafe.net/wp-content/uploads/2022/11/313067660_604791594876249_2466134981987312388_n.jpg
END:VEVENT
BEGIN:VEVENT
DTSTART;TZID=America/Chicago:20260514T193000
DTEND;TZID=America/Chicago:20260514T233000
DTSTAMP:20260422T035329
CREATED:20260420T215852Z
LAST-MODIFIED:20260420T215852Z
UID:10012718-1778787000-1778801400@logoncafe.net
SUMMARY:Better Days
DESCRIPTION:Better Days \nJoin the lovely and talented Rainy Kimbrough and our favorite lefty Erik Ellington this Thursday at The Logon Cafe for a little acoustical musical mischief.  \n 
URL:https://logoncafe.net/event/better-days-13/
LOCATION:The Logon Cafe & Pub\, 3805 Calder Avenue\, Beaumont\, TX\, 77706\, United States
ATTACH;FMTTYPE=image/jpeg:https://logoncafe.net/wp-content/uploads/2024/08/454901951_1080202447335159_1420014487723676415_n.jpg
END:VEVENT
BEGIN:VEVENT
DTSTART;TZID=America/Chicago:20260515T200000
DTEND;TZID=America/Chicago:20260515T235900
DTSTAMP:20260422T035329
CREATED:20260420T215934Z
LAST-MODIFIED:20260420T215934Z
UID:10012719-1778875200-1778889540@logoncafe.net
SUMMARY:The Cover Ups "Live"
DESCRIPTION:The Cover Ups \nBeaumont’s newest Party Band!! Make sure you make it out this time! We’re bringing the best mix of dance\, pop\, and rock all night long! Don’t miss the party. \nThe Cover Ups is a Beaumont-based variety band offering live dance and rock music & acoustic dinner music for all events.  \nhttps://www.facebook.com/61575028350993/videos/1033675758689539
URL:https://logoncafe.net/event/the-cover-ups-live-2/
LOCATION:The Logon Cafe & Pub\, 3805 Calder Avenue\, Beaumont\, TX\, 77706\, United States
ATTACH;FMTTYPE=image/jpeg:https://logoncafe.net/wp-content/uploads/2025/04/488925741_122099488172834278_6945854082712742191_n.jpg
END:VEVENT
BEGIN:VEVENT
DTSTART;TZID=America/Chicago:20260516T200000
DTEND;TZID=America/Chicago:20260516T235900
DTSTAMP:20260422T035329
CREATED:20260421T203819Z
LAST-MODIFIED:20260421T211438Z
UID:10012720-1778961600-1778975940@logoncafe.net
SUMMARY:Groove Is In The Heart 90s vs 2000s Dance Party
DESCRIPTION:Groove Is In The Heart 90s vs 2000s Dance Party \nWe’ll be playing all the hits. And some misses! All the one hit wonders from back in the day.\nWear your favorite 90s\, 2000s outfits. leyey
URL:https://logoncafe.net/event/groove-is-in-the-heart-90s-vs-2000s-dance-party/
LOCATION:The Logon Cafe & Pub\, 3805 Calder Avenue\, Beaumont\, TX\, 77706\, United States
ATTACH;FMTTYPE=image/jpeg:https://logoncafe.net/wp-content/uploads/2026/04/678231839_1608801017808630_8890661285291126799_n-e1776803775105.jpg
END:VEVENT
END:VCALENDAR